BEGIN:VCALENDAR
VERSION:2.0
PRODID:-//Seelsorgeeinheit Rottweil-Hausen-Neukirch - ECPv6.15.11//NONSGML v1.0//EN
CALSCALE:GREGORIAN
METHOD:PUBLISH
X-WR-CALNAME:Seelsorgeeinheit Rottweil-Hausen-Neukirch
X-ORIGINAL-URL:https://se-rottweil-hausen-neukirch.de
X-WR-CALDESC:Veranstaltungen für Seelsorgeeinheit Rottweil-Hausen-Neukirch
REFRESH-INTERVAL;VALUE=DURATION:PT1H
X-Robots-Tag:noindex
X-PUBLISHED-TTL:PT1H
BEGIN:VTIMEZONE
TZID:Europe/Berlin
BEGIN:DAYLIGHT
TZOFFSETFROM:+0100
TZOFFSETTO:+0200
TZNAME:CEST
DTSTART:20250330T010000
END:DAYLIGHT
BEGIN:STANDARD
TZOFFSETFROM:+0200
TZOFFSETTO:+0100
TZNAME:CET
DTSTART:20251026T010000
END:STANDARD
BEGIN:DAYLIGHT
TZOFFSETFROM:+0100
TZOFFSETTO:+0200
TZNAME:CEST
DTSTART:20260329T010000
END:DAYLIGHT
BEGIN:STANDARD
TZOFFSETFROM:+0200
TZOFFSETTO:+0100
TZNAME:CET
DTSTART:20261025T010000
END:STANDARD
BEGIN:DAYLIGHT
TZOFFSETFROM:+0100
TZOFFSETTO:+0200
TZNAME:CEST
DTSTART:20270328T010000
END:DAYLIGHT
BEGIN:STANDARD
TZOFFSETFROM:+0200
TZOFFSETTO:+0100
TZNAME:CET
DTSTART:20271031T010000
END:STANDARD
END:VTIMEZONE
BEGIN:VEVENT
DTSTART;TZID=Europe/Berlin:20260424T183000
DTEND;TZID=Europe/Berlin:20260424T193000
DTSTAMP:20260424T143423
CREATED:20260109T074857Z
LAST-MODIFIED:20260109T074857Z
UID:10009132-1777055400-1777059000@se-rottweil-hausen-neukirch.de
SUMMARY:Eucharistiefeier (AC)
DESCRIPTION:
URL:https://se-rottweil-hausen-neukirch.de/termin/eucharistiefeier-ac-35/2026-04-24/
LOCATION:Auferstehung Christi Kirche
CATEGORIES:Gottesdienst
END:VEVENT
BEGIN:VEVENT
DTSTART;TZID=Europe/Berlin:20260508T183000
DTEND;TZID=Europe/Berlin:20260508T193000
DTSTAMP:20260424T143423
CREATED:20260109T074857Z
LAST-MODIFIED:20260109T074857Z
UID:10009134-1778265000-1778268600@se-rottweil-hausen-neukirch.de
SUMMARY:Eucharistiefeier (AC)
DESCRIPTION:
URL:https://se-rottweil-hausen-neukirch.de/termin/eucharistiefeier-ac-35/2026-05-08/
LOCATION:Auferstehung Christi Kirche
CATEGORIES:Gottesdienst
END:VEVENT
BEGIN:VEVENT
DTSTART;TZID=Europe/Berlin:20260515T183000
DTEND;TZID=Europe/Berlin:20260515T193000
DTSTAMP:20260424T143423
CREATED:20260109T074857Z
LAST-MODIFIED:20260109T074857Z
UID:10009135-1778869800-1778873400@se-rottweil-hausen-neukirch.de
SUMMARY:Eucharistiefeier (AC)
DESCRIPTION:
URL:https://se-rottweil-hausen-neukirch.de/termin/eucharistiefeier-ac-35/2026-05-15/
LOCATION:Auferstehung Christi Kirche
CATEGORIES:Gottesdienst
END:VEVENT
BEGIN:VEVENT
DTSTART;TZID=Europe/Berlin:20260522T183000
DTEND;TZID=Europe/Berlin:20260522T193000
DTSTAMP:20260424T143423
CREATED:20260109T074857Z
LAST-MODIFIED:20260109T074857Z
UID:10009136-1779474600-1779478200@se-rottweil-hausen-neukirch.de
SUMMARY:Eucharistiefeier (AC)
DESCRIPTION:
URL:https://se-rottweil-hausen-neukirch.de/termin/eucharistiefeier-ac-35/2026-05-22/
LOCATION:Auferstehung Christi Kirche
CATEGORIES:Gottesdienst
END:VEVENT
BEGIN:VEVENT
DTSTART;TZID=Europe/Berlin:20260529T183000
DTEND;TZID=Europe/Berlin:20260529T193000
DTSTAMP:20260424T143423
CREATED:20260109T074857Z
LAST-MODIFIED:20260109T074857Z
UID:10009137-1780079400-1780083000@se-rottweil-hausen-neukirch.de
SUMMARY:Eucharistiefeier (AC)
DESCRIPTION:
URL:https://se-rottweil-hausen-neukirch.de/termin/eucharistiefeier-ac-35/2026-05-29/
LOCATION:Auferstehung Christi Kirche
CATEGORIES:Gottesdienst
END:VEVENT
BEGIN:VEVENT
DTSTART;TZID=Europe/Berlin:20260605T183000
DTEND;TZID=Europe/Berlin:20260605T193000
DTSTAMP:20260424T143423
CREATED:20260109T074857Z
LAST-MODIFIED:20260109T074857Z
UID:10009138-1780684200-1780687800@se-rottweil-hausen-neukirch.de
SUMMARY:Eucharistiefeier (AC)
DESCRIPTION:
URL:https://se-rottweil-hausen-neukirch.de/termin/eucharistiefeier-ac-35/2026-06-05/
LOCATION:Auferstehung Christi Kirche
CATEGORIES:Gottesdienst
END:VEVENT
BEGIN:VEVENT
DTSTART;TZID=Europe/Berlin:20260612T183000
DTEND;TZID=Europe/Berlin:20260612T193000
DTSTAMP:20260424T143423
CREATED:20260109T074857Z
LAST-MODIFIED:20260109T074857Z
UID:10009139-1781289000-1781292600@se-rottweil-hausen-neukirch.de
SUMMARY:Eucharistiefeier (AC)
DESCRIPTION:
URL:https://se-rottweil-hausen-neukirch.de/termin/eucharistiefeier-ac-35/2026-06-12/
LOCATION:Auferstehung Christi Kirche
CATEGORIES:Gottesdienst
END:VEVENT
BEGIN:VEVENT
DTSTART;TZID=Europe/Berlin:20260619T183000
DTEND;TZID=Europe/Berlin:20260619T193000
DTSTAMP:20260424T143423
CREATED:20260109T074857Z
LAST-MODIFIED:20260109T074857Z
UID:10009140-1781893800-1781897400@se-rottweil-hausen-neukirch.de
SUMMARY:Eucharistiefeier (AC)
DESCRIPTION:
URL:https://se-rottweil-hausen-neukirch.de/termin/eucharistiefeier-ac-35/2026-06-19/
LOCATION:Auferstehung Christi Kirche
CATEGORIES:Gottesdienst
END:VEVENT
BEGIN:VEVENT
DTSTART;TZID=Europe/Berlin:20260626T183000
DTEND;TZID=Europe/Berlin:20260626T193000
DTSTAMP:20260424T143423
CREATED:20260109T074857Z
LAST-MODIFIED:20260109T074857Z
UID:10009141-1782498600-1782502200@se-rottweil-hausen-neukirch.de
SUMMARY:Eucharistiefeier (AC)
DESCRIPTION:
URL:https://se-rottweil-hausen-neukirch.de/termin/eucharistiefeier-ac-35/2026-06-26/
LOCATION:Auferstehung Christi Kirche
CATEGORIES:Gottesdienst
END:VEVENT
BEGIN:VEVENT
DTSTART;TZID=Europe/Berlin:20260703T183000
DTEND;TZID=Europe/Berlin:20260703T193000
DTSTAMP:20260424T143423
CREATED:20260109T074857Z
LAST-MODIFIED:20260109T074857Z
UID:10009142-1783103400-1783107000@se-rottweil-hausen-neukirch.de
SUMMARY:Eucharistiefeier (AC)
DESCRIPTION:
URL:https://se-rottweil-hausen-neukirch.de/termin/eucharistiefeier-ac-35/2026-07-03/
LOCATION:Auferstehung Christi Kirche
CATEGORIES:Gottesdienst
END:VEVENT
BEGIN:VEVENT
DTSTART;TZID=Europe/Berlin:20260710T183000
DTEND;TZID=Europe/Berlin:20260710T193000
DTSTAMP:20260424T143423
CREATED:20260109T074857Z
LAST-MODIFIED:20260109T074857Z
UID:10009143-1783708200-1783711800@se-rottweil-hausen-neukirch.de
SUMMARY:Eucharistiefeier (AC)
DESCRIPTION:
URL:https://se-rottweil-hausen-neukirch.de/termin/eucharistiefeier-ac-35/2026-07-10/
LOCATION:Auferstehung Christi Kirche
CATEGORIES:Gottesdienst
END:VEVENT
BEGIN:VEVENT
DTSTART;TZID=Europe/Berlin:20260717T183000
DTEND;TZID=Europe/Berlin:20260717T193000
DTSTAMP:20260424T143423
CREATED:20260109T074857Z
LAST-MODIFIED:20260109T074857Z
UID:10009144-1784313000-1784316600@se-rottweil-hausen-neukirch.de
SUMMARY:Eucharistiefeier (AC)
DESCRIPTION:
URL:https://se-rottweil-hausen-neukirch.de/termin/eucharistiefeier-ac-35/2026-07-17/
LOCATION:Auferstehung Christi Kirche
CATEGORIES:Gottesdienst
END:VEVENT
BEGIN:VEVENT
DTSTART;TZID=Europe/Berlin:20260724T183000
DTEND;TZID=Europe/Berlin:20260724T193000
DTSTAMP:20260424T143423
CREATED:20260109T074857Z
LAST-MODIFIED:20260109T074857Z
UID:10009145-1784917800-1784921400@se-rottweil-hausen-neukirch.de
SUMMARY:Eucharistiefeier (AC)
DESCRIPTION:
URL:https://se-rottweil-hausen-neukirch.de/termin/eucharistiefeier-ac-35/2026-07-24/
LOCATION:Auferstehung Christi Kirche
CATEGORIES:Gottesdienst
END:VEVENT
BEGIN:VEVENT
DTSTART;TZID=Europe/Berlin:20260731T183000
DTEND;TZID=Europe/Berlin:20260731T193000
DTSTAMP:20260424T143423
CREATED:20260109T074857Z
LAST-MODIFIED:20260109T074857Z
UID:10009146-1785522600-1785526200@se-rottweil-hausen-neukirch.de
SUMMARY:Eucharistiefeier (AC)
DESCRIPTION:
URL:https://se-rottweil-hausen-neukirch.de/termin/eucharistiefeier-ac-35/2026-07-31/
LOCATION:Auferstehung Christi Kirche
CATEGORIES:Gottesdienst
END:VEVENT
BEGIN:VEVENT
DTSTART;TZID=Europe/Berlin:20260807T183000
DTEND;TZID=Europe/Berlin:20260807T193000
DTSTAMP:20260424T143423
CREATED:20260109T074857Z
LAST-MODIFIED:20260109T074857Z
UID:10009147-1786127400-1786131000@se-rottweil-hausen-neukirch.de
SUMMARY:Eucharistiefeier (AC)
DESCRIPTION:
URL:https://se-rottweil-hausen-neukirch.de/termin/eucharistiefeier-ac-35/2026-08-07/
LOCATION:Auferstehung Christi Kirche
CATEGORIES:Gottesdienst
END:VEVENT
BEGIN:VEVENT
DTSTART;TZID=Europe/Berlin:20260814T183000
DTEND;TZID=Europe/Berlin:20260814T193000
DTSTAMP:20260424T143423
CREATED:20260109T074857Z
LAST-MODIFIED:20260109T074857Z
UID:10009148-1786732200-1786735800@se-rottweil-hausen-neukirch.de
SUMMARY:Eucharistiefeier (AC)
DESCRIPTION:
URL:https://se-rottweil-hausen-neukirch.de/termin/eucharistiefeier-ac-35/2026-08-14/
LOCATION:Auferstehung Christi Kirche
CATEGORIES:Gottesdienst
END:VEVENT
BEGIN:VEVENT
DTSTART;TZID=Europe/Berlin:20260821T183000
DTEND;TZID=Europe/Berlin:20260821T193000
DTSTAMP:20260424T143423
CREATED:20260109T074857Z
LAST-MODIFIED:20260109T074857Z
UID:10009149-1787337000-1787340600@se-rottweil-hausen-neukirch.de
SUMMARY:Eucharistiefeier (AC)
DESCRIPTION:
URL:https://se-rottweil-hausen-neukirch.de/termin/eucharistiefeier-ac-35/2026-08-21/
LOCATION:Auferstehung Christi Kirche
CATEGORIES:Gottesdienst
END:VEVENT
BEGIN:VEVENT
DTSTART;TZID=Europe/Berlin:20260828T183000
DTEND;TZID=Europe/Berlin:20260828T193000
DTSTAMP:20260424T143423
CREATED:20260109T074857Z
LAST-MODIFIED:20260109T074857Z
UID:10009150-1787941800-1787945400@se-rottweil-hausen-neukirch.de
SUMMARY:Eucharistiefeier (AC)
DESCRIPTION:
URL:https://se-rottweil-hausen-neukirch.de/termin/eucharistiefeier-ac-35/2026-08-28/
LOCATION:Auferstehung Christi Kirche
CATEGORIES:Gottesdienst
END:VEVENT
BEGIN:VEVENT
DTSTART;TZID=Europe/Berlin:20260904T183000
DTEND;TZID=Europe/Berlin:20260904T193000
DTSTAMP:20260424T143423
CREATED:20260109T074857Z
LAST-MODIFIED:20260109T074857Z
UID:10009151-1788546600-1788550200@se-rottweil-hausen-neukirch.de
SUMMARY:Eucharistiefeier (AC)
DESCRIPTION:
URL:https://se-rottweil-hausen-neukirch.de/termin/eucharistiefeier-ac-35/2026-09-04/
LOCATION:Auferstehung Christi Kirche
CATEGORIES:Gottesdienst
END:VEVENT
BEGIN:VEVENT
DTSTART;TZID=Europe/Berlin:20260911T183000
DTEND;TZID=Europe/Berlin:20260911T193000
DTSTAMP:20260424T143423
CREATED:20260109T074857Z
LAST-MODIFIED:20260109T074857Z
UID:10009152-1789151400-1789155000@se-rottweil-hausen-neukirch.de
SUMMARY:Eucharistiefeier (AC)
DESCRIPTION:
URL:https://se-rottweil-hausen-neukirch.de/termin/eucharistiefeier-ac-35/2026-09-11/
LOCATION:Auferstehung Christi Kirche
CATEGORIES:Gottesdienst
END:VEVENT
BEGIN:VEVENT
DTSTART;TZID=Europe/Berlin:20260918T183000
DTEND;TZID=Europe/Berlin:20260918T193000
DTSTAMP:20260424T143423
CREATED:20260109T074857Z
LAST-MODIFIED:20260109T074857Z
UID:10009153-1789756200-1789759800@se-rottweil-hausen-neukirch.de
SUMMARY:Eucharistiefeier (AC)
DESCRIPTION:
URL:https://se-rottweil-hausen-neukirch.de/termin/eucharistiefeier-ac-35/2026-09-18/
LOCATION:Auferstehung Christi Kirche
CATEGORIES:Gottesdienst
END:VEVENT
BEGIN:VEVENT
DTSTART;TZID=Europe/Berlin:20260925T183000
DTEND;TZID=Europe/Berlin:20260925T193000
DTSTAMP:20260424T143423
CREATED:20260109T074857Z
LAST-MODIFIED:20260109T074857Z
UID:10009154-1790361000-1790364600@se-rottweil-hausen-neukirch.de
SUMMARY:Eucharistiefeier (AC)
DESCRIPTION:
URL:https://se-rottweil-hausen-neukirch.de/termin/eucharistiefeier-ac-35/2026-09-25/
LOCATION:Auferstehung Christi Kirche
CATEGORIES:Gottesdienst
END:VEVENT
BEGIN:VEVENT
DTSTART;TZID=Europe/Berlin:20261002T183000
DTEND;TZID=Europe/Berlin:20261002T193000
DTSTAMP:20260424T143423
CREATED:20260109T074857Z
LAST-MODIFIED:20260109T074857Z
UID:10009155-1790965800-1790969400@se-rottweil-hausen-neukirch.de
SUMMARY:Eucharistiefeier (AC)
DESCRIPTION:
URL:https://se-rottweil-hausen-neukirch.de/termin/eucharistiefeier-ac-35/2026-10-02/
LOCATION:Auferstehung Christi Kirche
CATEGORIES:Gottesdienst
END:VEVENT
BEGIN:VEVENT
DTSTART;TZID=Europe/Berlin:20261009T183000
DTEND;TZID=Europe/Berlin:20261009T193000
DTSTAMP:20260424T143423
CREATED:20260109T074857Z
LAST-MODIFIED:20260109T074857Z
UID:10009156-1791570600-1791574200@se-rottweil-hausen-neukirch.de
SUMMARY:Eucharistiefeier (AC)
DESCRIPTION:
URL:https://se-rottweil-hausen-neukirch.de/termin/eucharistiefeier-ac-35/2026-10-09/
LOCATION:Auferstehung Christi Kirche
CATEGORIES:Gottesdienst
END:VEVENT
BEGIN:VEVENT
DTSTART;TZID=Europe/Berlin:20261016T183000
DTEND;TZID=Europe/Berlin:20261016T193000
DTSTAMP:20260424T143423
CREATED:20260109T074857Z
LAST-MODIFIED:20260109T074857Z
UID:10009157-1792175400-1792179000@se-rottweil-hausen-neukirch.de
SUMMARY:Eucharistiefeier (AC)
DESCRIPTION:
URL:https://se-rottweil-hausen-neukirch.de/termin/eucharistiefeier-ac-35/2026-10-16/
LOCATION:Auferstehung Christi Kirche
CATEGORIES:Gottesdienst
END:VEVENT
BEGIN:VEVENT
DTSTART;TZID=Europe/Berlin:20261023T183000
DTEND;TZID=Europe/Berlin:20261023T193000
DTSTAMP:20260424T143423
CREATED:20260109T074857Z
LAST-MODIFIED:20260109T074857Z
UID:10009158-1792780200-1792783800@se-rottweil-hausen-neukirch.de
SUMMARY:Eucharistiefeier (AC)
DESCRIPTION:
URL:https://se-rottweil-hausen-neukirch.de/termin/eucharistiefeier-ac-35/2026-10-23/
LOCATION:Auferstehung Christi Kirche
CATEGORIES:Gottesdienst
END:VEVENT
BEGIN:VEVENT
DTSTART;TZID=Europe/Berlin:20261030T183000
DTEND;TZID=Europe/Berlin:20261030T193000
DTSTAMP:20260424T143423
CREATED:20260109T074857Z
LAST-MODIFIED:20260109T074857Z
UID:10009159-1793385000-1793388600@se-rottweil-hausen-neukirch.de
SUMMARY:Eucharistiefeier (AC)
DESCRIPTION:
URL:https://se-rottweil-hausen-neukirch.de/termin/eucharistiefeier-ac-35/2026-10-30/
LOCATION:Auferstehung Christi Kirche
CATEGORIES:Gottesdienst
END:VEVENT
BEGIN:VEVENT
DTSTART;TZID=Europe/Berlin:20261106T183000
DTEND;TZID=Europe/Berlin:20261106T193000
DTSTAMP:20260424T143423
CREATED:20260109T074857Z
LAST-MODIFIED:20260109T074857Z
UID:10009160-1793989800-1793993400@se-rottweil-hausen-neukirch.de
SUMMARY:Eucharistiefeier (AC)
DESCRIPTION:
URL:https://se-rottweil-hausen-neukirch.de/termin/eucharistiefeier-ac-35/2026-11-06/
LOCATION:Auferstehung Christi Kirche
CATEGORIES:Gottesdienst
END:VEVENT
BEGIN:VEVENT
DTSTART;TZID=Europe/Berlin:20261113T183000
DTEND;TZID=Europe/Berlin:20261113T193000
DTSTAMP:20260424T143423
CREATED:20260109T074857Z
LAST-MODIFIED:20260109T074857Z
UID:10009161-1794594600-1794598200@se-rottweil-hausen-neukirch.de
SUMMARY:Eucharistiefeier (AC)
DESCRIPTION:
URL:https://se-rottweil-hausen-neukirch.de/termin/eucharistiefeier-ac-35/2026-11-13/
LOCATION:Auferstehung Christi Kirche
CATEGORIES:Gottesdienst
END:VEVENT
BEGIN:VEVENT
DTSTART;TZID=Europe/Berlin:20261120T183000
DTEND;TZID=Europe/Berlin:20261120T193000
DTSTAMP:20260424T143423
CREATED:20260109T074857Z
LAST-MODIFIED:20260109T074857Z
UID:10009162-1795199400-1795203000@se-rottweil-hausen-neukirch.de
SUMMARY:Eucharistiefeier (AC)
DESCRIPTION:
URL:https://se-rottweil-hausen-neukirch.de/termin/eucharistiefeier-ac-35/2026-11-20/
LOCATION:Auferstehung Christi Kirche
CATEGORIES:Gottesdienst
END:VEVENT
END:VCALENDAR