BEGIN:VCALENDAR
VERSION:2.0
PRODID:-//Seelsorgeeinheit Rottweil-Hausen-Neukirch - ECPv6.15.11//NONSGML v1.0//EN
CALSCALE:GREGORIAN
METHOD:PUBLISH
X-ORIGINAL-URL:https://se-rottweil-hausen-neukirch.de
X-WR-CALDESC:Veranstaltungen für Seelsorgeeinheit Rottweil-Hausen-Neukirch
REFRESH-INTERVAL;VALUE=DURATION:PT1H
X-Robots-Tag:noindex
X-PUBLISHED-TTL:PT1H
BEGIN:VTIMEZONE
TZID:Europe/Berlin
BEGIN:DAYLIGHT
TZOFFSETFROM:+0100
TZOFFSETTO:+0200
TZNAME:CEST
DTSTART:20250330T010000
END:DAYLIGHT
BEGIN:STANDARD
TZOFFSETFROM:+0200
TZOFFSETTO:+0100
TZNAME:CET
DTSTART:20251026T010000
END:STANDARD
BEGIN:DAYLIGHT
TZOFFSETFROM:+0100
TZOFFSETTO:+0200
TZNAME:CEST
DTSTART:20260329T010000
END:DAYLIGHT
BEGIN:STANDARD
TZOFFSETFROM:+0200
TZOFFSETTO:+0100
TZNAME:CET
DTSTART:20261025T010000
END:STANDARD
BEGIN:DAYLIGHT
TZOFFSETFROM:+0100
TZOFFSETTO:+0200
TZNAME:CEST
DTSTART:20270328T010000
END:DAYLIGHT
BEGIN:STANDARD
TZOFFSETFROM:+0200
TZOFFSETTO:+0100
TZNAME:CET
DTSTART:20271031T010000
END:STANDARD
END:VTIMEZONE
BEGIN:VEVENT
DTSTART;VALUE=DATE:20260402
DTEND;VALUE=DATE:20260404
DTSTAMP:20260425T204713
CREATED:20251116T133325Z
LAST-MODIFIED:20251116T133325Z
UID:10008458-1775088000-1775260799@se-rottweil-hausen-neukirch.de
SUMMARY:Minis AC: Pray 'n' Play
DESCRIPTION:Treffpunkt: GZ/AC
URL:https://se-rottweil-hausen-neukirch.de/termin/minis-ac-pray-n-play/
LOCATION:Gemeindezentrum Auferstehung Christi\, Krummer Weg 41\, 78628 Rottweil
CATEGORIES:Jugendliche,Kinder,Minis AC
ATTACH;FMTTYPE=image/png:https://se-rottweil-hausen-neukirch.de/wp-content/uploads/2023/03/logo.png
END:VEVENT
BEGIN:VEVENT
DTSTART;TZID=Europe/Berlin:20260402T170000
DTEND;TZID=Europe/Berlin:20260402T180000
DTSTAMP:20260425T204713
CREATED:20260303T135038Z
LAST-MODIFIED:20260303T135038Z
UID:10009473-1775149200-1775152800@se-rottweil-hausen-neukirch.de
SUMMARY:Feier des letzten Abendmahles der polnischen Gemeinde (AC)
DESCRIPTION:
URL:https://se-rottweil-hausen-neukirch.de/termin/feier-des-letzten-abendmahles-der-polnischen-gemeinde-ac-2/
LOCATION:Auferstehung Christi Kirche
CATEGORIES:Gottesdienst
END:VEVENT
BEGIN:VEVENT
DTSTART;TZID=Europe/Berlin:20260402T180000
DTEND;TZID=Europe/Berlin:20260402T190000
DTSTAMP:20260425T204713
CREATED:20260209T101859Z
LAST-MODIFIED:20260209T101859Z
UID:10009445-1775152800-1775156400@se-rottweil-hausen-neukirch.de
SUMMARY:Feier des letzten Abendmahls (St. Maria)
DESCRIPTION:
URL:https://se-rottweil-hausen-neukirch.de/termin/feier-des-letzten-abendmahls-st-maria-2/
LOCATION:St. Maria Hausen
CATEGORIES:Gottesdienst
END:VEVENT
BEGIN:VEVENT
DTSTART;TZID=Europe/Berlin:20260402T190000
DTEND;TZID=Europe/Berlin:20260402T200000
DTSTAMP:20260425T204713
CREATED:20251006T075122Z
LAST-MODIFIED:20251006T075122Z
UID:10007954-1775156400-1775160000@se-rottweil-hausen-neukirch.de
SUMMARY:Eucharistiefeier der kroatischen Gemeinde (RC)
DESCRIPTION:
URL:https://se-rottweil-hausen-neukirch.de/termin/eucharistiefeier-der-kroatischen-gemeinde-rc-18/2026-04-02/
LOCATION:Ruhe Christi Kirche
CATEGORIES:Gottesdienst
END:VEVENT
BEGIN:VEVENT
DTSTART;TZID=Europe/Berlin:20260402T190000
DTEND;TZID=Europe/Berlin:20260402T200000
DTSTAMP:20260425T204713
CREATED:20260128T100921Z
LAST-MODIFIED:20260402T123202Z
UID:10009427-1775156400-1775160000@se-rottweil-hausen-neukirch.de
SUMMARY:Feier des letzten Abendmahles (AC)
DESCRIPTION:
URL:https://se-rottweil-hausen-neukirch.de/termin/feier-des-letzten-abendmahles-ac-2/
LOCATION:Auferstehung Christi Kirche
CATEGORIES:Gottesdienst,GottesdienstLiturgDienste
END:VEVENT
BEGIN:VEVENT
DTSTART;TZID=Europe/Berlin:20260402T210000
DTEND;TZID=Europe/Berlin:20260402T230000
DTSTAMP:20260425T204713
CREATED:20260128T101037Z
LAST-MODIFIED:20260128T101122Z
UID:10009428-1775163600-1775170800@se-rottweil-hausen-neukirch.de
SUMMARY:Pray´n ´Play mit anschließender Gebetsnacht (AC)
DESCRIPTION:
URL:https://se-rottweil-hausen-neukirch.de/termin/prayn-play-mit-anschliessender-gebetsnacht-ac/
LOCATION:Auferstehung Christi Kirche
CATEGORIES:Gottesdienst,Jugendliche
END:VEVENT
END:VCALENDAR