BEGIN:VCALENDAR
VERSION:2.0
PRODID:-//Seelsorgeeinheit Rottweil-Hausen-Neukirch - ECPv6.15.11//NONSGML v1.0//EN
CALSCALE:GREGORIAN
METHOD:PUBLISH
X-WR-CALNAME:Seelsorgeeinheit Rottweil-Hausen-Neukirch
X-ORIGINAL-URL:https://se-rottweil-hausen-neukirch.de
X-WR-CALDESC:Veranstaltungen für Seelsorgeeinheit Rottweil-Hausen-Neukirch
REFRESH-INTERVAL;VALUE=DURATION:PT1H
X-Robots-Tag:noindex
X-PUBLISHED-TTL:PT1H
BEGIN:VTIMEZONE
TZID:Europe/Berlin
BEGIN:DAYLIGHT
TZOFFSETFROM:+0100
TZOFFSETTO:+0200
TZNAME:CEST
DTSTART:20250330T010000
END:DAYLIGHT
BEGIN:STANDARD
TZOFFSETFROM:+0200
TZOFFSETTO:+0100
TZNAME:CET
DTSTART:20251026T010000
END:STANDARD
BEGIN:DAYLIGHT
TZOFFSETFROM:+0100
TZOFFSETTO:+0200
TZNAME:CEST
DTSTART:20260329T010000
END:DAYLIGHT
BEGIN:STANDARD
TZOFFSETFROM:+0200
TZOFFSETTO:+0100
TZNAME:CET
DTSTART:20261025T010000
END:STANDARD
BEGIN:DAYLIGHT
TZOFFSETFROM:+0100
TZOFFSETTO:+0200
TZNAME:CEST
DTSTART:20270328T010000
END:DAYLIGHT
BEGIN:STANDARD
TZOFFSETFROM:+0200
TZOFFSETTO:+0100
TZNAME:CET
DTSTART:20271031T010000
END:STANDARD
END:VTIMEZONE
BEGIN:VEVENT
DTSTART;VALUE=DATE:20260419
DTEND;VALUE=DATE:20260420
DTSTAMP:20260426T011737
CREATED:20251116T133417Z
LAST-MODIFIED:20251116T133417Z
UID:10008459-1776556800-1776643199@se-rottweil-hausen-neukirch.de
SUMMARY:Minis AC: Mini Golf
DESCRIPTION:Treffpunkt: GZ/AC
URL:https://se-rottweil-hausen-neukirch.de/termin/minis-ac-mini-golf/
LOCATION:Gemeindezentrum Auferstehung Christi\, Krummer Weg 41\, 78628 Rottweil
CATEGORIES:Jugendliche,Kinder,Minis AC
ATTACH;FMTTYPE=image/png:https://se-rottweil-hausen-neukirch.de/wp-content/uploads/2023/03/logo.png
END:VEVENT
BEGIN:VEVENT
DTSTART;TZID=Europe/Berlin:20260419T090000
DTEND;TZID=Europe/Berlin:20260419T100000
DTSTAMP:20260426T011737
CREATED:20251006T075524Z
LAST-MODIFIED:20260414T082814Z
UID:10008094-1776589200-1776592800@se-rottweil-hausen-neukirch.de
SUMMARY:Eucharistiefeier (NK)
DESCRIPTION:
URL:https://se-rottweil-hausen-neukirch.de/termin/eucharistiefeier-nk-69-2/2026-04-19/
LOCATION:St. Peter und Paul\, Im Winkel 5\, Rottweil\, 78628
CATEGORIES:Gottesdienst,GottesdienstLiturgDienste
END:VEVENT
BEGIN:VEVENT
DTSTART;TZID=Europe/Berlin:20260419T090000
DTEND;TZID=Europe/Berlin:20260419T100000
DTSTAMP:20260426T011737
CREATED:20260310T091032Z
LAST-MODIFIED:20260310T091229Z
UID:10009501-1776589200-1776592800@se-rottweil-hausen-neukirch.de
SUMMARY:Eucharistiefeier der polnischen Gemeinde (AC)
DESCRIPTION:
URL:https://se-rottweil-hausen-neukirch.de/termin/eucharistiefeier-der-polnischen-gemeinde-ac-8-5-2-2/2026-04-19/
LOCATION:Auferstehung Christi Kirche
CATEGORIES:Gottesdienst
END:VEVENT
BEGIN:VEVENT
DTSTART;TZID=Europe/Berlin:20260419T093000
DTEND;TZID=Europe/Berlin:20260419T103000
DTSTAMP:20260426T011737
CREATED:20260303T144252Z
LAST-MODIFIED:20260414T082950Z
UID:10009479-1776591000-1776594600@se-rottweil-hausen-neukirch.de
SUMMARY:Eucharistiefeier zum 50-jährigen Priesterjubiläum von Pfarrer Martin Stöffelmaier (HK)
DESCRIPTION:
URL:https://se-rottweil-hausen-neukirch.de/termin/eucharistiefeier-nk-92/
LOCATION:Heilig Kreuz Münster\, Münsterplatz\, Rottweil\, 78628
CATEGORIES:Gottesdienst,GottesdienstLiturgDienste
END:VEVENT
BEGIN:VEVENT
DTSTART;TZID=Europe/Berlin:20260419T103000
DTEND;TZID=Europe/Berlin:20260419T113000
DTSTAMP:20260426T011737
CREATED:20260302T091911Z
LAST-MODIFIED:20260302T091911Z
UID:10009457-1776594600-1776598200@se-rottweil-hausen-neukirch.de
SUMMARY:Eucharistiefeier/Zwweitkommunion (St. Maria)
DESCRIPTION:
URL:https://se-rottweil-hausen-neukirch.de/termin/eucharistiefeier-zwweitkommunion-st-maria/
LOCATION:St. Maria Hausen
CATEGORIES:Gottesdienst
END:VEVENT
BEGIN:VEVENT
DTSTART;TZID=Europe/Berlin:20260419T110000
DTEND;TZID=Europe/Berlin:20260419T120000
DTSTAMP:20260426T011737
CREATED:20251006T075706Z
LAST-MODIFIED:20251006T075706Z
UID:10008116-1776596400-1776600000@se-rottweil-hausen-neukirch.de
SUMMARY:Eucharistiefeier der kroatischen Gemeinde (RC)
DESCRIPTION:
URL:https://se-rottweil-hausen-neukirch.de/termin/eucharistiefeier-der-kroatischen-gemeinde-rc-19/2026-04-19/
LOCATION:Ruhe Christi Kirche
CATEGORIES:Gottesdienst
END:VEVENT
BEGIN:VEVENT
DTSTART;TZID=Europe/Berlin:20260419T110000
DTEND;TZID=Europe/Berlin:20260419T120000
DTSTAMP:20260426T011737
CREATED:20260122T074203Z
LAST-MODIFIED:20260122T074203Z
UID:10009368-1776596400-1776600000@se-rottweil-hausen-neukirch.de
SUMMARY:Eucharistiefeier der italienischen Gemeinde (KK)
DESCRIPTION:
URL:https://se-rottweil-hausen-neukirch.de/termin/eucharistiefeier-der-italienischen-gemeinde-kk-20/2026-04-19/
LOCATION:Kapellenkirche\, Kapellenhof 1\, Rottweil\, 78628
CATEGORIES:Gottesdienst
END:VEVENT
BEGIN:VEVENT
DTSTART;TZID=Europe/Berlin:20260419T110000
DTEND;TZID=Europe/Berlin:20260419T120000
DTSTAMP:20260426T011737
CREATED:20260401T083748Z
LAST-MODIFIED:20260401T084124Z
UID:10009290-1776596400-1776600000@se-rottweil-hausen-neukirch.de
SUMMARY:Erstkommunion (AC)
DESCRIPTION:
URL:https://se-rottweil-hausen-neukirch.de/termin/eucharistiefeier-ac-36-4/
LOCATION:Auferstehung Christi Kirche
CATEGORIES:Erstkommunion,Gottesdienst
END:VEVENT
BEGIN:VEVENT
DTSTART;TZID=Europe/Berlin:20260419T170000
DTEND;TZID=Europe/Berlin:20260419T190000
DTSTAMP:20260426T011737
CREATED:20260113T123747Z
LAST-MODIFIED:20260113T123747Z
UID:10009352-1776618000-1776625200@se-rottweil-hausen-neukirch.de
SUMMARY:Konzert der Rottweiler Münstersängerknaben (HK)
DESCRIPTION:
URL:https://se-rottweil-hausen-neukirch.de/termin/konzert-der-rottweiler-muenstersaengerknaben-hk/
LOCATION:Heilig Kreuz Münster\, Münsterplatz\, Rottweil\, 78628
CATEGORIES:Begegnung,Kirchenmusik,Veranstaltung
END:VEVENT
BEGIN:VEVENT
DTSTART;TZID=Europe/Berlin:20260419T190000
DTEND;TZID=Europe/Berlin:20260419T200000
DTSTAMP:20260426T011737
CREATED:20260303T144611Z
LAST-MODIFIED:20260414T083028Z
UID:10008202-1776625200-1776628800@se-rottweil-hausen-neukirch.de
SUMMARY:Eucharistiefeier (KK)
DESCRIPTION:
URL:https://se-rottweil-hausen-neukirch.de/termin/eucharistiefeier-hk-87-3/
LOCATION:Heilig Kreuz Münster\, Münsterplatz\, Rottweil\, 78628
CATEGORIES:Gottesdienst,GottesdienstLiturgDienste
END:VEVENT
END:VCALENDAR