BEGIN:VCALENDAR
VERSION:2.0
PRODID:-//Seelsorgeeinheit Rottweil-Hausen-Neukirch - ECPv6.15.11//NONSGML v1.0//EN
CALSCALE:GREGORIAN
METHOD:PUBLISH
X-WR-CALNAME:Seelsorgeeinheit Rottweil-Hausen-Neukirch
X-ORIGINAL-URL:https://se-rottweil-hausen-neukirch.de
X-WR-CALDESC:Veranstaltungen für Seelsorgeeinheit Rottweil-Hausen-Neukirch
REFRESH-INTERVAL;VALUE=DURATION:PT1H
X-Robots-Tag:noindex
X-PUBLISHED-TTL:PT1H
BEGIN:VTIMEZONE
TZID:Europe/Berlin
BEGIN:DAYLIGHT
TZOFFSETFROM:+0100
TZOFFSETTO:+0200
TZNAME:CEST
DTSTART:20250330T010000
END:DAYLIGHT
BEGIN:STANDARD
TZOFFSETFROM:+0200
TZOFFSETTO:+0100
TZNAME:CET
DTSTART:20251026T010000
END:STANDARD
BEGIN:DAYLIGHT
TZOFFSETFROM:+0100
TZOFFSETTO:+0200
TZNAME:CEST
DTSTART:20260329T010000
END:DAYLIGHT
BEGIN:STANDARD
TZOFFSETFROM:+0200
TZOFFSETTO:+0100
TZNAME:CET
DTSTART:20261025T010000
END:STANDARD
BEGIN:DAYLIGHT
TZOFFSETFROM:+0100
TZOFFSETTO:+0200
TZNAME:CEST
DTSTART:20270328T010000
END:DAYLIGHT
BEGIN:STANDARD
TZOFFSETFROM:+0200
TZOFFSETTO:+0100
TZNAME:CET
DTSTART:20271031T010000
END:STANDARD
END:VTIMEZONE
BEGIN:VEVENT
DTSTART;TZID=Europe/Berlin:20260503T090000
DTEND;TZID=Europe/Berlin:20260503T100000
DTSTAMP:20260425T215553
CREATED:20251006T075524Z
LAST-MODIFIED:20260414T082814Z
UID:10008095-1777798800-1777802400@se-rottweil-hausen-neukirch.de
SUMMARY:Eucharistiefeier (NK)
DESCRIPTION:
URL:https://se-rottweil-hausen-neukirch.de/termin/eucharistiefeier-nk-69-2/2026-05-03/
LOCATION:St. Peter und Paul\, Im Winkel 5\, Rottweil\, 78628
CATEGORIES:Gottesdienst,GottesdienstLiturgDienste
END:VEVENT
BEGIN:VEVENT
DTSTART;TZID=Europe/Berlin:20260503T090000
DTEND;TZID=Europe/Berlin:20260503T100000
DTSTAMP:20260425T215553
CREATED:20260310T091032Z
LAST-MODIFIED:20260310T091229Z
UID:10009503-1777798800-1777802400@se-rottweil-hausen-neukirch.de
SUMMARY:Eucharistiefeier der polnischen Gemeinde (AC)
DESCRIPTION:
URL:https://se-rottweil-hausen-neukirch.de/termin/eucharistiefeier-der-polnischen-gemeinde-ac-8-5-2-2/2026-05-03/
LOCATION:Auferstehung Christi Kirche
CATEGORIES:Gottesdienst
END:VEVENT
BEGIN:VEVENT
DTSTART;TZID=Europe/Berlin:20260503T093000
DTEND;TZID=Europe/Berlin:20260503T103000
DTSTAMP:20260425T215553
CREATED:20251006T082021Z
LAST-MODIFIED:20251006T082021Z
UID:10008382-1777800600-1777804200@se-rottweil-hausen-neukirch.de
SUMMARY:Eucharistiefeier (HK)
DESCRIPTION:
URL:https://se-rottweil-hausen-neukirch.de/termin/eucharistiefeier-hk-91/2026-05-03/
LOCATION:Heilig Kreuz Münster\, Münsterplatz\, Rottweil\, 78628
CATEGORIES:Gottesdienst
END:VEVENT
BEGIN:VEVENT
DTSTART;TZID=Europe/Berlin:20260503T103000
DTEND;TZID=Europe/Berlin:20260503T113000
DTSTAMP:20260425T215553
CREATED:20260316T093944Z
LAST-MODIFIED:20260316T093944Z
UID:10009703-1777804200-1777807800@se-rottweil-hausen-neukirch.de
SUMMARY:Eucharistiefeier St. Maria)
DESCRIPTION:
URL:https://se-rottweil-hausen-neukirch.de/termin/eucharistiefeier-st-maria/
LOCATION:St. Maria Hausen
CATEGORIES:Gottesdienst
END:VEVENT
BEGIN:VEVENT
DTSTART;TZID=Europe/Berlin:20260503T110000
DTEND;TZID=Europe/Berlin:20260503T120000
DTSTAMP:20260425T215553
CREATED:20251006T075706Z
LAST-MODIFIED:20251006T075706Z
UID:10008118-1777806000-1777809600@se-rottweil-hausen-neukirch.de
SUMMARY:Eucharistiefeier der kroatischen Gemeinde (RC)
DESCRIPTION:
URL:https://se-rottweil-hausen-neukirch.de/termin/eucharistiefeier-der-kroatischen-gemeinde-rc-19/2026-05-03/
LOCATION:Ruhe Christi Kirche
CATEGORIES:Gottesdienst
END:VEVENT
BEGIN:VEVENT
DTSTART;TZID=Europe/Berlin:20260503T110000
DTEND;TZID=Europe/Berlin:20260503T120000
DTSTAMP:20260425T215553
CREATED:20260109T075254Z
LAST-MODIFIED:20260109T075734Z
UID:10009292-1777806000-1777809600@se-rottweil-hausen-neukirch.de
SUMMARY:Eucharistiefeier (AC)
DESCRIPTION:
URL:https://se-rottweil-hausen-neukirch.de/termin/eucharistiefeier-ac-36/2026-05-03/
LOCATION:Auferstehung Christi Kirche
CATEGORIES:Gottesdienst
END:VEVENT
BEGIN:VEVENT
DTSTART;TZID=Europe/Berlin:20260503T110000
DTEND;TZID=Europe/Berlin:20260503T120000
DTSTAMP:20260425T215553
CREATED:20260122T074203Z
LAST-MODIFIED:20260122T074203Z
UID:10009370-1777806000-1777809600@se-rottweil-hausen-neukirch.de
SUMMARY:Eucharistiefeier der italienischen Gemeinde (KK)
DESCRIPTION:
URL:https://se-rottweil-hausen-neukirch.de/termin/eucharistiefeier-der-italienischen-gemeinde-kk-20/2026-05-03/
LOCATION:Kapellenkirche\, Kapellenhof 1\, Rottweil\, 78628
CATEGORIES:Gottesdienst
END:VEVENT
BEGIN:VEVENT
DTSTART;TZID=Europe/Berlin:20260503T190000
DTEND;TZID=Europe/Berlin:20260503T200000
DTSTAMP:20260425T215553
CREATED:20251006T075807Z
LAST-MODIFIED:20260414T083125Z
UID:10008204-1777834800-1777838400@se-rottweil-hausen-neukirch.de
SUMMARY:Eucharistiefeier (HK)
DESCRIPTION:
URL:https://se-rottweil-hausen-neukirch.de/termin/eucharistiefeier-hk-87/2026-05-03/
LOCATION:Heilig Kreuz Münster\, Münsterplatz\, Rottweil\, 78628
CATEGORIES:Gottesdienst,GottesdienstLiturgDienste
END:VEVENT
END:VCALENDAR