BEGIN:VCALENDAR
VERSION:2.0
PRODID:-//Seelsorgeeinheit Rottweil-Hausen-Neukirch - ECPv6.15.11//NONSGML v1.0//EN
CALSCALE:GREGORIAN
METHOD:PUBLISH
X-ORIGINAL-URL:https://se-rottweil-hausen-neukirch.de
X-WR-CALDESC:Veranstaltungen für Seelsorgeeinheit Rottweil-Hausen-Neukirch
REFRESH-INTERVAL;VALUE=DURATION:PT1H
X-Robots-Tag:noindex
X-PUBLISHED-TTL:PT1H
BEGIN:VTIMEZONE
TZID:Europe/Berlin
BEGIN:DAYLIGHT
TZOFFSETFROM:+0100
TZOFFSETTO:+0200
TZNAME:CEST
DTSTART:20250330T010000
END:DAYLIGHT
BEGIN:STANDARD
TZOFFSETFROM:+0200
TZOFFSETTO:+0100
TZNAME:CET
DTSTART:20251026T010000
END:STANDARD
BEGIN:DAYLIGHT
TZOFFSETFROM:+0100
TZOFFSETTO:+0200
TZNAME:CEST
DTSTART:20260329T010000
END:DAYLIGHT
BEGIN:STANDARD
TZOFFSETFROM:+0200
TZOFFSETTO:+0100
TZNAME:CET
DTSTART:20261025T010000
END:STANDARD
BEGIN:DAYLIGHT
TZOFFSETFROM:+0100
TZOFFSETTO:+0200
TZNAME:CEST
DTSTART:20270328T010000
END:DAYLIGHT
BEGIN:STANDARD
TZOFFSETFROM:+0200
TZOFFSETTO:+0100
TZNAME:CET
DTSTART:20271031T010000
END:STANDARD
END:VTIMEZONE
BEGIN:VEVENT
DTSTART;TZID=Europe/Berlin:20260506T090000
DTEND;TZID=Europe/Berlin:20260506T100000
DTSTAMP:20260426T000923
CREATED:20251006T075931Z
LAST-MODIFIED:20251006T075931Z
UID:10008257-1778058000-1778061600@se-rottweil-hausen-neukirch.de
SUMMARY:Eucharistiefeier (HK)
DESCRIPTION:
URL:https://se-rottweil-hausen-neukirch.de/termin/eucharistiefeier-hk-88/2026-05-06/
LOCATION:Heilig Kreuz Münster\, Münsterplatz\, Rottweil\, 78628
CATEGORIES:Gottesdienst
END:VEVENT
BEGIN:VEVENT
DTSTART;TZID=Europe/Berlin:20260506T174500
DTEND;TZID=Europe/Berlin:20260506T180000
DTSTAMP:20260426T000923
CREATED:20251216T095323Z
LAST-MODIFIED:20251216T095323Z
UID:10008798-1778089500-1778090400@se-rottweil-hausen-neukirch.de
SUMMARY:Rosenkranz (RC)
DESCRIPTION:
URL:https://se-rottweil-hausen-neukirch.de/termin/rosenkranz-rc-5/2026-05-06/
LOCATION:Ruhe Christi Kirche
CATEGORIES:Gottesdienst
END:VEVENT
BEGIN:VEVENT
DTSTART;TZID=Europe/Berlin:20260506T183000
DTEND;TZID=Europe/Berlin:20260506T193000
DTSTAMP:20260426T000923
CREATED:20250225T112321Z
LAST-MODIFIED:20260310T091724Z
UID:10009546-1778092200-1778095800@se-rottweil-hausen-neukirch.de
SUMMARY:Eucharistiefeier der polnischen Gemeinde (AC)
DESCRIPTION:
URL:https://se-rottweil-hausen-neukirch.de/termin/eucharistiefeier-der-polnischen-gemeinde-ac-16/2026-05-06/
LOCATION:Auferstehung Christi Kirche
CATEGORIES:Gottesdienst
END:VEVENT
END:VCALENDAR