BEGIN:VCALENDAR
VERSION:2.0
PRODID:-//Seelsorgeeinheit Rottweil-Hausen-Neukirch - ECPv6.15.11//NONSGML v1.0//EN
CALSCALE:GREGORIAN
METHOD:PUBLISH
X-WR-CALNAME:Seelsorgeeinheit Rottweil-Hausen-Neukirch
X-ORIGINAL-URL:https://se-rottweil-hausen-neukirch.de
X-WR-CALDESC:Veranstaltungen für Seelsorgeeinheit Rottweil-Hausen-Neukirch
REFRESH-INTERVAL;VALUE=DURATION:PT1H
X-Robots-Tag:noindex
X-PUBLISHED-TTL:PT1H
BEGIN:VTIMEZONE
TZID:Europe/Berlin
BEGIN:DAYLIGHT
TZOFFSETFROM:+0100
TZOFFSETTO:+0200
TZNAME:CEST
DTSTART:20250330T010000
END:DAYLIGHT
BEGIN:STANDARD
TZOFFSETFROM:+0200
TZOFFSETTO:+0100
TZNAME:CET
DTSTART:20251026T010000
END:STANDARD
BEGIN:DAYLIGHT
TZOFFSETFROM:+0100
TZOFFSETTO:+0200
TZNAME:CEST
DTSTART:20260329T010000
END:DAYLIGHT
BEGIN:STANDARD
TZOFFSETFROM:+0200
TZOFFSETTO:+0100
TZNAME:CET
DTSTART:20261025T010000
END:STANDARD
BEGIN:DAYLIGHT
TZOFFSETFROM:+0100
TZOFFSETTO:+0200
TZNAME:CEST
DTSTART:20270328T010000
END:DAYLIGHT
BEGIN:STANDARD
TZOFFSETFROM:+0200
TZOFFSETTO:+0100
TZNAME:CET
DTSTART:20271031T010000
END:STANDARD
END:VTIMEZONE
BEGIN:VEVENT
DTSTART;TZID=Europe/Berlin:20260513T090000
DTEND;TZID=Europe/Berlin:20260513T100000
DTSTAMP:20260426T000903
CREATED:20251006T075931Z
LAST-MODIFIED:20251006T075931Z
UID:10008258-1778662800-1778666400@se-rottweil-hausen-neukirch.de
SUMMARY:Eucharistiefeier (HK)
DESCRIPTION:
URL:https://se-rottweil-hausen-neukirch.de/termin/eucharistiefeier-hk-88/2026-05-13/
LOCATION:Heilig Kreuz Münster\, Münsterplatz\, Rottweil\, 78628
CATEGORIES:Gottesdienst
END:VEVENT
BEGIN:VEVENT
DTSTART;TZID=Europe/Berlin:20260513T143000
DTEND;TZID=Europe/Berlin:20260513T163000
DTSTAMP:20260426T000903
CREATED:20260110T191958Z
LAST-MODIFIED:20260110T191958Z
UID:10009338-1778682600-1778689800@se-rottweil-hausen-neukirch.de
SUMMARY:Seniorenkreis: Komm\, lieber Mai ...
DESCRIPTION:
URL:https://se-rottweil-hausen-neukirch.de/termin/seniorenkreis-komm-lieber-mai/
LOCATION:Gemeindezentrum Auferstehung Christi\, Krummer Weg 41\, 78628 Rottweil
CATEGORIES:Ökumene,Senioren
ATTACH;FMTTYPE=image/png:https://se-rottweil-hausen-neukirch.de/wp-content/uploads/2022/05/Beitragsbild-Logo-Seniorenkreis.png
END:VEVENT
BEGIN:VEVENT
DTSTART;TZID=Europe/Berlin:20260513T174500
DTEND;TZID=Europe/Berlin:20260513T180000
DTSTAMP:20260426T000903
CREATED:20251216T095323Z
LAST-MODIFIED:20251216T095323Z
UID:10008799-1778694300-1778695200@se-rottweil-hausen-neukirch.de
SUMMARY:Rosenkranz (RC)
DESCRIPTION:
URL:https://se-rottweil-hausen-neukirch.de/termin/rosenkranz-rc-5/2026-05-13/
LOCATION:Ruhe Christi Kirche
CATEGORIES:Gottesdienst
END:VEVENT
BEGIN:VEVENT
DTSTART;TZID=Europe/Berlin:20260513T183000
DTEND;TZID=Europe/Berlin:20260513T193000
DTSTAMP:20260426T000903
CREATED:20250225T112321Z
LAST-MODIFIED:20260310T091724Z
UID:10009547-1778697000-1778700600@se-rottweil-hausen-neukirch.de
SUMMARY:Eucharistiefeier der polnischen Gemeinde (AC)
DESCRIPTION:
URL:https://se-rottweil-hausen-neukirch.de/termin/eucharistiefeier-der-polnischen-gemeinde-ac-16/2026-05-13/
LOCATION:Auferstehung Christi Kirche
CATEGORIES:Gottesdienst
END:VEVENT
BEGIN:VEVENT
DTSTART;TZID=Europe/Berlin:20260513T190000
DTEND;TZID=Europe/Berlin:20260513T200000
DTSTAMP:20260426T000903
CREATED:20260316T085150Z
LAST-MODIFIED:20260316T085150Z
UID:10009695-1778698800-1778702400@se-rottweil-hausen-neukirch.de
SUMMARY:Eucharistiefeier zu Christi Himmelfahrt mit Prozession (Vaihingerhofkapelle)
DESCRIPTION:
URL:https://se-rottweil-hausen-neukirch.de/termin/eucharistiefeier-zu-christi-himmelfahrt-mit-prozession-vaihingerhofkapelle/
LOCATION:Vaihingerhof Kapelle\, Vaihingerhof\, Rottweil-Neukirch\, 78628
CATEGORIES:Gottesdienst
END:VEVENT
END:VCALENDAR