BEGIN:VCALENDAR
VERSION:2.0
PRODID:-//Seelsorgeeinheit Rottweil-Hausen-Neukirch - ECPv6.15.11//NONSGML v1.0//EN
CALSCALE:GREGORIAN
METHOD:PUBLISH
X-ORIGINAL-URL:https://se-rottweil-hausen-neukirch.de
X-WR-CALDESC:Veranstaltungen für Seelsorgeeinheit Rottweil-Hausen-Neukirch
REFRESH-INTERVAL;VALUE=DURATION:PT1H
X-Robots-Tag:noindex
X-PUBLISHED-TTL:PT1H
BEGIN:VTIMEZONE
TZID:Europe/Berlin
BEGIN:DAYLIGHT
TZOFFSETFROM:+0100
TZOFFSETTO:+0200
TZNAME:CEST
DTSTART:20250330T010000
END:DAYLIGHT
BEGIN:STANDARD
TZOFFSETFROM:+0200
TZOFFSETTO:+0100
TZNAME:CET
DTSTART:20251026T010000
END:STANDARD
BEGIN:DAYLIGHT
TZOFFSETFROM:+0100
TZOFFSETTO:+0200
TZNAME:CEST
DTSTART:20260329T010000
END:DAYLIGHT
BEGIN:STANDARD
TZOFFSETFROM:+0200
TZOFFSETTO:+0100
TZNAME:CET
DTSTART:20261025T010000
END:STANDARD
BEGIN:DAYLIGHT
TZOFFSETFROM:+0100
TZOFFSETTO:+0200
TZNAME:CEST
DTSTART:20270328T010000
END:DAYLIGHT
BEGIN:STANDARD
TZOFFSETFROM:+0200
TZOFFSETTO:+0100
TZNAME:CET
DTSTART:20271031T010000
END:STANDARD
END:VTIMEZONE
BEGIN:VEVENT
DTSTART;TZID=Europe/Berlin:20260514T090000
DTEND;TZID=Europe/Berlin:20260514T100000
DTSTAMP:20260426T000646
CREATED:20260316T085324Z
LAST-MODIFIED:20260316T085554Z
UID:10009696-1778749200-1778752800@se-rottweil-hausen-neukirch.de
SUMMARY:Eucharistiefeier zu Christi Himmelfahrt mit dem Münsterchor und Prozession (HK)
DESCRIPTION:
URL:https://se-rottweil-hausen-neukirch.de/termin/eucharistiefeier-zu-christi-himmelfahrt-mit-prozession-hk/
LOCATION:Heilig Kreuz Münster\, Münsterplatz\, Rottweil\, 78628
CATEGORIES:Gottesdienst
END:VEVENT
BEGIN:VEVENT
DTSTART;TZID=Europe/Berlin:20260514T090000
DTEND;TZID=Europe/Berlin:20260514T110000
DTSTAMP:20260426T000646
CREATED:20260413T092132Z
LAST-MODIFIED:20260413T092132Z
UID:10009981-1778749200-1778756400@se-rottweil-hausen-neukirch.de
SUMMARY:Christi Himmelfahrt (St. Maria)
DESCRIPTION:9.00 Uhr Prozession\, anschl. Eucharistiefeier an der Halle. Die Prozession beginnt an der Halle. \nBei schlechtem Wetter findet die Eucharistiefeier um 10.00 Uhr in der Kirche statt.
URL:https://se-rottweil-hausen-neukirch.de/termin/christi-himmelfahrt-st-maria/
LOCATION:St. Maria Hausen
CATEGORIES:Gottesdienst
END:VEVENT
BEGIN:VEVENT
DTSTART;TZID=Europe/Berlin:20260514T174500
DTEND;TZID=Europe/Berlin:20260514T180000
DTSTAMP:20260426T000646
CREATED:20251216T095452Z
LAST-MODIFIED:20251216T095452Z
UID:10008853-1778780700-1778781600@se-rottweil-hausen-neukirch.de
SUMMARY:Rosenkranz (RC)
DESCRIPTION:
URL:https://se-rottweil-hausen-neukirch.de/termin/rosenkranz-rc-6/2026-05-14/
LOCATION:Ruhe Christi Kirche
CATEGORIES:Gottesdienst
END:VEVENT
BEGIN:VEVENT
DTSTART;TZID=Europe/Berlin:20260514T190000
DTEND;TZID=Europe/Berlin:20260514T200000
DTSTAMP:20260426T000646
CREATED:20251006T075122Z
LAST-MODIFIED:20251006T075122Z
UID:10007966-1778785200-1778788800@se-rottweil-hausen-neukirch.de
SUMMARY:Eucharistiefeier der kroatischen Gemeinde (RC)
DESCRIPTION:
URL:https://se-rottweil-hausen-neukirch.de/termin/eucharistiefeier-der-kroatischen-gemeinde-rc-18/2026-05-14/
LOCATION:Ruhe Christi Kirche
CATEGORIES:Gottesdienst
END:VEVENT
END:VCALENDAR