BEGIN:VCALENDAR
VERSION:2.0
PRODID:-//Seelsorgeeinheit Rottweil-Hausen-Neukirch - ECPv6.15.11//NONSGML v1.0//EN
CALSCALE:GREGORIAN
METHOD:PUBLISH
X-ORIGINAL-URL:https://se-rottweil-hausen-neukirch.de
X-WR-CALDESC:Veranstaltungen für Seelsorgeeinheit Rottweil-Hausen-Neukirch
REFRESH-INTERVAL;VALUE=DURATION:PT1H
X-Robots-Tag:noindex
X-PUBLISHED-TTL:PT1H
BEGIN:VTIMEZONE
TZID:Europe/Berlin
BEGIN:DAYLIGHT
TZOFFSETFROM:+0100
TZOFFSETTO:+0200
TZNAME:CEST
DTSTART:20250330T010000
END:DAYLIGHT
BEGIN:STANDARD
TZOFFSETFROM:+0200
TZOFFSETTO:+0100
TZNAME:CET
DTSTART:20251026T010000
END:STANDARD
BEGIN:DAYLIGHT
TZOFFSETFROM:+0100
TZOFFSETTO:+0200
TZNAME:CEST
DTSTART:20260329T010000
END:DAYLIGHT
BEGIN:STANDARD
TZOFFSETFROM:+0200
TZOFFSETTO:+0100
TZNAME:CET
DTSTART:20261025T010000
END:STANDARD
BEGIN:DAYLIGHT
TZOFFSETFROM:+0100
TZOFFSETTO:+0200
TZNAME:CEST
DTSTART:20270328T010000
END:DAYLIGHT
BEGIN:STANDARD
TZOFFSETFROM:+0200
TZOFFSETTO:+0100
TZNAME:CET
DTSTART:20271031T010000
END:STANDARD
END:VTIMEZONE
BEGIN:VEVENT
DTSTART;TZID=Europe/Berlin:20260531T090000
DTEND;TZID=Europe/Berlin:20260531T100000
DTSTAMP:20260426T000929
CREATED:20260310T091032Z
LAST-MODIFIED:20260310T091229Z
UID:10009507-1780218000-1780221600@se-rottweil-hausen-neukirch.de
SUMMARY:Eucharistiefeier der polnischen Gemeinde (AC)
DESCRIPTION:
URL:https://se-rottweil-hausen-neukirch.de/termin/eucharistiefeier-der-polnischen-gemeinde-ac-8-5-2-2/2026-05-31/
LOCATION:Auferstehung Christi Kirche
CATEGORIES:Gottesdienst
END:VEVENT
BEGIN:VEVENT
DTSTART;TZID=Europe/Berlin:20260531T090000
DTEND;TZID=Europe/Berlin:20260531T100000
DTSTAMP:20260426T000929
CREATED:20260316T101201Z
LAST-MODIFIED:20260423T072337Z
UID:10008097-1780218000-1780221600@se-rottweil-hausen-neukirch.de
SUMMARY:Eucharistiefeier zum Titularfest (Vaihingerhofkapelle)
DESCRIPTION:
URL:https://se-rottweil-hausen-neukirch.de/termin/eucharistiefeier-nk-69-2-3-2/
LOCATION:Vaihingerhof Kapelle\, Vaihingerhof\, Rottweil-Neukirch\, 78628
CATEGORIES:Gottesdienst
END:VEVENT
BEGIN:VEVENT
DTSTART;TZID=Europe/Berlin:20260531T093000
DTEND;TZID=Europe/Berlin:20260531T103000
DTSTAMP:20260426T000929
CREATED:20251006T082021Z
LAST-MODIFIED:20251006T082021Z
UID:10008386-1780219800-1780223400@se-rottweil-hausen-neukirch.de
SUMMARY:Eucharistiefeier (HK)
DESCRIPTION:
URL:https://se-rottweil-hausen-neukirch.de/termin/eucharistiefeier-hk-91/2026-05-31/
LOCATION:Heilig Kreuz Münster\, Münsterplatz\, Rottweil\, 78628
CATEGORIES:Gottesdienst
END:VEVENT
BEGIN:VEVENT
DTSTART;TZID=Europe/Berlin:20260531T103000
DTEND;TZID=Europe/Berlin:20260531T113000
DTSTAMP:20260426T000929
CREATED:20260413T094601Z
LAST-MODIFIED:20260413T094601Z
UID:10009985-1780223400-1780227000@se-rottweil-hausen-neukirch.de
SUMMARY:Eucharistiefeier (St. Maria)
DESCRIPTION:
URL:https://se-rottweil-hausen-neukirch.de/termin/eucharistiefeier-st-maria-6/
LOCATION:St. Maria Hausen
CATEGORIES:Gottesdienst
END:VEVENT
BEGIN:VEVENT
DTSTART;TZID=Europe/Berlin:20260531T110000
DTEND;TZID=Europe/Berlin:20260531T120000
DTSTAMP:20260426T000929
CREATED:20251006T075706Z
LAST-MODIFIED:20251006T075706Z
UID:10008122-1780225200-1780228800@se-rottweil-hausen-neukirch.de
SUMMARY:Eucharistiefeier der kroatischen Gemeinde (RC)
DESCRIPTION:
URL:https://se-rottweil-hausen-neukirch.de/termin/eucharistiefeier-der-kroatischen-gemeinde-rc-19/2026-05-31/
LOCATION:Ruhe Christi Kirche
CATEGORIES:Gottesdienst
END:VEVENT
BEGIN:VEVENT
DTSTART;TZID=Europe/Berlin:20260531T110000
DTEND;TZID=Europe/Berlin:20260531T120000
DTSTAMP:20260426T000929
CREATED:20260109T075254Z
LAST-MODIFIED:20260109T075734Z
UID:10009296-1780225200-1780228800@se-rottweil-hausen-neukirch.de
SUMMARY:Eucharistiefeier (AC)
DESCRIPTION:
URL:https://se-rottweil-hausen-neukirch.de/termin/eucharistiefeier-ac-36/2026-05-31/
LOCATION:Auferstehung Christi Kirche
CATEGORIES:Gottesdienst
END:VEVENT
BEGIN:VEVENT
DTSTART;TZID=Europe/Berlin:20260531T110000
DTEND;TZID=Europe/Berlin:20260531T120000
DTSTAMP:20260426T000929
CREATED:20260122T074203Z
LAST-MODIFIED:20260122T074203Z
UID:10009374-1780225200-1780228800@se-rottweil-hausen-neukirch.de
SUMMARY:Eucharistiefeier der italienischen Gemeinde (KK)
DESCRIPTION:
URL:https://se-rottweil-hausen-neukirch.de/termin/eucharistiefeier-der-italienischen-gemeinde-kk-20/2026-05-31/
LOCATION:Kapellenkirche\, Kapellenhof 1\, Rottweil\, 78628
CATEGORIES:Gottesdienst
END:VEVENT
BEGIN:VEVENT
DTSTART;TZID=Europe/Berlin:20260531T123000
DTEND;TZID=Europe/Berlin:20260531T133000
DTSTAMP:20260426T000929
CREATED:20260316T101406Z
LAST-MODIFIED:20260316T101406Z
UID:10009711-1780230600-1780234200@se-rottweil-hausen-neukirch.de
SUMMARY:Tauffeier (HK)
DESCRIPTION:
URL:https://se-rottweil-hausen-neukirch.de/termin/tauffeier-hk-4/
LOCATION:Heilig Kreuz Münster\, Münsterplatz\, Rottweil\, 78628
CATEGORIES:Gottesdienst
END:VEVENT
BEGIN:VEVENT
DTSTART;TZID=Europe/Berlin:20260531T180000
DTEND;TZID=Europe/Berlin:20260531T190000
DTSTAMP:20260426T000929
CREATED:20260316T101455Z
LAST-MODIFIED:20260316T101455Z
UID:10009712-1780250400-1780254000@se-rottweil-hausen-neukirch.de
SUMMARY:Maiandacht mit dem Münsterchor (HK)
DESCRIPTION:
URL:https://se-rottweil-hausen-neukirch.de/termin/maiandacht-mit-dem-muensterchor-hk/
LOCATION:Heilig Kreuz Münster\, Münsterplatz\, Rottweil\, 78628
CATEGORIES:Gottesdienst
END:VEVENT
BEGIN:VEVENT
DTSTART;TZID=Europe/Berlin:20260531T180000
DTEND;TZID=Europe/Berlin:20260531T190000
DTSTAMP:20260426T000929
CREATED:20260316T101545Z
LAST-MODIFIED:20260316T101545Z
UID:10009713-1780250400-1780254000@se-rottweil-hausen-neukirch.de
SUMMARY:Andacht an der Dreifaltigkeitskapelle (Schwarzwaldstraße)
DESCRIPTION:
URL:https://se-rottweil-hausen-neukirch.de/termin/andacht-an-der-dreifaltigkeitskapelle-schwarzwaldstrasse/
LOCATION:Dreifaltigkeitskapelle\, Schwarzwaldstraße\, Rottweil
CATEGORIES:Gottesdienst
END:VEVENT
BEGIN:VEVENT
DTSTART;TZID=Europe/Berlin:20260531T190000
DTEND;TZID=Europe/Berlin:20260531T200000
DTSTAMP:20260426T000929
CREATED:20251006T075807Z
LAST-MODIFIED:20260414T083125Z
UID:10008208-1780254000-1780257600@se-rottweil-hausen-neukirch.de
SUMMARY:Eucharistiefeier (HK)
DESCRIPTION:
URL:https://se-rottweil-hausen-neukirch.de/termin/eucharistiefeier-hk-87/2026-05-31/
LOCATION:Heilig Kreuz Münster\, Münsterplatz\, Rottweil\, 78628
CATEGORIES:Gottesdienst,GottesdienstLiturgDienste
END:VEVENT
END:VCALENDAR