BEGIN:VCALENDAR
VERSION:2.0
PRODID:-//Seelsorgeeinheit Rottweil-Hausen-Neukirch - ECPv6.15.11//NONSGML v1.0//EN
CALSCALE:GREGORIAN
METHOD:PUBLISH
X-WR-CALNAME:Seelsorgeeinheit Rottweil-Hausen-Neukirch
X-ORIGINAL-URL:https://se-rottweil-hausen-neukirch.de
X-WR-CALDESC:Veranstaltungen für Seelsorgeeinheit Rottweil-Hausen-Neukirch
REFRESH-INTERVAL;VALUE=DURATION:PT1H
X-Robots-Tag:noindex
X-PUBLISHED-TTL:PT1H
BEGIN:VTIMEZONE
TZID:Europe/Berlin
BEGIN:DAYLIGHT
TZOFFSETFROM:+0100
TZOFFSETTO:+0200
TZNAME:CEST
DTSTART:20250330T010000
END:DAYLIGHT
BEGIN:STANDARD
TZOFFSETFROM:+0200
TZOFFSETTO:+0100
TZNAME:CET
DTSTART:20251026T010000
END:STANDARD
BEGIN:DAYLIGHT
TZOFFSETFROM:+0100
TZOFFSETTO:+0200
TZNAME:CEST
DTSTART:20260329T010000
END:DAYLIGHT
BEGIN:STANDARD
TZOFFSETFROM:+0200
TZOFFSETTO:+0100
TZNAME:CET
DTSTART:20261025T010000
END:STANDARD
BEGIN:DAYLIGHT
TZOFFSETFROM:+0100
TZOFFSETTO:+0200
TZNAME:CEST
DTSTART:20270328T010000
END:DAYLIGHT
BEGIN:STANDARD
TZOFFSETFROM:+0200
TZOFFSETTO:+0100
TZNAME:CET
DTSTART:20271031T010000
END:STANDARD
END:VTIMEZONE
BEGIN:VEVENT
DTSTART;TZID=Europe/Berlin:20260601T174500
DTEND;TZID=Europe/Berlin:20260601T180000
DTSTAMP:20260425T215604
CREATED:20251216T100037Z
LAST-MODIFIED:20251216T100037Z
UID:10008963-1780335900-1780336800@se-rottweil-hausen-neukirch.de
SUMMARY:Rosenkranz (RC)
DESCRIPTION:
URL:https://se-rottweil-hausen-neukirch.de/termin/rosenkranz-rc-7/2026-06-01/
LOCATION:Ruhe Christi Kirche
CATEGORIES:Gottesdienst
END:VEVENT
BEGIN:VEVENT
DTSTART;TZID=Europe/Berlin:20260601T190000
DTEND;TZID=Europe/Berlin:20260601T193000
DTSTAMP:20260425T215604
CREATED:20260413T111410Z
LAST-MODIFIED:20260413T111410Z
UID:10009986-1780340400-1780342200@se-rottweil-hausen-neukirch.de
SUMMARY:Rosenkranz (St. Maria)
DESCRIPTION:
URL:https://se-rottweil-hausen-neukirch.de/termin/rosenkranz-st-maria-4/
LOCATION:St. Maria Hausen
CATEGORIES:Gottesdienst
END:VEVENT
BEGIN:VEVENT
DTSTART;TZID=Europe/Berlin:20260602T174500
DTEND;TZID=Europe/Berlin:20260602T180000
DTSTAMP:20260425T215604
CREATED:20251216T095146Z
LAST-MODIFIED:20251216T095146Z
UID:10008749-1780422300-1780423200@se-rottweil-hausen-neukirch.de
SUMMARY:Rosenkranz (RC)
DESCRIPTION:
URL:https://se-rottweil-hausen-neukirch.de/termin/rosenkranz-rc-4/2026-06-02/
LOCATION:Ruhe Christi Kirche
CATEGORIES:Gottesdienst
END:VEVENT
BEGIN:VEVENT
DTSTART;TZID=Europe/Berlin:20260602T190000
DTEND;TZID=Europe/Berlin:20260602T200000
DTSTAMP:20260425T215604
CREATED:20251006T075122Z
LAST-MODIFIED:20251006T075122Z
UID:10007971-1780426800-1780430400@se-rottweil-hausen-neukirch.de
SUMMARY:Eucharistiefeier der kroatischen Gemeinde (RC)
DESCRIPTION:
URL:https://se-rottweil-hausen-neukirch.de/termin/eucharistiefeier-der-kroatischen-gemeinde-rc-18/2026-06-02/
LOCATION:Ruhe Christi Kirche
CATEGORIES:Gottesdienst
END:VEVENT
BEGIN:VEVENT
DTSTART;TZID=Europe/Berlin:20260602T190000
DTEND;TZID=Europe/Berlin:20260602T200000
DTSTAMP:20260425T215604
CREATED:20260109T074702Z
LAST-MODIFIED:20260109T074702Z
UID:10009085-1780426800-1780430400@se-rottweil-hausen-neukirch.de
SUMMARY:Gebetskreis (AC)
DESCRIPTION:
URL:https://se-rottweil-hausen-neukirch.de/termin/gebetskreis-ac-4/2026-06-02/
LOCATION:Gemeindezentrum Auferstehung Christi\, Krummer Weg 41\, 78628 Rottweil
CATEGORIES:Begegnung
END:VEVENT
BEGIN:VEVENT
DTSTART;TZID=Europe/Berlin:20260603T090000
DTEND;TZID=Europe/Berlin:20260603T100000
DTSTAMP:20260425T215604
CREATED:20251006T075931Z
LAST-MODIFIED:20251006T075931Z
UID:10008261-1780477200-1780480800@se-rottweil-hausen-neukirch.de
SUMMARY:Eucharistiefeier (HK)
DESCRIPTION:
URL:https://se-rottweil-hausen-neukirch.de/termin/eucharistiefeier-hk-88/2026-06-03/
LOCATION:Heilig Kreuz Münster\, Münsterplatz\, Rottweil\, 78628
CATEGORIES:Gottesdienst
END:VEVENT
BEGIN:VEVENT
DTSTART;TZID=Europe/Berlin:20260603T174500
DTEND;TZID=Europe/Berlin:20260603T180000
DTSTAMP:20260425T215604
CREATED:20251216T095323Z
LAST-MODIFIED:20251216T095323Z
UID:10008802-1780508700-1780509600@se-rottweil-hausen-neukirch.de
SUMMARY:Rosenkranz (RC)
DESCRIPTION:
URL:https://se-rottweil-hausen-neukirch.de/termin/rosenkranz-rc-5/2026-06-03/
LOCATION:Ruhe Christi Kirche
CATEGORIES:Gottesdienst
END:VEVENT
BEGIN:VEVENT
DTSTART;TZID=Europe/Berlin:20260603T183000
DTEND;TZID=Europe/Berlin:20260603T193000
DTSTAMP:20260425T215604
CREATED:20250225T112321Z
LAST-MODIFIED:20260310T091724Z
UID:10009550-1780511400-1780515000@se-rottweil-hausen-neukirch.de
SUMMARY:Eucharistiefeier der polnischen Gemeinde (AC)
DESCRIPTION:
URL:https://se-rottweil-hausen-neukirch.de/termin/eucharistiefeier-der-polnischen-gemeinde-ac-16/2026-06-03/
LOCATION:Auferstehung Christi Kirche
CATEGORIES:Gottesdienst
END:VEVENT
BEGIN:VEVENT
DTSTART;TZID=Europe/Berlin:20260604T090000
DTEND;TZID=Europe/Berlin:20260604T110000
DTSTAMP:20260425T215604
CREATED:20260422T064743Z
LAST-MODIFIED:20260422T064743Z
UID:10010002-1780563600-1780570800@se-rottweil-hausen-neukirch.de
SUMMARY:Eucharistiefeier mit anschließender Prozession zu Fronleichnam (NK)
DESCRIPTION:
URL:https://se-rottweil-hausen-neukirch.de/termin/eucharistiefeier-mit-anschliessender-prozession-zu-fronleichnam-nk/
LOCATION:St. Peter und Paul\, Im Winkel 5\, Rottweil\, 78628
CATEGORIES:Gottesdienst
END:VEVENT
BEGIN:VEVENT
DTSTART;TZID=Europe/Berlin:20260604T090000
DTEND;TZID=Europe/Berlin:20260604T113000
DTSTAMP:20260425T215604
CREATED:20260327T101939Z
LAST-MODIFIED:20260327T101939Z
UID:10009960-1780563600-1780572600@se-rottweil-hausen-neukirch.de
SUMMARY:Eucharistiefeier im Bockshof mit anschließender Prozession (HK)\, Aufstellung Oberamteigasse
DESCRIPTION:
URL:https://se-rottweil-hausen-neukirch.de/termin/eucharistiefeier-im-bockshof-mit-anschliessender-prozession-hk-aufstellung-oberamteigasse/
LOCATION:Bockshof
CATEGORIES:Gottesdienst
END:VEVENT
BEGIN:VEVENT
DTSTART;TZID=Europe/Berlin:20260604T090000
DTEND;TZID=Europe/Berlin:20260604T113000
DTSTAMP:20260425T215604
CREATED:20260413T111739Z
LAST-MODIFIED:20260413T111739Z
UID:10009988-1780563600-1780572600@se-rottweil-hausen-neukirch.de
SUMMARY:Eucharistiefeier (St. Maria) Fronleichnam
DESCRIPTION:9.00 Uhr Gottesdienst\, anschl. Prozession
URL:https://se-rottweil-hausen-neukirch.de/termin/eucharistiefeier-st-maria-fronleichnam/
LOCATION:St. Maria Hausen
CATEGORIES:Gottesdienst
END:VEVENT
BEGIN:VEVENT
DTSTART;TZID=Europe/Berlin:20260604T174500
DTEND;TZID=Europe/Berlin:20260604T180000
DTSTAMP:20260425T215604
CREATED:20251216T095452Z
LAST-MODIFIED:20251216T095452Z
UID:10008856-1780595100-1780596000@se-rottweil-hausen-neukirch.de
SUMMARY:Rosenkranz (RC)
DESCRIPTION:
URL:https://se-rottweil-hausen-neukirch.de/termin/rosenkranz-rc-6/2026-06-04/
LOCATION:Ruhe Christi Kirche
CATEGORIES:Gottesdienst
END:VEVENT
BEGIN:VEVENT
DTSTART;TZID=Europe/Berlin:20260604T190000
DTEND;TZID=Europe/Berlin:20260604T200000
DTSTAMP:20260425T215604
CREATED:20251006T075122Z
LAST-MODIFIED:20251006T075122Z
UID:10007972-1780599600-1780603200@se-rottweil-hausen-neukirch.de
SUMMARY:Eucharistiefeier der kroatischen Gemeinde (RC)
DESCRIPTION:
URL:https://se-rottweil-hausen-neukirch.de/termin/eucharistiefeier-der-kroatischen-gemeinde-rc-18/2026-06-04/
LOCATION:Ruhe Christi Kirche
CATEGORIES:Gottesdienst
END:VEVENT
BEGIN:VEVENT
DTSTART;TZID=Europe/Berlin:20260605T175500
DTEND;TZID=Europe/Berlin:20260605T182500
DTSTAMP:20260425T215604
CREATED:20260109T075010Z
LAST-MODIFIED:20260109T075010Z
UID:10009191-1780682100-1780683900@se-rottweil-hausen-neukirch.de
SUMMARY:Rosenkranz (AC)
DESCRIPTION:
URL:https://se-rottweil-hausen-neukirch.de/termin/rosenkranz-ac-3/2026-06-05/
LOCATION:Auferstehung Christi Kirche
CATEGORIES:Gottesdienst
END:VEVENT
BEGIN:VEVENT
DTSTART;TZID=Europe/Berlin:20260605T183000
DTEND;TZID=Europe/Berlin:20260605T193000
DTSTAMP:20260425T215604
CREATED:20260109T074857Z
LAST-MODIFIED:20260109T074857Z
UID:10009138-1780684200-1780687800@se-rottweil-hausen-neukirch.de
SUMMARY:Eucharistiefeier (AC)
DESCRIPTION:
URL:https://se-rottweil-hausen-neukirch.de/termin/eucharistiefeier-ac-35/2026-06-05/
LOCATION:Auferstehung Christi Kirche
CATEGORIES:Gottesdienst
END:VEVENT
BEGIN:VEVENT
DTSTART;TZID=Europe/Berlin:20260606T090000
DTEND;TZID=Europe/Berlin:20260606T093000
DTSTAMP:20260425T215604
CREATED:20251006T075304Z
LAST-MODIFIED:20251006T075304Z
UID:10008056-1780736400-1780738200@se-rottweil-hausen-neukirch.de
SUMMARY:Laudes (HK)
DESCRIPTION:
URL:https://se-rottweil-hausen-neukirch.de/termin/laudes-hk-3/2026-06-06/
LOCATION:Heilig Kreuz Münster\, Münsterplatz\, Rottweil\, 78628
CATEGORIES:Gottesdienst
END:VEVENT
BEGIN:VEVENT
DTSTART;TZID=Europe/Berlin:20260606T180000
DTEND;TZID=Europe/Berlin:20260606T190000
DTSTAMP:20260425T215604
CREATED:20260109T075121Z
LAST-MODIFIED:20260109T075121Z
UID:10009244-1780768800-1780772400@se-rottweil-hausen-neukirch.de
SUMMARY:Eucharistiefeier (RC)
DESCRIPTION:
URL:https://se-rottweil-hausen-neukirch.de/termin/eucharistiefeier-rc-9/2026-06-06/
LOCATION:Ruhe Christi Kirche
CATEGORIES:Gottesdienst
END:VEVENT
BEGIN:VEVENT
DTSTART;TZID=Europe/Berlin:20260607T090000
DTEND;TZID=Europe/Berlin:20260607T100000
DTSTAMP:20260425T215604
CREATED:20260310T091032Z
LAST-MODIFIED:20260310T091229Z
UID:10009508-1780822800-1780826400@se-rottweil-hausen-neukirch.de
SUMMARY:Eucharistiefeier der polnischen Gemeinde (AC)
DESCRIPTION:
URL:https://se-rottweil-hausen-neukirch.de/termin/eucharistiefeier-der-polnischen-gemeinde-ac-8-5-2-2/2026-06-07/
LOCATION:Auferstehung Christi Kirche
CATEGORIES:Gottesdienst
END:VEVENT
BEGIN:VEVENT
DTSTART;TZID=Europe/Berlin:20260607T090000
DTEND;TZID=Europe/Berlin:20260607T100000
DTSTAMP:20260425T215604
CREATED:20260413T111947Z
LAST-MODIFIED:20260413T111947Z
UID:10009989-1780822800-1780826400@se-rottweil-hausen-neukirch.de
SUMMARY:Eucharistiefeier (St. Maria)
DESCRIPTION:
URL:https://se-rottweil-hausen-neukirch.de/termin/eucharistiefeier-st-maria-7/
LOCATION:St. Maria Hausen
CATEGORIES:Gottesdienst
END:VEVENT
BEGIN:VEVENT
DTSTART;TZID=Europe/Berlin:20260607T093000
DTEND;TZID=Europe/Berlin:20260607T103000
DTSTAMP:20260425T215604
CREATED:20251006T082021Z
LAST-MODIFIED:20251006T082021Z
UID:10008387-1780824600-1780828200@se-rottweil-hausen-neukirch.de
SUMMARY:Eucharistiefeier (HK)
DESCRIPTION:
URL:https://se-rottweil-hausen-neukirch.de/termin/eucharistiefeier-hk-91/2026-06-07/
LOCATION:Heilig Kreuz Münster\, Münsterplatz\, Rottweil\, 78628
CATEGORIES:Gottesdienst
END:VEVENT
BEGIN:VEVENT
DTSTART;TZID=Europe/Berlin:20260607T103000
DTEND;TZID=Europe/Berlin:20260607T113000
DTSTAMP:20260425T215604
CREATED:20260316T084851Z
LAST-MODIFIED:20260316T084851Z
UID:10009693-1780828200-1780831800@se-rottweil-hausen-neukirch.de
SUMMARY:Eucharistiefeier (NK)
DESCRIPTION:
URL:https://se-rottweil-hausen-neukirch.de/termin/eucharistiefeier-nk-2/2026-06-07/
LOCATION:St. Peter und Paul\, Im Winkel 5\, Rottweil\, 78628
CATEGORIES:Gottesdienst
END:VEVENT
BEGIN:VEVENT
DTSTART;TZID=Europe/Berlin:20260607T110000
DTEND;TZID=Europe/Berlin:20260607T120000
DTSTAMP:20260425T215604
CREATED:20251006T075706Z
LAST-MODIFIED:20251006T075706Z
UID:10008123-1780830000-1780833600@se-rottweil-hausen-neukirch.de
SUMMARY:Eucharistiefeier der kroatischen Gemeinde (RC)
DESCRIPTION:
URL:https://se-rottweil-hausen-neukirch.de/termin/eucharistiefeier-der-kroatischen-gemeinde-rc-19/2026-06-07/
LOCATION:Ruhe Christi Kirche
CATEGORIES:Gottesdienst
END:VEVENT
BEGIN:VEVENT
DTSTART;TZID=Europe/Berlin:20260607T110000
DTEND;TZID=Europe/Berlin:20260607T120000
DTSTAMP:20260425T215604
CREATED:20260109T075254Z
LAST-MODIFIED:20260109T075734Z
UID:10009297-1780830000-1780833600@se-rottweil-hausen-neukirch.de
SUMMARY:Eucharistiefeier (AC)
DESCRIPTION:
URL:https://se-rottweil-hausen-neukirch.de/termin/eucharistiefeier-ac-36/2026-06-07/
LOCATION:Auferstehung Christi Kirche
CATEGORIES:Gottesdienst
END:VEVENT
BEGIN:VEVENT
DTSTART;TZID=Europe/Berlin:20260607T110000
DTEND;TZID=Europe/Berlin:20260607T120000
DTSTAMP:20260425T215604
CREATED:20260122T074203Z
LAST-MODIFIED:20260122T074203Z
UID:10009375-1780830000-1780833600@se-rottweil-hausen-neukirch.de
SUMMARY:Eucharistiefeier der italienischen Gemeinde (KK)
DESCRIPTION:
URL:https://se-rottweil-hausen-neukirch.de/termin/eucharistiefeier-der-italienischen-gemeinde-kk-20/2026-06-07/
LOCATION:Kapellenkirche\, Kapellenhof 1\, Rottweil\, 78628
CATEGORIES:Gottesdienst
END:VEVENT
BEGIN:VEVENT
DTSTART;TZID=Europe/Berlin:20260607T123000
DTEND;TZID=Europe/Berlin:20260607T133000
DTSTAMP:20260425T215604
CREATED:20260327T102111Z
LAST-MODIFIED:20260327T102111Z
UID:10009961-1780835400-1780839000@se-rottweil-hausen-neukirch.de
SUMMARY:Tauffeier (HK)
DESCRIPTION:
URL:https://se-rottweil-hausen-neukirch.de/termin/tauffeier-hk-6/
LOCATION:Heilig Kreuz Münster\, Münsterplatz\, Rottweil\, 78628
CATEGORIES:Gottesdienst
END:VEVENT
BEGIN:VEVENT
DTSTART;TZID=Europe/Berlin:20260607T190000
DTEND;TZID=Europe/Berlin:20260607T200000
DTSTAMP:20260425T215604
CREATED:20251006T075807Z
LAST-MODIFIED:20260414T083125Z
UID:10008209-1780858800-1780862400@se-rottweil-hausen-neukirch.de
SUMMARY:Eucharistiefeier (HK)
DESCRIPTION:
URL:https://se-rottweil-hausen-neukirch.de/termin/eucharistiefeier-hk-87/2026-06-07/
LOCATION:Heilig Kreuz Münster\, Münsterplatz\, Rottweil\, 78628
CATEGORIES:Gottesdienst,GottesdienstLiturgDienste
END:VEVENT
BEGIN:VEVENT
DTSTART;TZID=Europe/Berlin:20260608T174500
DTEND;TZID=Europe/Berlin:20260608T180000
DTSTAMP:20260425T215604
CREATED:20251216T100037Z
LAST-MODIFIED:20251216T100037Z
UID:10008964-1780940700-1780941600@se-rottweil-hausen-neukirch.de
SUMMARY:Rosenkranz (RC)
DESCRIPTION:
URL:https://se-rottweil-hausen-neukirch.de/termin/rosenkranz-rc-7/2026-06-08/
LOCATION:Ruhe Christi Kirche
CATEGORIES:Gottesdienst
END:VEVENT
BEGIN:VEVENT
DTSTART;TZID=Europe/Berlin:20260608T190000
DTEND;TZID=Europe/Berlin:20260608T193000
DTSTAMP:20260425T215604
CREATED:20260413T112245Z
LAST-MODIFIED:20260413T112245Z
UID:10009990-1780945200-1780947000@se-rottweil-hausen-neukirch.de
SUMMARY:Rosenkranz (St. Maria)
DESCRIPTION:
URL:https://se-rottweil-hausen-neukirch.de/termin/rosenkranz-st-maria-5/
LOCATION:St. Maria Hausen
CATEGORIES:Gottesdienst
END:VEVENT
BEGIN:VEVENT
DTSTART;TZID=Europe/Berlin:20260609T083000
DTEND;TZID=Europe/Berlin:20260609T090000
DTSTAMP:20260425T215604
CREATED:20260420T095604Z
LAST-MODIFIED:20260420T095604Z
UID:10009993-1780993800-1780995600@se-rottweil-hausen-neukirch.de
SUMMARY:Eucharistiefeier (St. Maria)
DESCRIPTION:
URL:https://se-rottweil-hausen-neukirch.de/termin/eucharistiefeier-st-maria-8/
LOCATION:St. Maria Hausen
CATEGORIES:Gottesdienst
END:VEVENT
BEGIN:VEVENT
DTSTART;TZID=Europe/Berlin:20260609T090000
DTEND;TZID=Europe/Berlin:20260609T103000
DTSTAMP:20260425T215604
CREATED:20260420T095759Z
LAST-MODIFIED:20260420T095759Z
UID:10009994-1780995600-1781001000@se-rottweil-hausen-neukirch.de
SUMMARY:Seniorenfrühstück (St. Maria)
DESCRIPTION:Nach dem Gottesdienst findet um 9.00 Uhr das Seniorenfrühstück im Gemeindehaus statt.
URL:https://se-rottweil-hausen-neukirch.de/termin/seniorenfruehstueck-st-maria-2/
LOCATION:St. Maria Hausen
CATEGORIES:Senioren
END:VEVENT
END:VCALENDAR