BEGIN:VCALENDAR
VERSION:2.0
PRODID:-//Seelsorgeeinheit Rottweil-Hausen-Neukirch - ECPv6.15.11//NONSGML v1.0//EN
CALSCALE:GREGORIAN
METHOD:PUBLISH
X-ORIGINAL-URL:https://se-rottweil-hausen-neukirch.de
X-WR-CALDESC:Veranstaltungen für Seelsorgeeinheit Rottweil-Hausen-Neukirch
REFRESH-INTERVAL;VALUE=DURATION:PT1H
X-Robots-Tag:noindex
X-PUBLISHED-TTL:PT1H
BEGIN:VTIMEZONE
TZID:Europe/Berlin
BEGIN:DAYLIGHT
TZOFFSETFROM:+0100
TZOFFSETTO:+0200
TZNAME:CEST
DTSTART:20250330T010000
END:DAYLIGHT
BEGIN:STANDARD
TZOFFSETFROM:+0200
TZOFFSETTO:+0100
TZNAME:CET
DTSTART:20251026T010000
END:STANDARD
BEGIN:DAYLIGHT
TZOFFSETFROM:+0100
TZOFFSETTO:+0200
TZNAME:CEST
DTSTART:20260329T010000
END:DAYLIGHT
BEGIN:STANDARD
TZOFFSETFROM:+0200
TZOFFSETTO:+0100
TZNAME:CET
DTSTART:20261025T010000
END:STANDARD
BEGIN:DAYLIGHT
TZOFFSETFROM:+0100
TZOFFSETTO:+0200
TZNAME:CEST
DTSTART:20270328T010000
END:DAYLIGHT
BEGIN:STANDARD
TZOFFSETFROM:+0200
TZOFFSETTO:+0100
TZNAME:CET
DTSTART:20271031T010000
END:STANDARD
END:VTIMEZONE
BEGIN:VEVENT
DTSTART;TZID=Europe/Berlin:20260424T175500
DTEND;TZID=Europe/Berlin:20260424T182500
DTSTAMP:20260424T155157
CREATED:20260109T075010Z
LAST-MODIFIED:20260109T075010Z
UID:10009185-1777053300-1777055100@se-rottweil-hausen-neukirch.de
SUMMARY:Rosenkranz (AC)
DESCRIPTION:
URL:https://se-rottweil-hausen-neukirch.de/termin/rosenkranz-ac-3/2026-04-24/
LOCATION:Auferstehung Christi Kirche
CATEGORIES:Gottesdienst
END:VEVENT
BEGIN:VEVENT
DTSTART;TZID=Europe/Berlin:20260424T183000
DTEND;TZID=Europe/Berlin:20260424T193000
DTSTAMP:20260424T155157
CREATED:20260109T074857Z
LAST-MODIFIED:20260109T074857Z
UID:10009132-1777055400-1777059000@se-rottweil-hausen-neukirch.de
SUMMARY:Eucharistiefeier (AC)
DESCRIPTION:
URL:https://se-rottweil-hausen-neukirch.de/termin/eucharistiefeier-ac-35/2026-04-24/
LOCATION:Auferstehung Christi Kirche
CATEGORIES:Gottesdienst
END:VEVENT
BEGIN:VEVENT
DTSTART;TZID=Europe/Berlin:20260425T090000
DTEND;TZID=Europe/Berlin:20260425T093000
DTSTAMP:20260424T155157
CREATED:20251006T075304Z
LAST-MODIFIED:20251006T075304Z
UID:10008050-1777107600-1777109400@se-rottweil-hausen-neukirch.de
SUMMARY:Laudes (HK)
DESCRIPTION:
URL:https://se-rottweil-hausen-neukirch.de/termin/laudes-hk-3/2026-04-25/
LOCATION:Heilig Kreuz Münster\, Münsterplatz\, Rottweil\, 78628
CATEGORIES:Gottesdienst
END:VEVENT
BEGIN:VEVENT
DTSTART;TZID=Europe/Berlin:20260425T140000
DTEND;TZID=Europe/Berlin:20260425T150000
DTSTAMP:20260424T155157
CREATED:20260316T083537Z
LAST-MODIFIED:20260402T072245Z
UID:10009687-1777125600-1777129200@se-rottweil-hausen-neukirch.de
SUMMARY:Ökumenischer Gottesdienst zur Einweihung der Hängebrücke auf dem Berner Feld
DESCRIPTION:
URL:https://se-rottweil-hausen-neukirch.de/termin/oekumenischer-gottesdienst-zur-einweihung-der-haengebruecke-im-freien-haengebruecke/
LOCATION:Bockshof
CATEGORIES:Gottesdienst
END:VEVENT
BEGIN:VEVENT
DTSTART;TZID=Europe/Berlin:20260425T180000
DTEND;TZID=Europe/Berlin:20260425T190000
DTSTAMP:20260424T155157
CREATED:20260109T075121Z
LAST-MODIFIED:20260109T075121Z
UID:10009238-1777140000-1777143600@se-rottweil-hausen-neukirch.de
SUMMARY:Eucharistiefeier (RC)
DESCRIPTION:
URL:https://se-rottweil-hausen-neukirch.de/termin/eucharistiefeier-rc-9/2026-04-25/
LOCATION:Ruhe Christi Kirche
CATEGORIES:Gottesdienst
END:VEVENT
BEGIN:VEVENT
DTSTART;TZID=Europe/Berlin:20260426T090000
DTEND;TZID=Europe/Berlin:20260426T100000
DTSTAMP:20260424T155157
CREATED:20260302T092407Z
LAST-MODIFIED:20260302T092407Z
UID:10009460-1777194000-1777197600@se-rottweil-hausen-neukirch.de
SUMMARY:Eucharistiefeier (St. Maria)
DESCRIPTION:
URL:https://se-rottweil-hausen-neukirch.de/termin/eucharistiefeier-st-maria-196/
LOCATION:St. Maria Hausen
CATEGORIES:Gottesdienst
END:VEVENT
BEGIN:VEVENT
DTSTART;TZID=Europe/Berlin:20260426T090000
DTEND;TZID=Europe/Berlin:20260426T100000
DTSTAMP:20260424T155157
CREATED:20260310T091032Z
LAST-MODIFIED:20260310T091229Z
UID:10009502-1777194000-1777197600@se-rottweil-hausen-neukirch.de
SUMMARY:Eucharistiefeier der polnischen Gemeinde (AC)
DESCRIPTION:
URL:https://se-rottweil-hausen-neukirch.de/termin/eucharistiefeier-der-polnischen-gemeinde-ac-8-5-2-2/2026-04-26/
LOCATION:Auferstehung Christi Kirche
CATEGORIES:Gottesdienst
END:VEVENT
BEGIN:VEVENT
DTSTART;TZID=Europe/Berlin:20260426T093000
DTEND;TZID=Europe/Berlin:20260426T103000
DTSTAMP:20260424T155157
CREATED:20260113T124411Z
LAST-MODIFIED:20260401T084541Z
UID:10008381-1777195800-1777199400@se-rottweil-hausen-neukirch.de
SUMMARY:Eucharistiefeier als Erstkommunion (HK)
DESCRIPTION:
URL:https://se-rottweil-hausen-neukirch.de/termin/eucharistiefeier-hk-91-5/
LOCATION:Heilig Kreuz Münster\, Münsterplatz\, Rottweil\, 78628
CATEGORIES:Erstkommunion,Gottesdienst
END:VEVENT
BEGIN:VEVENT
DTSTART;TZID=Europe/Berlin:20260426T103000
DTEND;TZID=Europe/Berlin:20260426T113000
DTSTAMP:20260424T155157
CREATED:20251006T082137Z
LAST-MODIFIED:20251006T082137Z
UID:10008430-1777199400-1777203000@se-rottweil-hausen-neukirch.de
SUMMARY:Eucharistiefeier (NK)
DESCRIPTION:
URL:https://se-rottweil-hausen-neukirch.de/termin/eucharistiefeier-nk-86/2026-04-26/
LOCATION:St. Peter und Paul\, Im Winkel 5\, Rottweil\, 78628
CATEGORIES:Gottesdienst
END:VEVENT
BEGIN:VEVENT
DTSTART;TZID=Europe/Berlin:20260426T110000
DTEND;TZID=Europe/Berlin:20260426T120000
DTSTAMP:20260424T155157
CREATED:20251006T075706Z
LAST-MODIFIED:20251006T075706Z
UID:10008117-1777201200-1777204800@se-rottweil-hausen-neukirch.de
SUMMARY:Eucharistiefeier der kroatischen Gemeinde (RC)
DESCRIPTION:
URL:https://se-rottweil-hausen-neukirch.de/termin/eucharistiefeier-der-kroatischen-gemeinde-rc-19/2026-04-26/
LOCATION:Ruhe Christi Kirche
CATEGORIES:Gottesdienst
END:VEVENT
BEGIN:VEVENT
DTSTART;TZID=Europe/Berlin:20260426T110000
DTEND;TZID=Europe/Berlin:20260426T120000
DTSTAMP:20260424T155157
CREATED:20260109T075254Z
LAST-MODIFIED:20260109T075734Z
UID:10009291-1777201200-1777204800@se-rottweil-hausen-neukirch.de
SUMMARY:Eucharistiefeier (AC)
DESCRIPTION:
URL:https://se-rottweil-hausen-neukirch.de/termin/eucharistiefeier-ac-36/2026-04-26/
LOCATION:Auferstehung Christi Kirche
CATEGORIES:Gottesdienst
END:VEVENT
BEGIN:VEVENT
DTSTART;TZID=Europe/Berlin:20260426T110000
DTEND;TZID=Europe/Berlin:20260426T120000
DTSTAMP:20260424T155157
CREATED:20260122T074203Z
LAST-MODIFIED:20260122T074203Z
UID:10009369-1777201200-1777204800@se-rottweil-hausen-neukirch.de
SUMMARY:Eucharistiefeier der italienischen Gemeinde (KK)
DESCRIPTION:
URL:https://se-rottweil-hausen-neukirch.de/termin/eucharistiefeier-der-italienischen-gemeinde-kk-20/2026-04-26/
LOCATION:Kapellenkirche\, Kapellenhof 1\, Rottweil\, 78628
CATEGORIES:Gottesdienst
END:VEVENT
BEGIN:VEVENT
DTSTART;TZID=Europe/Berlin:20260426T180000
DTEND;TZID=Europe/Berlin:20260426T190000
DTSTAMP:20260424T155157
CREATED:20260113T124501Z
LAST-MODIFIED:20260401T084431Z
UID:10009354-1777226400-1777230000@se-rottweil-hausen-neukirch.de
SUMMARY:Monatsprozession mit den Erstkommunionkindern (HK)
DESCRIPTION:
URL:https://se-rottweil-hausen-neukirch.de/termin/monatsprozession-hk-10/
LOCATION:Heilig Kreuz Münster\, Münsterplatz\, Rottweil\, 78628
CATEGORIES:Erstkommunion,Gottesdienst
END:VEVENT
BEGIN:VEVENT
DTSTART;TZID=Europe/Berlin:20260426T190000
DTEND;TZID=Europe/Berlin:20260426T200000
DTSTAMP:20260424T155157
CREATED:20251006T075807Z
LAST-MODIFIED:20260414T083125Z
UID:10008203-1777230000-1777233600@se-rottweil-hausen-neukirch.de
SUMMARY:Eucharistiefeier (HK)
DESCRIPTION:
URL:https://se-rottweil-hausen-neukirch.de/termin/eucharistiefeier-hk-87/2026-04-26/
LOCATION:Heilig Kreuz Münster\, Münsterplatz\, Rottweil\, 78628
CATEGORIES:Gottesdienst,GottesdienstLiturgDienste
END:VEVENT
BEGIN:VEVENT
DTSTART;TZID=Europe/Berlin:20260427T174500
DTEND;TZID=Europe/Berlin:20260427T180000
DTSTAMP:20260424T155157
CREATED:20251216T100037Z
LAST-MODIFIED:20251216T100037Z
UID:10008958-1777311900-1777312800@se-rottweil-hausen-neukirch.de
SUMMARY:Rosenkranz (RC)
DESCRIPTION:
URL:https://se-rottweil-hausen-neukirch.de/termin/rosenkranz-rc-7/2026-04-27/
LOCATION:Ruhe Christi Kirche
CATEGORIES:Gottesdienst
END:VEVENT
BEGIN:VEVENT
DTSTART;TZID=Europe/Berlin:20260427T190000
DTEND;TZID=Europe/Berlin:20260427T193000
DTSTAMP:20260424T155157
CREATED:20260302T092551Z
LAST-MODIFIED:20260302T092551Z
UID:10009461-1777316400-1777318200@se-rottweil-hausen-neukirch.de
SUMMARY:Rosenkranz (St. Maria)
DESCRIPTION:
URL:https://se-rottweil-hausen-neukirch.de/termin/rosenkranz-st-maria-90/
LOCATION:St. Maria Hausen
CATEGORIES:Gottesdienst
END:VEVENT
BEGIN:VEVENT
DTSTART;TZID=Europe/Berlin:20260428T083000
DTEND;TZID=Europe/Berlin:20260428T090000
DTSTAMP:20260424T155157
CREATED:20260302T092717Z
LAST-MODIFIED:20260302T092717Z
UID:10009462-1777365000-1777366800@se-rottweil-hausen-neukirch.de
SUMMARY:Eucharistiefeier (St. Maria)
DESCRIPTION:
URL:https://se-rottweil-hausen-neukirch.de/termin/eucharistiefeier-st-maria-197/
LOCATION:St. Maria Hausen
CATEGORIES:Gottesdienst
END:VEVENT
BEGIN:VEVENT
DTSTART;TZID=Europe/Berlin:20260428T090000
DTEND;TZID=Europe/Berlin:20260428T093000
DTSTAMP:20260424T155157
CREATED:20260302T092838Z
LAST-MODIFIED:20260302T092838Z
UID:10009463-1777366800-1777368600@se-rottweil-hausen-neukirch.de
SUMMARY:Anbetung (St. Maria)
DESCRIPTION:
URL:https://se-rottweil-hausen-neukirch.de/termin/anbetung-st-maria-14/
LOCATION:St. Maria Hausen
CATEGORIES:Gottesdienst
END:VEVENT
BEGIN:VEVENT
DTSTART;TZID=Europe/Berlin:20260428T174500
DTEND;TZID=Europe/Berlin:20260428T180000
DTSTAMP:20260424T155157
CREATED:20251216T095146Z
LAST-MODIFIED:20251216T095146Z
UID:10008744-1777398300-1777399200@se-rottweil-hausen-neukirch.de
SUMMARY:Rosenkranz (RC)
DESCRIPTION:
URL:https://se-rottweil-hausen-neukirch.de/termin/rosenkranz-rc-4/2026-04-28/
LOCATION:Ruhe Christi Kirche
CATEGORIES:Gottesdienst
END:VEVENT
BEGIN:VEVENT
DTSTART;TZID=Europe/Berlin:20260428T190000
DTEND;TZID=Europe/Berlin:20260428T200000
DTSTAMP:20260424T155157
CREATED:20251006T075122Z
LAST-MODIFIED:20251006T075122Z
UID:10007961-1777402800-1777406400@se-rottweil-hausen-neukirch.de
SUMMARY:Eucharistiefeier der kroatischen Gemeinde (RC)
DESCRIPTION:
URL:https://se-rottweil-hausen-neukirch.de/termin/eucharistiefeier-der-kroatischen-gemeinde-rc-18/2026-04-28/
LOCATION:Ruhe Christi Kirche
CATEGORIES:Gottesdienst
END:VEVENT
BEGIN:VEVENT
DTSTART;TZID=Europe/Berlin:20260428T190000
DTEND;TZID=Europe/Berlin:20260428T200000
DTSTAMP:20260424T155157
CREATED:20260109T074702Z
LAST-MODIFIED:20260109T074702Z
UID:10009080-1777402800-1777406400@se-rottweil-hausen-neukirch.de
SUMMARY:Gebetskreis (AC)
DESCRIPTION:
URL:https://se-rottweil-hausen-neukirch.de/termin/gebetskreis-ac-4/2026-04-28/
LOCATION:Gemeindezentrum Auferstehung Christi\, Krummer Weg 41\, 78628 Rottweil
CATEGORIES:Begegnung
END:VEVENT
BEGIN:VEVENT
DTSTART;TZID=Europe/Berlin:20260429T090000
DTEND;TZID=Europe/Berlin:20260429T100000
DTSTAMP:20260424T155157
CREATED:20251006T075931Z
LAST-MODIFIED:20251006T075931Z
UID:10008256-1777453200-1777456800@se-rottweil-hausen-neukirch.de
SUMMARY:Eucharistiefeier (HK)
DESCRIPTION:
URL:https://se-rottweil-hausen-neukirch.de/termin/eucharistiefeier-hk-88/2026-04-29/
LOCATION:Heilig Kreuz Münster\, Münsterplatz\, Rottweil\, 78628
CATEGORIES:Gottesdienst
END:VEVENT
BEGIN:VEVENT
DTSTART;TZID=Europe/Berlin:20260429T174500
DTEND;TZID=Europe/Berlin:20260429T180000
DTSTAMP:20260424T155157
CREATED:20251216T095323Z
LAST-MODIFIED:20251216T095323Z
UID:10008797-1777484700-1777485600@se-rottweil-hausen-neukirch.de
SUMMARY:Rosenkranz (RC)
DESCRIPTION:
URL:https://se-rottweil-hausen-neukirch.de/termin/rosenkranz-rc-5/2026-04-29/
LOCATION:Ruhe Christi Kirche
CATEGORIES:Gottesdienst
END:VEVENT
BEGIN:VEVENT
DTSTART;TZID=Europe/Berlin:20260429T183000
DTEND;TZID=Europe/Berlin:20260429T193000
DTSTAMP:20260424T155157
CREATED:20250225T112321Z
LAST-MODIFIED:20260310T091724Z
UID:10009545-1777487400-1777491000@se-rottweil-hausen-neukirch.de
SUMMARY:Eucharistiefeier der polnischen Gemeinde (AC)
DESCRIPTION:
URL:https://se-rottweil-hausen-neukirch.de/termin/eucharistiefeier-der-polnischen-gemeinde-ac-16/2026-04-29/
LOCATION:Auferstehung Christi Kirche
CATEGORIES:Gottesdienst
END:VEVENT
BEGIN:VEVENT
DTSTART;TZID=Europe/Berlin:20260430T174500
DTEND;TZID=Europe/Berlin:20260430T180000
DTSTAMP:20260424T155157
CREATED:20251216T095452Z
LAST-MODIFIED:20251216T095452Z
UID:10008851-1777571100-1777572000@se-rottweil-hausen-neukirch.de
SUMMARY:Rosenkranz (RC)
DESCRIPTION:
URL:https://se-rottweil-hausen-neukirch.de/termin/rosenkranz-rc-6/2026-04-30/
LOCATION:Ruhe Christi Kirche
CATEGORIES:Gottesdienst
END:VEVENT
BEGIN:VEVENT
DTSTART;TZID=Europe/Berlin:20260430T190000
DTEND;TZID=Europe/Berlin:20260430T200000
DTSTAMP:20260424T155157
CREATED:20251006T075122Z
LAST-MODIFIED:20251006T075122Z
UID:10007962-1777575600-1777579200@se-rottweil-hausen-neukirch.de
SUMMARY:Eucharistiefeier der kroatischen Gemeinde (RC)
DESCRIPTION:
URL:https://se-rottweil-hausen-neukirch.de/termin/eucharistiefeier-der-kroatischen-gemeinde-rc-18/2026-04-30/
LOCATION:Ruhe Christi Kirche
CATEGORIES:Gottesdienst
END:VEVENT
END:VCALENDAR