BEGIN:VCALENDAR
VERSION:2.0
PRODID:-//Seelsorgeeinheit Rottweil-Hausen-Neukirch - ECPv6.15.11//NONSGML v1.0//EN
CALSCALE:GREGORIAN
METHOD:PUBLISH
X-ORIGINAL-URL:https://se-rottweil-hausen-neukirch.de
X-WR-CALDESC:Veranstaltungen für Seelsorgeeinheit Rottweil-Hausen-Neukirch
REFRESH-INTERVAL;VALUE=DURATION:PT1H
X-Robots-Tag:noindex
X-PUBLISHED-TTL:PT1H
BEGIN:VTIMEZONE
TZID:Europe/Berlin
BEGIN:DAYLIGHT
TZOFFSETFROM:+0100
TZOFFSETTO:+0200
TZNAME:CEST
DTSTART:20250330T010000
END:DAYLIGHT
BEGIN:STANDARD
TZOFFSETFROM:+0200
TZOFFSETTO:+0100
TZNAME:CET
DTSTART:20251026T010000
END:STANDARD
BEGIN:DAYLIGHT
TZOFFSETFROM:+0100
TZOFFSETTO:+0200
TZNAME:CEST
DTSTART:20260329T010000
END:DAYLIGHT
BEGIN:STANDARD
TZOFFSETFROM:+0200
TZOFFSETTO:+0100
TZNAME:CET
DTSTART:20261025T010000
END:STANDARD
BEGIN:DAYLIGHT
TZOFFSETFROM:+0100
TZOFFSETTO:+0200
TZNAME:CEST
DTSTART:20270328T010000
END:DAYLIGHT
BEGIN:STANDARD
TZOFFSETFROM:+0200
TZOFFSETTO:+0100
TZNAME:CET
DTSTART:20271031T010000
END:STANDARD
END:VTIMEZONE
BEGIN:VEVENT
DTSTART;TZID=Europe/Berlin:20260424T175500
DTEND;TZID=Europe/Berlin:20260424T182500
DTSTAMP:20260424T155501
CREATED:20260109T075010Z
LAST-MODIFIED:20260109T075010Z
UID:10009185-1777053300-1777055100@se-rottweil-hausen-neukirch.de
SUMMARY:Rosenkranz (AC)
DESCRIPTION:
URL:https://se-rottweil-hausen-neukirch.de/termin/rosenkranz-ac-3/2026-04-24/
LOCATION:Auferstehung Christi Kirche
CATEGORIES:Gottesdienst
END:VEVENT
BEGIN:VEVENT
DTSTART;TZID=Europe/Berlin:20260424T183000
DTEND;TZID=Europe/Berlin:20260424T193000
DTSTAMP:20260424T155501
CREATED:20260109T074857Z
LAST-MODIFIED:20260109T074857Z
UID:10009132-1777055400-1777059000@se-rottweil-hausen-neukirch.de
SUMMARY:Eucharistiefeier (AC)
DESCRIPTION:
URL:https://se-rottweil-hausen-neukirch.de/termin/eucharistiefeier-ac-35/2026-04-24/
LOCATION:Auferstehung Christi Kirche
CATEGORIES:Gottesdienst
END:VEVENT
BEGIN:VEVENT
DTSTART;TZID=Europe/Berlin:20260425T180000
DTEND;TZID=Europe/Berlin:20260425T190000
DTSTAMP:20260424T155501
CREATED:20260109T075121Z
LAST-MODIFIED:20260109T075121Z
UID:10009238-1777140000-1777143600@se-rottweil-hausen-neukirch.de
SUMMARY:Eucharistiefeier (RC)
DESCRIPTION:
URL:https://se-rottweil-hausen-neukirch.de/termin/eucharistiefeier-rc-9/2026-04-25/
LOCATION:Ruhe Christi Kirche
CATEGORIES:Gottesdienst
END:VEVENT
BEGIN:VEVENT
DTSTART;TZID=Europe/Berlin:20260426T110000
DTEND;TZID=Europe/Berlin:20260426T120000
DTSTAMP:20260424T155501
CREATED:20260109T075254Z
LAST-MODIFIED:20260109T075734Z
UID:10009291-1777201200-1777204800@se-rottweil-hausen-neukirch.de
SUMMARY:Eucharistiefeier (AC)
DESCRIPTION:
URL:https://se-rottweil-hausen-neukirch.de/termin/eucharistiefeier-ac-36/2026-04-26/
LOCATION:Auferstehung Christi Kirche
CATEGORIES:Gottesdienst
END:VEVENT
BEGIN:VEVENT
DTSTART;TZID=Europe/Berlin:20260427T174500
DTEND;TZID=Europe/Berlin:20260427T180000
DTSTAMP:20260424T155501
CREATED:20251216T100037Z
LAST-MODIFIED:20251216T100037Z
UID:10008958-1777311900-1777312800@se-rottweil-hausen-neukirch.de
SUMMARY:Rosenkranz (RC)
DESCRIPTION:
URL:https://se-rottweil-hausen-neukirch.de/termin/rosenkranz-rc-7/2026-04-27/
LOCATION:Ruhe Christi Kirche
CATEGORIES:Gottesdienst
END:VEVENT
BEGIN:VEVENT
DTSTART;TZID=Europe/Berlin:20260428T174500
DTEND;TZID=Europe/Berlin:20260428T180000
DTSTAMP:20260424T155501
CREATED:20251216T095146Z
LAST-MODIFIED:20251216T095146Z
UID:10008744-1777398300-1777399200@se-rottweil-hausen-neukirch.de
SUMMARY:Rosenkranz (RC)
DESCRIPTION:
URL:https://se-rottweil-hausen-neukirch.de/termin/rosenkranz-rc-4/2026-04-28/
LOCATION:Ruhe Christi Kirche
CATEGORIES:Gottesdienst
END:VEVENT
BEGIN:VEVENT
DTSTART;TZID=Europe/Berlin:20260428T190000
DTEND;TZID=Europe/Berlin:20260428T200000
DTSTAMP:20260424T155501
CREATED:20260109T074702Z
LAST-MODIFIED:20260109T074702Z
UID:10009080-1777402800-1777406400@se-rottweil-hausen-neukirch.de
SUMMARY:Gebetskreis (AC)
DESCRIPTION:
URL:https://se-rottweil-hausen-neukirch.de/termin/gebetskreis-ac-4/2026-04-28/
LOCATION:Gemeindezentrum Auferstehung Christi\, Krummer Weg 41\, 78628 Rottweil
CATEGORIES:Begegnung
END:VEVENT
BEGIN:VEVENT
DTSTART;TZID=Europe/Berlin:20260429T174500
DTEND;TZID=Europe/Berlin:20260429T180000
DTSTAMP:20260424T155501
CREATED:20251216T095323Z
LAST-MODIFIED:20251216T095323Z
UID:10008797-1777484700-1777485600@se-rottweil-hausen-neukirch.de
SUMMARY:Rosenkranz (RC)
DESCRIPTION:
URL:https://se-rottweil-hausen-neukirch.de/termin/rosenkranz-rc-5/2026-04-29/
LOCATION:Ruhe Christi Kirche
CATEGORIES:Gottesdienst
END:VEVENT
BEGIN:VEVENT
DTSTART;TZID=Europe/Berlin:20260430T174500
DTEND;TZID=Europe/Berlin:20260430T180000
DTSTAMP:20260424T155501
CREATED:20251216T095452Z
LAST-MODIFIED:20251216T095452Z
UID:10008851-1777571100-1777572000@se-rottweil-hausen-neukirch.de
SUMMARY:Rosenkranz (RC)
DESCRIPTION:
URL:https://se-rottweil-hausen-neukirch.de/termin/rosenkranz-rc-6/2026-04-30/
LOCATION:Ruhe Christi Kirche
CATEGORIES:Gottesdienst
END:VEVENT
BEGIN:VEVENT
DTSTART;TZID=Europe/Berlin:20260502T180000
DTEND;TZID=Europe/Berlin:20260502T190000
DTSTAMP:20260424T155501
CREATED:20260109T075121Z
LAST-MODIFIED:20260109T075121Z
UID:10009239-1777744800-1777748400@se-rottweil-hausen-neukirch.de
SUMMARY:Eucharistiefeier (RC)
DESCRIPTION:
URL:https://se-rottweil-hausen-neukirch.de/termin/eucharistiefeier-rc-9/2026-05-02/
LOCATION:Ruhe Christi Kirche
CATEGORIES:Gottesdienst
END:VEVENT
BEGIN:VEVENT
DTSTART;TZID=Europe/Berlin:20260502T180000
DTEND;TZID=Europe/Berlin:20260502T190000
DTSTAMP:20260424T155501
CREATED:20260316T083914Z
LAST-MODIFIED:20260316T083914Z
UID:10009688-1777744800-1777748400@se-rottweil-hausen-neukirch.de
SUMMARY:Eucharistiefeier zum Herz-Mariä-Samstag mit anschließender Beichte (AC)
DESCRIPTION:
URL:https://se-rottweil-hausen-neukirch.de/termin/eucharistiefeier-zum-herz-mariae-samstag-mit-anschliessender-beichte-ac/
LOCATION:Auferstehung Christi Kirche
CATEGORIES:Gottesdienst
END:VEVENT
BEGIN:VEVENT
DTSTART;TZID=Europe/Berlin:20260502T191500
DTEND;TZID=Europe/Berlin:20260502T200000
DTSTAMP:20260424T155501
CREATED:20260414T133957Z
LAST-MODIFIED:20260414T133957Z
UID:10009991-1777749300-1777752000@se-rottweil-hausen-neukirch.de
SUMMARY:Orgelkonzert mit Armin Gaus (RC)
DESCRIPTION:
URL:https://se-rottweil-hausen-neukirch.de/termin/orgelkonzert-mit-armin-gaus-rc/
LOCATION:Ruhe Christi Kirche
CATEGORIES:Kirchenmusik
END:VEVENT
BEGIN:VEVENT
DTSTART;TZID=Europe/Berlin:20260503T110000
DTEND;TZID=Europe/Berlin:20260503T120000
DTSTAMP:20260424T155501
CREATED:20260109T075254Z
LAST-MODIFIED:20260109T075734Z
UID:10009292-1777806000-1777809600@se-rottweil-hausen-neukirch.de
SUMMARY:Eucharistiefeier (AC)
DESCRIPTION:
URL:https://se-rottweil-hausen-neukirch.de/termin/eucharistiefeier-ac-36/2026-05-03/
LOCATION:Auferstehung Christi Kirche
CATEGORIES:Gottesdienst
END:VEVENT
BEGIN:VEVENT
DTSTART;TZID=Europe/Berlin:20260504T174500
DTEND;TZID=Europe/Berlin:20260504T180000
DTSTAMP:20260424T155501
CREATED:20251216T100037Z
LAST-MODIFIED:20251216T100037Z
UID:10008959-1777916700-1777917600@se-rottweil-hausen-neukirch.de
SUMMARY:Rosenkranz (RC)
DESCRIPTION:
URL:https://se-rottweil-hausen-neukirch.de/termin/rosenkranz-rc-7/2026-05-04/
LOCATION:Ruhe Christi Kirche
CATEGORIES:Gottesdienst
END:VEVENT
BEGIN:VEVENT
DTSTART;TZID=Europe/Berlin:20260505T174500
DTEND;TZID=Europe/Berlin:20260505T180000
DTSTAMP:20260424T155501
CREATED:20251216T095146Z
LAST-MODIFIED:20251216T095146Z
UID:10008745-1778003100-1778004000@se-rottweil-hausen-neukirch.de
SUMMARY:Rosenkranz (RC)
DESCRIPTION:
URL:https://se-rottweil-hausen-neukirch.de/termin/rosenkranz-rc-4/2026-05-05/
LOCATION:Ruhe Christi Kirche
CATEGORIES:Gottesdienst
END:VEVENT
BEGIN:VEVENT
DTSTART;TZID=Europe/Berlin:20260505T190000
DTEND;TZID=Europe/Berlin:20260505T200000
DTSTAMP:20260424T155502
CREATED:20260109T074702Z
LAST-MODIFIED:20260109T074702Z
UID:10009081-1778007600-1778011200@se-rottweil-hausen-neukirch.de
SUMMARY:Gebetskreis (AC)
DESCRIPTION:
URL:https://se-rottweil-hausen-neukirch.de/termin/gebetskreis-ac-4/2026-05-05/
LOCATION:Gemeindezentrum Auferstehung Christi\, Krummer Weg 41\, 78628 Rottweil
CATEGORIES:Begegnung
END:VEVENT
BEGIN:VEVENT
DTSTART;TZID=Europe/Berlin:20260506T174500
DTEND;TZID=Europe/Berlin:20260506T180000
DTSTAMP:20260424T155502
CREATED:20251216T095323Z
LAST-MODIFIED:20251216T095323Z
UID:10008798-1778089500-1778090400@se-rottweil-hausen-neukirch.de
SUMMARY:Rosenkranz (RC)
DESCRIPTION:
URL:https://se-rottweil-hausen-neukirch.de/termin/rosenkranz-rc-5/2026-05-06/
LOCATION:Ruhe Christi Kirche
CATEGORIES:Gottesdienst
END:VEVENT
BEGIN:VEVENT
DTSTART;TZID=Europe/Berlin:20260507T174500
DTEND;TZID=Europe/Berlin:20260507T180000
DTSTAMP:20260424T155502
CREATED:20251216T095452Z
LAST-MODIFIED:20251216T095452Z
UID:10008852-1778175900-1778176800@se-rottweil-hausen-neukirch.de
SUMMARY:Rosenkranz (RC)
DESCRIPTION:
URL:https://se-rottweil-hausen-neukirch.de/termin/rosenkranz-rc-6/2026-05-07/
LOCATION:Ruhe Christi Kirche
CATEGORIES:Gottesdienst
END:VEVENT
BEGIN:VEVENT
DTSTART;TZID=Europe/Berlin:20260508T175500
DTEND;TZID=Europe/Berlin:20260508T182500
DTSTAMP:20260424T155502
CREATED:20260109T075010Z
LAST-MODIFIED:20260109T075010Z
UID:10009187-1778262900-1778264700@se-rottweil-hausen-neukirch.de
SUMMARY:Rosenkranz (AC)
DESCRIPTION:
URL:https://se-rottweil-hausen-neukirch.de/termin/rosenkranz-ac-3/2026-05-08/
LOCATION:Auferstehung Christi Kirche
CATEGORIES:Gottesdienst
END:VEVENT
BEGIN:VEVENT
DTSTART;TZID=Europe/Berlin:20260508T183000
DTEND;TZID=Europe/Berlin:20260508T193000
DTSTAMP:20260424T155502
CREATED:20260109T074857Z
LAST-MODIFIED:20260109T074857Z
UID:10009134-1778265000-1778268600@se-rottweil-hausen-neukirch.de
SUMMARY:Eucharistiefeier (AC)
DESCRIPTION:
URL:https://se-rottweil-hausen-neukirch.de/termin/eucharistiefeier-ac-35/2026-05-08/
LOCATION:Auferstehung Christi Kirche
CATEGORIES:Gottesdienst
END:VEVENT
BEGIN:VEVENT
DTSTART;TZID=Europe/Berlin:20260509T180000
DTEND;TZID=Europe/Berlin:20260509T190000
DTSTAMP:20260424T155502
CREATED:20260109T075121Z
LAST-MODIFIED:20260109T075121Z
UID:10009240-1778349600-1778353200@se-rottweil-hausen-neukirch.de
SUMMARY:Eucharistiefeier (RC)
DESCRIPTION:
URL:https://se-rottweil-hausen-neukirch.de/termin/eucharistiefeier-rc-9/2026-05-09/
LOCATION:Ruhe Christi Kirche
CATEGORIES:Gottesdienst
END:VEVENT
BEGIN:VEVENT
DTSTART;TZID=Europe/Berlin:20260510T110000
DTEND;TZID=Europe/Berlin:20260510T120000
DTSTAMP:20260424T155502
CREATED:20260109T075254Z
LAST-MODIFIED:20260109T075734Z
UID:10009293-1778410800-1778414400@se-rottweil-hausen-neukirch.de
SUMMARY:Eucharistiefeier (AC)
DESCRIPTION:
URL:https://se-rottweil-hausen-neukirch.de/termin/eucharistiefeier-ac-36/2026-05-10/
LOCATION:Auferstehung Christi Kirche
CATEGORIES:Gottesdienst
END:VEVENT
BEGIN:VEVENT
DTSTART;TZID=Europe/Berlin:20260510T180000
DTEND;TZID=Europe/Berlin:20260510T180000
DTSTAMP:20260424T155502
CREATED:20260421T095726Z
LAST-MODIFIED:20260421T095752Z
UID:10010000-1778436000-1778436000@se-rottweil-hausen-neukirch.de
SUMMARY:Maiandacht (RC)
DESCRIPTION:
URL:https://se-rottweil-hausen-neukirch.de/termin/maiandacht-rc/
LOCATION:Ruhe Christi Kirche
CATEGORIES:Gottesdienst
END:VEVENT
BEGIN:VEVENT
DTSTART;TZID=Europe/Berlin:20260511T174500
DTEND;TZID=Europe/Berlin:20260511T180000
DTSTAMP:20260424T155502
CREATED:20251216T100037Z
LAST-MODIFIED:20251216T100037Z
UID:10008960-1778521500-1778522400@se-rottweil-hausen-neukirch.de
SUMMARY:Rosenkranz (RC)
DESCRIPTION:
URL:https://se-rottweil-hausen-neukirch.de/termin/rosenkranz-rc-7/2026-05-11/
LOCATION:Ruhe Christi Kirche
CATEGORIES:Gottesdienst
END:VEVENT
BEGIN:VEVENT
DTSTART;TZID=Europe/Berlin:20260512T174500
DTEND;TZID=Europe/Berlin:20260512T180000
DTSTAMP:20260424T155502
CREATED:20251216T095146Z
LAST-MODIFIED:20251216T095146Z
UID:10008746-1778607900-1778608800@se-rottweil-hausen-neukirch.de
SUMMARY:Rosenkranz (RC)
DESCRIPTION:
URL:https://se-rottweil-hausen-neukirch.de/termin/rosenkranz-rc-4/2026-05-12/
LOCATION:Ruhe Christi Kirche
CATEGORIES:Gottesdienst
END:VEVENT
BEGIN:VEVENT
DTSTART;TZID=Europe/Berlin:20260512T190000
DTEND;TZID=Europe/Berlin:20260512T200000
DTSTAMP:20260424T155502
CREATED:20260109T074702Z
LAST-MODIFIED:20260109T074702Z
UID:10009082-1778612400-1778616000@se-rottweil-hausen-neukirch.de
SUMMARY:Gebetskreis (AC)
DESCRIPTION:
URL:https://se-rottweil-hausen-neukirch.de/termin/gebetskreis-ac-4/2026-05-12/
LOCATION:Gemeindezentrum Auferstehung Christi\, Krummer Weg 41\, 78628 Rottweil
CATEGORIES:Begegnung
END:VEVENT
BEGIN:VEVENT
DTSTART;TZID=Europe/Berlin:20260512T200000
DTEND;TZID=Europe/Berlin:20260512T213000
DTSTAMP:20260424T155502
CREATED:20260316T085021Z
LAST-MODIFIED:20260316T085021Z
UID:10009694-1778616000-1778621400@se-rottweil-hausen-neukirch.de
SUMMARY:KGR-Sitzung (AC)
DESCRIPTION:
URL:https://se-rottweil-hausen-neukirch.de/termin/kgr-sitzung-ac/
LOCATION:Gemeindezentrum Auferstehung Christi\, Krummer Weg 41\, 78628 Rottweil
CATEGORIES:Gremien
END:VEVENT
BEGIN:VEVENT
DTSTART;TZID=Europe/Berlin:20260513T143000
DTEND;TZID=Europe/Berlin:20260513T163000
DTSTAMP:20260424T155502
CREATED:20260110T191958Z
LAST-MODIFIED:20260110T191958Z
UID:10009338-1778682600-1778689800@se-rottweil-hausen-neukirch.de
SUMMARY:Seniorenkreis: Komm\, lieber Mai ...
DESCRIPTION:
URL:https://se-rottweil-hausen-neukirch.de/termin/seniorenkreis-komm-lieber-mai/
LOCATION:Gemeindezentrum Auferstehung Christi\, Krummer Weg 41\, 78628 Rottweil
CATEGORIES:Ökumene,Senioren
ATTACH;FMTTYPE=image/png:https://se-rottweil-hausen-neukirch.de/wp-content/uploads/2022/05/Beitragsbild-Logo-Seniorenkreis.png
END:VEVENT
BEGIN:VEVENT
DTSTART;TZID=Europe/Berlin:20260513T174500
DTEND;TZID=Europe/Berlin:20260513T180000
DTSTAMP:20260424T155502
CREATED:20251216T095323Z
LAST-MODIFIED:20251216T095323Z
UID:10008799-1778694300-1778695200@se-rottweil-hausen-neukirch.de
SUMMARY:Rosenkranz (RC)
DESCRIPTION:
URL:https://se-rottweil-hausen-neukirch.de/termin/rosenkranz-rc-5/2026-05-13/
LOCATION:Ruhe Christi Kirche
CATEGORIES:Gottesdienst
END:VEVENT
BEGIN:VEVENT
DTSTART;TZID=Europe/Berlin:20260514T174500
DTEND;TZID=Europe/Berlin:20260514T180000
DTSTAMP:20260424T155502
CREATED:20251216T095452Z
LAST-MODIFIED:20251216T095452Z
UID:10008853-1778780700-1778781600@se-rottweil-hausen-neukirch.de
SUMMARY:Rosenkranz (RC)
DESCRIPTION:
URL:https://se-rottweil-hausen-neukirch.de/termin/rosenkranz-rc-6/2026-05-14/
LOCATION:Ruhe Christi Kirche
CATEGORIES:Gottesdienst
END:VEVENT
END:VCALENDAR