BEGIN:VCALENDAR
VERSION:2.0
PRODID:-//Seelsorgeeinheit Rottweil-Hausen-Neukirch - ECPv6.15.11//NONSGML v1.0//EN
CALSCALE:GREGORIAN
METHOD:PUBLISH
X-ORIGINAL-URL:https://se-rottweil-hausen-neukirch.de
X-WR-CALDESC:Veranstaltungen für Seelsorgeeinheit Rottweil-Hausen-Neukirch
REFRESH-INTERVAL;VALUE=DURATION:PT1H
X-Robots-Tag:noindex
X-PUBLISHED-TTL:PT1H
BEGIN:VTIMEZONE
TZID:Europe/Berlin
BEGIN:DAYLIGHT
TZOFFSETFROM:+0100
TZOFFSETTO:+0200
TZNAME:CEST
DTSTART:20250330T010000
END:DAYLIGHT
BEGIN:STANDARD
TZOFFSETFROM:+0200
TZOFFSETTO:+0100
TZNAME:CET
DTSTART:20251026T010000
END:STANDARD
BEGIN:DAYLIGHT
TZOFFSETFROM:+0100
TZOFFSETTO:+0200
TZNAME:CEST
DTSTART:20260329T010000
END:DAYLIGHT
BEGIN:STANDARD
TZOFFSETFROM:+0200
TZOFFSETTO:+0100
TZNAME:CET
DTSTART:20261025T010000
END:STANDARD
BEGIN:DAYLIGHT
TZOFFSETFROM:+0100
TZOFFSETTO:+0200
TZNAME:CEST
DTSTART:20270328T010000
END:DAYLIGHT
BEGIN:STANDARD
TZOFFSETFROM:+0200
TZOFFSETTO:+0100
TZNAME:CET
DTSTART:20271031T010000
END:STANDARD
BEGIN:DAYLIGHT
TZOFFSETFROM:+0100
TZOFFSETTO:+0200
TZNAME:CEST
DTSTART:20280326T010000
END:DAYLIGHT
BEGIN:STANDARD
TZOFFSETFROM:+0200
TZOFFSETTO:+0100
TZNAME:CET
DTSTART:20281029T010000
END:STANDARD
END:VTIMEZONE
BEGIN:VEVENT
DTSTART;TZID=Europe/Berlin:20260719T110000
DTEND;TZID=Europe/Berlin:20260719T120000
DTSTAMP:20260424T173349
CREATED:20260122T074203Z
LAST-MODIFIED:20260122T074203Z
UID:10009381-1784458800-1784462400@se-rottweil-hausen-neukirch.de
SUMMARY:Eucharistiefeier der italienischen Gemeinde (KK)
DESCRIPTION:
URL:https://se-rottweil-hausen-neukirch.de/termin/eucharistiefeier-der-italienischen-gemeinde-kk-20/2026-07-19/
LOCATION:Kapellenkirche\, Kapellenhof 1\, Rottweil\, 78628
CATEGORIES:Gottesdienst
END:VEVENT
BEGIN:VEVENT
DTSTART;TZID=Europe/Berlin:20260726T110000
DTEND;TZID=Europe/Berlin:20260726T120000
DTSTAMP:20260424T173349
CREATED:20260122T074203Z
LAST-MODIFIED:20260122T074203Z
UID:10009382-1785063600-1785067200@se-rottweil-hausen-neukirch.de
SUMMARY:Eucharistiefeier der italienischen Gemeinde (KK)
DESCRIPTION:
URL:https://se-rottweil-hausen-neukirch.de/termin/eucharistiefeier-der-italienischen-gemeinde-kk-20/2026-07-26/
LOCATION:Kapellenkirche\, Kapellenhof 1\, Rottweil\, 78628
CATEGORIES:Gottesdienst
END:VEVENT
BEGIN:VEVENT
DTSTART;TZID=Europe/Berlin:20260802T110000
DTEND;TZID=Europe/Berlin:20260802T120000
DTSTAMP:20260424T173349
CREATED:20260122T074203Z
LAST-MODIFIED:20260122T074203Z
UID:10009383-1785668400-1785672000@se-rottweil-hausen-neukirch.de
SUMMARY:Eucharistiefeier der italienischen Gemeinde (KK)
DESCRIPTION:
URL:https://se-rottweil-hausen-neukirch.de/termin/eucharistiefeier-der-italienischen-gemeinde-kk-20/2026-08-02/
LOCATION:Kapellenkirche\, Kapellenhof 1\, Rottweil\, 78628
CATEGORIES:Gottesdienst
END:VEVENT
BEGIN:VEVENT
DTSTART;TZID=Europe/Berlin:20260809T110000
DTEND;TZID=Europe/Berlin:20260809T120000
DTSTAMP:20260424T173349
CREATED:20260122T074203Z
LAST-MODIFIED:20260122T074203Z
UID:10009384-1786273200-1786276800@se-rottweil-hausen-neukirch.de
SUMMARY:Eucharistiefeier der italienischen Gemeinde (KK)
DESCRIPTION:
URL:https://se-rottweil-hausen-neukirch.de/termin/eucharistiefeier-der-italienischen-gemeinde-kk-20/2026-08-09/
LOCATION:Kapellenkirche\, Kapellenhof 1\, Rottweil\, 78628
CATEGORIES:Gottesdienst
END:VEVENT
BEGIN:VEVENT
DTSTART;TZID=Europe/Berlin:20260816T110000
DTEND;TZID=Europe/Berlin:20260816T120000
DTSTAMP:20260424T173349
CREATED:20260122T074203Z
LAST-MODIFIED:20260122T074203Z
UID:10009385-1786878000-1786881600@se-rottweil-hausen-neukirch.de
SUMMARY:Eucharistiefeier der italienischen Gemeinde (KK)
DESCRIPTION:
URL:https://se-rottweil-hausen-neukirch.de/termin/eucharistiefeier-der-italienischen-gemeinde-kk-20/2026-08-16/
LOCATION:Kapellenkirche\, Kapellenhof 1\, Rottweil\, 78628
CATEGORIES:Gottesdienst
END:VEVENT
BEGIN:VEVENT
DTSTART;TZID=Europe/Berlin:20260823T110000
DTEND;TZID=Europe/Berlin:20260823T120000
DTSTAMP:20260424T173349
CREATED:20260122T074203Z
LAST-MODIFIED:20260122T074203Z
UID:10009386-1787482800-1787486400@se-rottweil-hausen-neukirch.de
SUMMARY:Eucharistiefeier der italienischen Gemeinde (KK)
DESCRIPTION:
URL:https://se-rottweil-hausen-neukirch.de/termin/eucharistiefeier-der-italienischen-gemeinde-kk-20/2026-08-23/
LOCATION:Kapellenkirche\, Kapellenhof 1\, Rottweil\, 78628
CATEGORIES:Gottesdienst
END:VEVENT
BEGIN:VEVENT
DTSTART;TZID=Europe/Berlin:20260830T110000
DTEND;TZID=Europe/Berlin:20260830T120000
DTSTAMP:20260424T173349
CREATED:20260122T074203Z
LAST-MODIFIED:20260122T074203Z
UID:10009387-1788087600-1788091200@se-rottweil-hausen-neukirch.de
SUMMARY:Eucharistiefeier der italienischen Gemeinde (KK)
DESCRIPTION:
URL:https://se-rottweil-hausen-neukirch.de/termin/eucharistiefeier-der-italienischen-gemeinde-kk-20/2026-08-30/
LOCATION:Kapellenkirche\, Kapellenhof 1\, Rottweil\, 78628
CATEGORIES:Gottesdienst
END:VEVENT
BEGIN:VEVENT
DTSTART;TZID=Europe/Berlin:20260906T110000
DTEND;TZID=Europe/Berlin:20260906T120000
DTSTAMP:20260424T173349
CREATED:20260122T074203Z
LAST-MODIFIED:20260122T074203Z
UID:10009388-1788692400-1788696000@se-rottweil-hausen-neukirch.de
SUMMARY:Eucharistiefeier der italienischen Gemeinde (KK)
DESCRIPTION:
URL:https://se-rottweil-hausen-neukirch.de/termin/eucharistiefeier-der-italienischen-gemeinde-kk-20/2026-09-06/
LOCATION:Kapellenkirche\, Kapellenhof 1\, Rottweil\, 78628
CATEGORIES:Gottesdienst
END:VEVENT
BEGIN:VEVENT
DTSTART;TZID=Europe/Berlin:20260913T110000
DTEND;TZID=Europe/Berlin:20260913T120000
DTSTAMP:20260424T173349
CREATED:20260122T074203Z
LAST-MODIFIED:20260122T074203Z
UID:10009389-1789297200-1789300800@se-rottweil-hausen-neukirch.de
SUMMARY:Eucharistiefeier der italienischen Gemeinde (KK)
DESCRIPTION:
URL:https://se-rottweil-hausen-neukirch.de/termin/eucharistiefeier-der-italienischen-gemeinde-kk-20/2026-09-13/
LOCATION:Kapellenkirche\, Kapellenhof 1\, Rottweil\, 78628
CATEGORIES:Gottesdienst
END:VEVENT
BEGIN:VEVENT
DTSTART;TZID=Europe/Berlin:20260920T110000
DTEND;TZID=Europe/Berlin:20260920T120000
DTSTAMP:20260424T173349
CREATED:20260122T074203Z
LAST-MODIFIED:20260122T074203Z
UID:10009390-1789902000-1789905600@se-rottweil-hausen-neukirch.de
SUMMARY:Eucharistiefeier der italienischen Gemeinde (KK)
DESCRIPTION:
URL:https://se-rottweil-hausen-neukirch.de/termin/eucharistiefeier-der-italienischen-gemeinde-kk-20/2026-09-20/
LOCATION:Kapellenkirche\, Kapellenhof 1\, Rottweil\, 78628
CATEGORIES:Gottesdienst
END:VEVENT
BEGIN:VEVENT
DTSTART;TZID=Europe/Berlin:20260927T110000
DTEND;TZID=Europe/Berlin:20260927T120000
DTSTAMP:20260424T173349
CREATED:20260122T074203Z
LAST-MODIFIED:20260122T074203Z
UID:10009391-1790506800-1790510400@se-rottweil-hausen-neukirch.de
SUMMARY:Eucharistiefeier der italienischen Gemeinde (KK)
DESCRIPTION:
URL:https://se-rottweil-hausen-neukirch.de/termin/eucharistiefeier-der-italienischen-gemeinde-kk-20/2026-09-27/
LOCATION:Kapellenkirche\, Kapellenhof 1\, Rottweil\, 78628
CATEGORIES:Gottesdienst
END:VEVENT
BEGIN:VEVENT
DTSTART;TZID=Europe/Berlin:20261004T110000
DTEND;TZID=Europe/Berlin:20261004T120000
DTSTAMP:20260424T173349
CREATED:20260122T074203Z
LAST-MODIFIED:20260122T074203Z
UID:10009392-1791111600-1791115200@se-rottweil-hausen-neukirch.de
SUMMARY:Eucharistiefeier der italienischen Gemeinde (KK)
DESCRIPTION:
URL:https://se-rottweil-hausen-neukirch.de/termin/eucharistiefeier-der-italienischen-gemeinde-kk-20/2026-10-04/
LOCATION:Kapellenkirche\, Kapellenhof 1\, Rottweil\, 78628
CATEGORIES:Gottesdienst
END:VEVENT
BEGIN:VEVENT
DTSTART;TZID=Europe/Berlin:20261011T110000
DTEND;TZID=Europe/Berlin:20261011T120000
DTSTAMP:20260424T173349
CREATED:20260122T074203Z
LAST-MODIFIED:20260122T074203Z
UID:10009393-1791716400-1791720000@se-rottweil-hausen-neukirch.de
SUMMARY:Eucharistiefeier der italienischen Gemeinde (KK)
DESCRIPTION:
URL:https://se-rottweil-hausen-neukirch.de/termin/eucharistiefeier-der-italienischen-gemeinde-kk-20/2026-10-11/
LOCATION:Kapellenkirche\, Kapellenhof 1\, Rottweil\, 78628
CATEGORIES:Gottesdienst
END:VEVENT
BEGIN:VEVENT
DTSTART;TZID=Europe/Berlin:20261018T110000
DTEND;TZID=Europe/Berlin:20261018T120000
DTSTAMP:20260424T173349
CREATED:20260122T074203Z
LAST-MODIFIED:20260122T074203Z
UID:10009394-1792321200-1792324800@se-rottweil-hausen-neukirch.de
SUMMARY:Eucharistiefeier der italienischen Gemeinde (KK)
DESCRIPTION:
URL:https://se-rottweil-hausen-neukirch.de/termin/eucharistiefeier-der-italienischen-gemeinde-kk-20/2026-10-18/
LOCATION:Kapellenkirche\, Kapellenhof 1\, Rottweil\, 78628
CATEGORIES:Gottesdienst
END:VEVENT
BEGIN:VEVENT
DTSTART;TZID=Europe/Berlin:20261025T110000
DTEND;TZID=Europe/Berlin:20261025T120000
DTSTAMP:20260424T173349
CREATED:20260122T074203Z
LAST-MODIFIED:20260122T074203Z
UID:10009395-1792926000-1792929600@se-rottweil-hausen-neukirch.de
SUMMARY:Eucharistiefeier der italienischen Gemeinde (KK)
DESCRIPTION:
URL:https://se-rottweil-hausen-neukirch.de/termin/eucharistiefeier-der-italienischen-gemeinde-kk-20/2026-10-25/
LOCATION:Kapellenkirche\, Kapellenhof 1\, Rottweil\, 78628
CATEGORIES:Gottesdienst
END:VEVENT
BEGIN:VEVENT
DTSTART;TZID=Europe/Berlin:20261101T110000
DTEND;TZID=Europe/Berlin:20261101T120000
DTSTAMP:20260424T173349
CREATED:20260122T074203Z
LAST-MODIFIED:20260122T074203Z
UID:10009396-1793530800-1793534400@se-rottweil-hausen-neukirch.de
SUMMARY:Eucharistiefeier der italienischen Gemeinde (KK)
DESCRIPTION:
URL:https://se-rottweil-hausen-neukirch.de/termin/eucharistiefeier-der-italienischen-gemeinde-kk-20/2026-11-01/
LOCATION:Kapellenkirche\, Kapellenhof 1\, Rottweil\, 78628
CATEGORIES:Gottesdienst
END:VEVENT
BEGIN:VEVENT
DTSTART;TZID=Europe/Berlin:20261108T110000
DTEND;TZID=Europe/Berlin:20261108T120000
DTSTAMP:20260424T173349
CREATED:20260122T074203Z
LAST-MODIFIED:20260122T074203Z
UID:10009397-1794135600-1794139200@se-rottweil-hausen-neukirch.de
SUMMARY:Eucharistiefeier der italienischen Gemeinde (KK)
DESCRIPTION:
URL:https://se-rottweil-hausen-neukirch.de/termin/eucharistiefeier-der-italienischen-gemeinde-kk-20/2026-11-08/
LOCATION:Kapellenkirche\, Kapellenhof 1\, Rottweil\, 78628
CATEGORIES:Gottesdienst
END:VEVENT
BEGIN:VEVENT
DTSTART;TZID=Europe/Berlin:20261115T110000
DTEND;TZID=Europe/Berlin:20261115T120000
DTSTAMP:20260424T173349
CREATED:20260122T074203Z
LAST-MODIFIED:20260122T074203Z
UID:10009398-1794740400-1794744000@se-rottweil-hausen-neukirch.de
SUMMARY:Eucharistiefeier der italienischen Gemeinde (KK)
DESCRIPTION:
URL:https://se-rottweil-hausen-neukirch.de/termin/eucharistiefeier-der-italienischen-gemeinde-kk-20/2026-11-15/
LOCATION:Kapellenkirche\, Kapellenhof 1\, Rottweil\, 78628
CATEGORIES:Gottesdienst
END:VEVENT
BEGIN:VEVENT
DTSTART;TZID=Europe/Berlin:20261122T110000
DTEND;TZID=Europe/Berlin:20261122T120000
DTSTAMP:20260424T173349
CREATED:20260122T074203Z
LAST-MODIFIED:20260122T074203Z
UID:10009399-1795345200-1795348800@se-rottweil-hausen-neukirch.de
SUMMARY:Eucharistiefeier der italienischen Gemeinde (KK)
DESCRIPTION:
URL:https://se-rottweil-hausen-neukirch.de/termin/eucharistiefeier-der-italienischen-gemeinde-kk-20/2026-11-22/
LOCATION:Kapellenkirche\, Kapellenhof 1\, Rottweil\, 78628
CATEGORIES:Gottesdienst
END:VEVENT
BEGIN:VEVENT
DTSTART;TZID=Europe/Berlin:20261129T110000
DTEND;TZID=Europe/Berlin:20261129T120000
DTSTAMP:20260424T173349
CREATED:20260122T074203Z
LAST-MODIFIED:20260122T074203Z
UID:10009400-1795950000-1795953600@se-rottweil-hausen-neukirch.de
SUMMARY:Eucharistiefeier der italienischen Gemeinde (KK)
DESCRIPTION:
URL:https://se-rottweil-hausen-neukirch.de/termin/eucharistiefeier-der-italienischen-gemeinde-kk-20/2026-11-29/
LOCATION:Kapellenkirche\, Kapellenhof 1\, Rottweil\, 78628
CATEGORIES:Gottesdienst
END:VEVENT
BEGIN:VEVENT
DTSTART;TZID=Europe/Berlin:20261206T110000
DTEND;TZID=Europe/Berlin:20261206T120000
DTSTAMP:20260424T173349
CREATED:20260122T074203Z
LAST-MODIFIED:20260122T074203Z
UID:10009401-1796554800-1796558400@se-rottweil-hausen-neukirch.de
SUMMARY:Eucharistiefeier der italienischen Gemeinde (KK)
DESCRIPTION:
URL:https://se-rottweil-hausen-neukirch.de/termin/eucharistiefeier-der-italienischen-gemeinde-kk-20/2026-12-06/
LOCATION:Kapellenkirche\, Kapellenhof 1\, Rottweil\, 78628
CATEGORIES:Gottesdienst
END:VEVENT
BEGIN:VEVENT
DTSTART;TZID=Europe/Berlin:20261213T110000
DTEND;TZID=Europe/Berlin:20261213T120000
DTSTAMP:20260424T173349
CREATED:20260122T074203Z
LAST-MODIFIED:20260122T074203Z
UID:10009402-1797159600-1797163200@se-rottweil-hausen-neukirch.de
SUMMARY:Eucharistiefeier der italienischen Gemeinde (KK)
DESCRIPTION:
URL:https://se-rottweil-hausen-neukirch.de/termin/eucharistiefeier-der-italienischen-gemeinde-kk-20/2026-12-13/
LOCATION:Kapellenkirche\, Kapellenhof 1\, Rottweil\, 78628
CATEGORIES:Gottesdienst
END:VEVENT
BEGIN:VEVENT
DTSTART;TZID=Europe/Berlin:20261220T110000
DTEND;TZID=Europe/Berlin:20261220T120000
DTSTAMP:20260424T173349
CREATED:20260122T074203Z
LAST-MODIFIED:20260122T074203Z
UID:10009403-1797764400-1797768000@se-rottweil-hausen-neukirch.de
SUMMARY:Eucharistiefeier der italienischen Gemeinde (KK)
DESCRIPTION:
URL:https://se-rottweil-hausen-neukirch.de/termin/eucharistiefeier-der-italienischen-gemeinde-kk-20/2026-12-20/
LOCATION:Kapellenkirche\, Kapellenhof 1\, Rottweil\, 78628
CATEGORIES:Gottesdienst
END:VEVENT
BEGIN:VEVENT
DTSTART;TZID=Europe/Berlin:20261227T110000
DTEND;TZID=Europe/Berlin:20261227T120000
DTSTAMP:20260424T173349
CREATED:20260122T074203Z
LAST-MODIFIED:20260122T074203Z
UID:10009404-1798369200-1798372800@se-rottweil-hausen-neukirch.de
SUMMARY:Eucharistiefeier der italienischen Gemeinde (KK)
DESCRIPTION:
URL:https://se-rottweil-hausen-neukirch.de/termin/eucharistiefeier-der-italienischen-gemeinde-kk-20/2026-12-27/
LOCATION:Kapellenkirche\, Kapellenhof 1\, Rottweil\, 78628
CATEGORIES:Gottesdienst
END:VEVENT
BEGIN:VEVENT
DTSTART;TZID=Europe/Berlin:20270103T110000
DTEND;TZID=Europe/Berlin:20270103T120000
DTSTAMP:20260424T173349
CREATED:20260122T074203Z
LAST-MODIFIED:20260122T074203Z
UID:10009405-1798974000-1798977600@se-rottweil-hausen-neukirch.de
SUMMARY:Eucharistiefeier der italienischen Gemeinde (KK)
DESCRIPTION:
URL:https://se-rottweil-hausen-neukirch.de/termin/eucharistiefeier-der-italienischen-gemeinde-kk-20/2027-01-03/
LOCATION:Kapellenkirche\, Kapellenhof 1\, Rottweil\, 78628
CATEGORIES:Gottesdienst
END:VEVENT
BEGIN:VEVENT
DTSTART;TZID=Europe/Berlin:20270110T110000
DTEND;TZID=Europe/Berlin:20270110T120000
DTSTAMP:20260424T173349
CREATED:20260122T074203Z
LAST-MODIFIED:20260122T074203Z
UID:10009406-1799578800-1799582400@se-rottweil-hausen-neukirch.de
SUMMARY:Eucharistiefeier der italienischen Gemeinde (KK)
DESCRIPTION:
URL:https://se-rottweil-hausen-neukirch.de/termin/eucharistiefeier-der-italienischen-gemeinde-kk-20/2027-01-10/
LOCATION:Kapellenkirche\, Kapellenhof 1\, Rottweil\, 78628
CATEGORIES:Gottesdienst
END:VEVENT
BEGIN:VEVENT
DTSTART;TZID=Europe/Berlin:20270117T110000
DTEND;TZID=Europe/Berlin:20270117T120000
DTSTAMP:20260424T173349
CREATED:20260122T074203Z
LAST-MODIFIED:20260122T074203Z
UID:10009407-1800183600-1800187200@se-rottweil-hausen-neukirch.de
SUMMARY:Eucharistiefeier der italienischen Gemeinde (KK)
DESCRIPTION:
URL:https://se-rottweil-hausen-neukirch.de/termin/eucharistiefeier-der-italienischen-gemeinde-kk-20/2027-01-17/
LOCATION:Kapellenkirche\, Kapellenhof 1\, Rottweil\, 78628
CATEGORIES:Gottesdienst
END:VEVENT
BEGIN:VEVENT
DTSTART;TZID=Europe/Berlin:20270124T110000
DTEND;TZID=Europe/Berlin:20270124T120000
DTSTAMP:20260424T173349
CREATED:20260122T074203Z
LAST-MODIFIED:20260122T074203Z
UID:10009408-1800788400-1800792000@se-rottweil-hausen-neukirch.de
SUMMARY:Eucharistiefeier der italienischen Gemeinde (KK)
DESCRIPTION:
URL:https://se-rottweil-hausen-neukirch.de/termin/eucharistiefeier-der-italienischen-gemeinde-kk-20/2027-01-24/
LOCATION:Kapellenkirche\, Kapellenhof 1\, Rottweil\, 78628
CATEGORIES:Gottesdienst
END:VEVENT
BEGIN:VEVENT
DTSTART;TZID=Europe/Berlin:20270131T110000
DTEND;TZID=Europe/Berlin:20270131T120000
DTSTAMP:20260424T173349
CREATED:20260122T074203Z
LAST-MODIFIED:20260122T074203Z
UID:10009409-1801393200-1801396800@se-rottweil-hausen-neukirch.de
SUMMARY:Eucharistiefeier der italienischen Gemeinde (KK)
DESCRIPTION:
URL:https://se-rottweil-hausen-neukirch.de/termin/eucharistiefeier-der-italienischen-gemeinde-kk-20/2027-01-31/
LOCATION:Kapellenkirche\, Kapellenhof 1\, Rottweil\, 78628
CATEGORIES:Gottesdienst
END:VEVENT
END:VCALENDAR