BEGIN:VCALENDAR
VERSION:2.0
PRODID:-//Seelsorgeeinheit Rottweil-Hausen-Neukirch - ECPv6.15.11//NONSGML v1.0//EN
CALSCALE:GREGORIAN
METHOD:PUBLISH
X-ORIGINAL-URL:https://se-rottweil-hausen-neukirch.de
X-WR-CALDESC:Veranstaltungen für Seelsorgeeinheit Rottweil-Hausen-Neukirch
REFRESH-INTERVAL;VALUE=DURATION:PT1H
X-Robots-Tag:noindex
X-PUBLISHED-TTL:PT1H
BEGIN:VTIMEZONE
TZID:Europe/Berlin
BEGIN:DAYLIGHT
TZOFFSETFROM:+0100
TZOFFSETTO:+0200
TZNAME:CEST
DTSTART:20240331T010000
END:DAYLIGHT
BEGIN:STANDARD
TZOFFSETFROM:+0200
TZOFFSETTO:+0100
TZNAME:CET
DTSTART:20241027T010000
END:STANDARD
BEGIN:DAYLIGHT
TZOFFSETFROM:+0100
TZOFFSETTO:+0200
TZNAME:CEST
DTSTART:20250330T010000
END:DAYLIGHT
BEGIN:STANDARD
TZOFFSETFROM:+0200
TZOFFSETTO:+0100
TZNAME:CET
DTSTART:20251026T010000
END:STANDARD
BEGIN:DAYLIGHT
TZOFFSETFROM:+0100
TZOFFSETTO:+0200
TZNAME:CEST
DTSTART:20260329T010000
END:DAYLIGHT
BEGIN:STANDARD
TZOFFSETFROM:+0200
TZOFFSETTO:+0100
TZNAME:CET
DTSTART:20261025T010000
END:STANDARD
BEGIN:DAYLIGHT
TZOFFSETFROM:+0100
TZOFFSETTO:+0200
TZNAME:CEST
DTSTART:20270328T010000
END:DAYLIGHT
BEGIN:STANDARD
TZOFFSETFROM:+0200
TZOFFSETTO:+0100
TZNAME:CET
DTSTART:20271031T010000
END:STANDARD
END:VTIMEZONE
BEGIN:VEVENT
DTSTART;TZID=Europe/Berlin:20260421T200000
DTEND;TZID=Europe/Berlin:20260421T213000
DTSTAMP:20260426T002137
CREATED:20260113T123907Z
LAST-MODIFIED:20260410T175650Z
UID:10009353-1776801600-1776807000@se-rottweil-hausen-neukirch.de
SUMMARY:KGR-Sitzung Heilig Kreuz (Kolpinghaus)
DESCRIPTION:
URL:https://se-rottweil-hausen-neukirch.de/termin/kgr-sitzung-heilig-kreuz-kolpinghaus/
LOCATION:Gemeindehaus Heilig Kreuz
CATEGORIES:Gremien
END:VEVENT
BEGIN:VEVENT
DTSTART;TZID=Europe/Berlin:20260317T200000
DTEND;TZID=Europe/Berlin:20260317T213000
DTSTAMP:20260426T002137
CREATED:20251119T112038Z
LAST-MODIFIED:20260312T162636Z
UID:10008471-1773777600-1773783000@se-rottweil-hausen-neukirch.de
SUMMARY:KGR-Sitzung Hl. Kreuz (Kolpinghaus)
DESCRIPTION:
URL:https://se-rottweil-hausen-neukirch.de/termin/kgr-sitzung-hl-kreuz-kolpinghaus-5/
LOCATION:Gemeindehaus Heilig Kreuz
CATEGORIES:Gremien
END:VEVENT
BEGIN:VEVENT
DTSTART;TZID=Europe/Berlin:20260224T200000
DTEND;TZID=Europe/Berlin:20260224T213000
DTSTAMP:20260426T002137
CREATED:20251119T111320Z
LAST-MODIFIED:20260215T065441Z
UID:10008468-1771963200-1771968600@se-rottweil-hausen-neukirch.de
SUMMARY:KGR-Sitzung Hl. Kreuz (Kolpinghaus)
DESCRIPTION:
URL:https://se-rottweil-hausen-neukirch.de/termin/kgr-sitzung-hl-kreuz-kolpinghaus-4/
LOCATION:Gemeindehaus Heilig Kreuz
CATEGORIES:Gremien
END:VEVENT
BEGIN:VEVENT
DTSTART;TZID=Europe/Berlin:20260120T200000
DTEND;TZID=Europe/Berlin:20260120T213000
DTSTAMP:20260426T002137
CREATED:20251030T163103Z
LAST-MODIFIED:20260111T104925Z
UID:10008452-1768939200-1768944600@se-rottweil-hausen-neukirch.de
SUMMARY:KGR-Sitzung Hl. Kreuz (Kolpinghaus)
DESCRIPTION:
URL:https://se-rottweil-hausen-neukirch.de/termin/kgr-sitzung-hl-kreuz-kolpinghaus-3/
LOCATION:Gemeindehaus Heilig Kreuz
CATEGORIES:Gremien
END:VEVENT
BEGIN:VEVENT
DTSTART;TZID=Europe/Berlin:20251118T200000
DTEND;TZID=Europe/Berlin:20251118T213000
DTSTAMP:20260426T002137
CREATED:20250801T074931Z
LAST-MODIFIED:20251111T113750Z
UID:10007822-1763496000-1763501400@se-rottweil-hausen-neukirch.de
SUMMARY:KGR-Sitzung Hl. Kreuz (Kolpinghaus)
DESCRIPTION:
URL:https://se-rottweil-hausen-neukirch.de/termin/kgr-sitzung-hl-kreuz-kolpinghaus-2/
LOCATION:Gemeindehaus Heilig Kreuz
CATEGORIES:Gremien
END:VEVENT
BEGIN:VEVENT
DTSTART;TZID=Europe/Berlin:20251021T200000
DTEND;TZID=Europe/Berlin:20251021T213000
DTSTAMP:20260426T002137
CREATED:20250801T072404Z
LAST-MODIFIED:20251010T103601Z
UID:10007815-1761076800-1761082200@se-rottweil-hausen-neukirch.de
SUMMARY:KGR-Sitzung Hl. Kreuz (Kolpinghaus)
DESCRIPTION:
URL:https://se-rottweil-hausen-neukirch.de/termin/kgr-sitzung-hl-kreuz-kolpinghaus/
LOCATION:Gemeindehaus Heilig Kreuz
CATEGORIES:Gremien
END:VEVENT
BEGIN:VEVENT
DTSTART;TZID=Europe/Berlin:20250916T200000
DTEND;TZID=Europe/Berlin:20250916T213000
DTSTAMP:20260426T002137
CREATED:20250724T151557Z
LAST-MODIFIED:20250909T073321Z
UID:10007797-1758052800-1758058200@se-rottweil-hausen-neukirch.de
SUMMARY:KGR-Sitzung (Kolpinghaus)
DESCRIPTION:
URL:https://se-rottweil-hausen-neukirch.de/termin/kgr-sitzung-kolpinghaus/
LOCATION:Gemeindehaus Heilig Kreuz
CATEGORIES:Gremien
END:VEVENT
END:VCALENDAR