BEGIN:VCALENDAR
VERSION:2.0
PRODID:-//Seelsorgeeinheit Rottweil-Hausen-Neukirch - ECPv6.15.11//NONSGML v1.0//EN
CALSCALE:GREGORIAN
METHOD:PUBLISH
X-WR-CALNAME:Seelsorgeeinheit Rottweil-Hausen-Neukirch
X-ORIGINAL-URL:https://se-rottweil-hausen-neukirch.de
X-WR-CALDESC:Veranstaltungen für Seelsorgeeinheit Rottweil-Hausen-Neukirch
REFRESH-INTERVAL;VALUE=DURATION:PT1H
X-Robots-Tag:noindex
X-PUBLISHED-TTL:PT1H
BEGIN:VTIMEZONE
TZID:Europe/Berlin
BEGIN:DAYLIGHT
TZOFFSETFROM:+0100
TZOFFSETTO:+0200
TZNAME:CEST
DTSTART:20250330T010000
END:DAYLIGHT
BEGIN:STANDARD
TZOFFSETFROM:+0200
TZOFFSETTO:+0100
TZNAME:CET
DTSTART:20251026T010000
END:STANDARD
BEGIN:DAYLIGHT
TZOFFSETFROM:+0100
TZOFFSETTO:+0200
TZNAME:CEST
DTSTART:20260329T010000
END:DAYLIGHT
BEGIN:STANDARD
TZOFFSETFROM:+0200
TZOFFSETTO:+0100
TZNAME:CET
DTSTART:20261025T010000
END:STANDARD
BEGIN:DAYLIGHT
TZOFFSETFROM:+0100
TZOFFSETTO:+0200
TZNAME:CEST
DTSTART:20270328T010000
END:DAYLIGHT
BEGIN:STANDARD
TZOFFSETFROM:+0200
TZOFFSETTO:+0100
TZNAME:CET
DTSTART:20271031T010000
END:STANDARD
END:VTIMEZONE
BEGIN:VEVENT
DTSTART;TZID=Europe/Berlin:20260519T200000
DTEND;TZID=Europe/Berlin:20260519T213000
DTSTAMP:20260425T230650
CREATED:20260316T085832Z
LAST-MODIFIED:20260316T085832Z
UID:10009698-1779220800-1779226200@se-rottweil-hausen-neukirch.de
SUMMARY:KGR-Sitzung (HK)
DESCRIPTION:
URL:https://se-rottweil-hausen-neukirch.de/termin/kgr-sitzung-hk/
LOCATION:Gemeindehaus Heilig Kreuz
CATEGORIES:Gremien
END:VEVENT
BEGIN:VEVENT
DTSTART;TZID=Europe/Berlin:20260616T200000
DTEND;TZID=Europe/Berlin:20260616T213000
DTSTAMP:20260425T230650
CREATED:20260327T102853Z
LAST-MODIFIED:20260327T102853Z
UID:10009965-1781640000-1781645400@se-rottweil-hausen-neukirch.de
SUMMARY:KGR-Sitzung im Kolpinghaus (HK)
DESCRIPTION:
URL:https://se-rottweil-hausen-neukirch.de/termin/kgr-sitzung-im-kolpinghaus-hk/
LOCATION:Gemeindehaus Heilig Kreuz
CATEGORIES:Gremien
END:VEVENT
END:VCALENDAR