BEGIN:VCALENDAR
VERSION:2.0
PRODID:-//Seelsorgeeinheit Rottweil-Hausen-Neukirch - ECPv6.15.11//NONSGML v1.0//EN
CALSCALE:GREGORIAN
METHOD:PUBLISH
X-ORIGINAL-URL:https://se-rottweil-hausen-neukirch.de
X-WR-CALDESC:Veranstaltungen für Seelsorgeeinheit Rottweil-Hausen-Neukirch
REFRESH-INTERVAL;VALUE=DURATION:PT1H
X-Robots-Tag:noindex
X-PUBLISHED-TTL:PT1H
BEGIN:VTIMEZONE
TZID:Europe/Berlin
BEGIN:DAYLIGHT
TZOFFSETFROM:+0100
TZOFFSETTO:+0200
TZNAME:CEST
DTSTART:20250330T010000
END:DAYLIGHT
BEGIN:STANDARD
TZOFFSETFROM:+0200
TZOFFSETTO:+0100
TZNAME:CET
DTSTART:20251026T010000
END:STANDARD
BEGIN:DAYLIGHT
TZOFFSETFROM:+0100
TZOFFSETTO:+0200
TZNAME:CEST
DTSTART:20260329T010000
END:DAYLIGHT
BEGIN:STANDARD
TZOFFSETFROM:+0200
TZOFFSETTO:+0100
TZNAME:CET
DTSTART:20261025T010000
END:STANDARD
BEGIN:DAYLIGHT
TZOFFSETFROM:+0100
TZOFFSETTO:+0200
TZNAME:CEST
DTSTART:20270328T010000
END:DAYLIGHT
BEGIN:STANDARD
TZOFFSETFROM:+0200
TZOFFSETTO:+0100
TZNAME:CET
DTSTART:20271031T010000
END:STANDARD
END:VTIMEZONE
BEGIN:VEVENT
DTSTART;TZID=Europe/Berlin:20260315T090000
DTEND;TZID=Europe/Berlin:20260315T100000
DTSTAMP:20260426T023414
CREATED:20260209T093958Z
LAST-MODIFIED:20260209T094312Z
UID:10009434-1773565200-1773568800@se-rottweil-hausen-neukirch.de
SUMMARY:Eucharistiefeier (St. Maria)
DESCRIPTION:
URL:https://se-rottweil-hausen-neukirch.de/termin/eucharistiefeier-st-maria-189/
LOCATION:St. Maria Hausen
CATEGORIES:Gottesdienst
END:VEVENT
BEGIN:VEVENT
DTSTART;TZID=Europe/Berlin:20260310T090000
DTEND;TZID=Europe/Berlin:20260310T103000
DTSTAMP:20260426T023414
CREATED:20260126T100838Z
LAST-MODIFIED:20260126T100838Z
UID:10009422-1773133200-1773138600@se-rottweil-hausen-neukirch.de
SUMMARY:Seniorenfrühstück (St. Maria)
DESCRIPTION:
URL:https://se-rottweil-hausen-neukirch.de/termin/seniorenfruehstueck-st-maria-27/
LOCATION:St. Maria Hausen
CATEGORIES:Senioren,Veranstaltung
END:VEVENT
BEGIN:VEVENT
DTSTART;TZID=Europe/Berlin:20260310T083000
DTEND;TZID=Europe/Berlin:20260310T083000
DTSTAMP:20260426T023414
CREATED:20260126T100719Z
LAST-MODIFIED:20260126T100719Z
UID:10009421-1773131400-1773131400@se-rottweil-hausen-neukirch.de
SUMMARY:Eucharistiefeier (St. Maria)
DESCRIPTION:
URL:https://se-rottweil-hausen-neukirch.de/termin/eucharistiefeier-st-maria-188/
LOCATION:St. Maria Hausen
CATEGORIES:Gottesdienst
END:VEVENT
BEGIN:VEVENT
DTSTART;TZID=Europe/Berlin:20260309T180000
DTEND;TZID=Europe/Berlin:20260309T183000
DTSTAMP:20260426T023414
CREATED:20260126T100604Z
LAST-MODIFIED:20260126T100604Z
UID:10009420-1773079200-1773081000@se-rottweil-hausen-neukirch.de
SUMMARY:Rosenkranz (St. Maria)
DESCRIPTION:
URL:https://se-rottweil-hausen-neukirch.de/termin/rosenkranz-st-maria-84/
LOCATION:St. Maria Hausen
CATEGORIES:Gottesdienst
END:VEVENT
BEGIN:VEVENT
DTSTART;TZID=Europe/Berlin:20260308T103000
DTEND;TZID=Europe/Berlin:20260308T113000
DTSTAMP:20260426T023414
CREATED:20260126T094517Z
LAST-MODIFIED:20260126T094517Z
UID:10009419-1772965800-1772969400@se-rottweil-hausen-neukirch.de
SUMMARY:Eucharistiefeier (St. Maria)
DESCRIPTION:
URL:https://se-rottweil-hausen-neukirch.de/termin/eucharistiefeier-st-maria-187/
LOCATION:St. Maria Hausen
CATEGORIES:Gottesdienst
END:VEVENT
BEGIN:VEVENT
DTSTART;TZID=Europe/Berlin:20260303T083000
DTEND;TZID=Europe/Berlin:20260303T083000
DTSTAMP:20260426T023414
CREATED:20260126T094315Z
LAST-MODIFIED:20260126T094315Z
UID:10009418-1772526600-1772526600@se-rottweil-hausen-neukirch.de
SUMMARY:Eucharistiefeier (St. Maria)
DESCRIPTION:
URL:https://se-rottweil-hausen-neukirch.de/termin/eucharistiefeier-st-maria-186/
LOCATION:St. Maria Hausen
CATEGORIES:Gottesdienst
END:VEVENT
BEGIN:VEVENT
DTSTART;TZID=Europe/Berlin:20260302T180000
DTEND;TZID=Europe/Berlin:20260302T183000
DTSTAMP:20260426T023414
CREATED:20260126T094153Z
LAST-MODIFIED:20260126T094153Z
UID:10009417-1772474400-1772476200@se-rottweil-hausen-neukirch.de
SUMMARY:Rosenkranz (St. Maria)
DESCRIPTION:
URL:https://se-rottweil-hausen-neukirch.de/termin/rosenkranz-st-maria-83/
LOCATION:St. Maria Hausen
CATEGORIES:Gottesdienst
END:VEVENT
BEGIN:VEVENT
DTSTART;TZID=Europe/Berlin:20260301T103000
DTEND;TZID=Europe/Berlin:20260301T110000
DTSTAMP:20260426T023414
CREATED:20260126T094032Z
LAST-MODIFIED:20260126T094032Z
UID:10009416-1772361000-1772362800@se-rottweil-hausen-neukirch.de
SUMMARY:Kindergottesdienst (St. Maria)
DESCRIPTION:
URL:https://se-rottweil-hausen-neukirch.de/termin/kindergottesdienst-st-maria-2/
LOCATION:St. Maria Hausen
CATEGORIES:Gottesdienst,Kinder
END:VEVENT
BEGIN:VEVENT
DTSTART;TZID=Europe/Berlin:20260301T090000
DTEND;TZID=Europe/Berlin:20260301T090000
DTSTAMP:20260426T023414
CREATED:20260126T093913Z
LAST-MODIFIED:20260126T093913Z
UID:10009415-1772355600-1772355600@se-rottweil-hausen-neukirch.de
SUMMARY:Eucharistiefeier (St. Maria)
DESCRIPTION:mit den Erstkommunionkindern
URL:https://se-rottweil-hausen-neukirch.de/termin/eucharistiefeier-st-maria-185/
LOCATION:St. Maria Hausen
CATEGORIES:Gottesdienst
END:VEVENT
BEGIN:VEVENT
DTSTART;TZID=Europe/Berlin:20260224T090000
DTEND;TZID=Europe/Berlin:20260224T093000
DTSTAMP:20260426T023414
CREATED:20260105T104919Z
LAST-MODIFIED:20260105T104919Z
UID:10009067-1771923600-1771925400@se-rottweil-hausen-neukirch.de
SUMMARY:Anbetung (St. Maria)
DESCRIPTION:
URL:https://se-rottweil-hausen-neukirch.de/termin/anbetung-st-maria-13/
LOCATION:St. Maria Hausen
CATEGORIES:Gottesdienst
END:VEVENT
BEGIN:VEVENT
DTSTART;TZID=Europe/Berlin:20260224T083000
DTEND;TZID=Europe/Berlin:20260224T090000
DTSTAMP:20260426T023414
CREATED:20260105T104801Z
LAST-MODIFIED:20260105T104801Z
UID:10009066-1771921800-1771923600@se-rottweil-hausen-neukirch.de
SUMMARY:Eucharistiefeier (St. Maria)
DESCRIPTION:
URL:https://se-rottweil-hausen-neukirch.de/termin/eucharistiefeier-st-maria-184/
LOCATION:St. Maria Hausen
CATEGORIES:Gottesdienst
END:VEVENT
BEGIN:VEVENT
DTSTART;TZID=Europe/Berlin:20260223T180000
DTEND;TZID=Europe/Berlin:20260223T183000
DTSTAMP:20260426T023414
CREATED:20260105T104629Z
LAST-MODIFIED:20260105T104629Z
UID:10009065-1771869600-1771871400@se-rottweil-hausen-neukirch.de
SUMMARY:Rosenkranz (St. Maria)
DESCRIPTION:
URL:https://se-rottweil-hausen-neukirch.de/termin/rosenkranz-st-maria-82/
LOCATION:St. Maria Hausen
CATEGORIES:Gottesdienst
END:VEVENT
BEGIN:VEVENT
DTSTART;TZID=Europe/Berlin:20260222T103000
DTEND;TZID=Europe/Berlin:20260222T113000
DTSTAMP:20260426T023414
CREATED:20260105T104500Z
LAST-MODIFIED:20260105T104500Z
UID:10009064-1771756200-1771759800@se-rottweil-hausen-neukirch.de
SUMMARY:Familiengottesdienst (St. Maria)
DESCRIPTION:
URL:https://se-rottweil-hausen-neukirch.de/termin/familiengottesdienst-st-maria-16/
LOCATION:St. Maria Hausen
CATEGORIES:Familien,Gottesdienst
END:VEVENT
BEGIN:VEVENT
DTSTART;TZID=Europe/Berlin:20260218T190000
DTEND;TZID=Europe/Berlin:20260218T193000
DTSTAMP:20260426T023414
CREATED:20260105T104236Z
LAST-MODIFIED:20260105T104236Z
UID:10009063-1771441200-1771443000@se-rottweil-hausen-neukirch.de
SUMMARY:Eucharistiefeier mit Aschenbestreuung (St. Maria)
DESCRIPTION:
URL:https://se-rottweil-hausen-neukirch.de/termin/eucharistiefeier-mit-aschenbestreuung-st-maria/
LOCATION:St. Maria Hausen
CATEGORIES:Gottesdienst
END:VEVENT
BEGIN:VEVENT
DTSTART;TZID=Europe/Berlin:20260215T090000
DTEND;TZID=Europe/Berlin:20260215T100000
DTSTAMP:20260426T023414
CREATED:20260105T104036Z
LAST-MODIFIED:20260105T104036Z
UID:10009062-1771146000-1771149600@se-rottweil-hausen-neukirch.de
SUMMARY:Eucharistiefeier (St. Maria)
DESCRIPTION:
URL:https://se-rottweil-hausen-neukirch.de/termin/eucharistiefeier-st-maria-183/
LOCATION:St. Maria Hausen
CATEGORIES:Gottesdienst
END:VEVENT
BEGIN:VEVENT
DTSTART;TZID=Europe/Berlin:20260210T090000
DTEND;TZID=Europe/Berlin:20260210T103000
DTSTAMP:20260426T023414
CREATED:20260105T103841Z
LAST-MODIFIED:20260105T103841Z
UID:10009061-1770714000-1770719400@se-rottweil-hausen-neukirch.de
SUMMARY:Seniorenfrühstück (St. Maria)
DESCRIPTION:
URL:https://se-rottweil-hausen-neukirch.de/termin/seniorenfruehstueck-st-maria-26/
LOCATION:St. Maria Hausen
CATEGORIES:Veranstaltung
END:VEVENT
BEGIN:VEVENT
DTSTART;TZID=Europe/Berlin:20260210T083000
DTEND;TZID=Europe/Berlin:20260210T090000
DTSTAMP:20260426T023414
CREATED:20260105T103716Z
LAST-MODIFIED:20260105T103716Z
UID:10009060-1770712200-1770714000@se-rottweil-hausen-neukirch.de
SUMMARY:Eucharistiefeier (St. Maria)
DESCRIPTION:
URL:https://se-rottweil-hausen-neukirch.de/termin/eucharistiefeier-st-maria-182/
LOCATION:St. Maria Hausen
CATEGORIES:Gottesdienst
END:VEVENT
BEGIN:VEVENT
DTSTART;TZID=Europe/Berlin:20260209T180000
DTEND;TZID=Europe/Berlin:20260209T183000
DTSTAMP:20260426T023414
CREATED:20260105T103544Z
LAST-MODIFIED:20260105T103544Z
UID:10009059-1770660000-1770661800@se-rottweil-hausen-neukirch.de
SUMMARY:Rosenkranz (St. Maria)
DESCRIPTION:
URL:https://se-rottweil-hausen-neukirch.de/termin/rosenkranz-st-maria-81/
LOCATION:St. Maria Hausen
CATEGORIES:Gottesdienst
END:VEVENT
BEGIN:VEVENT
DTSTART;TZID=Europe/Berlin:20260208T103000
DTEND;TZID=Europe/Berlin:20260208T113000
DTSTAMP:20260426T023414
CREATED:20260105T103422Z
LAST-MODIFIED:20260105T103422Z
UID:10009058-1770546600-1770550200@se-rottweil-hausen-neukirch.de
SUMMARY:Eucharistiefeier (St. Maria)
DESCRIPTION:
URL:https://se-rottweil-hausen-neukirch.de/termin/eucharistiefeier-st-maria-181/
LOCATION:St. Maria Hausen
CATEGORIES:Gottesdienst
END:VEVENT
BEGIN:VEVENT
DTSTART;TZID=Europe/Berlin:20260203T083000
DTEND;TZID=Europe/Berlin:20260203T090000
DTSTAMP:20260426T023414
CREATED:20260105T102405Z
LAST-MODIFIED:20260105T102405Z
UID:10009056-1770107400-1770109200@se-rottweil-hausen-neukirch.de
SUMMARY:Eucharistiefeier (St. Maria)
DESCRIPTION:
URL:https://se-rottweil-hausen-neukirch.de/termin/eucharistiefeier-st-maria-180/
LOCATION:St. Maria Hausen
CATEGORIES:Gottesdienst
END:VEVENT
BEGIN:VEVENT
DTSTART;TZID=Europe/Berlin:20260202T180000
DTEND;TZID=Europe/Berlin:20260202T183000
DTSTAMP:20260426T023414
CREATED:20260105T101202Z
LAST-MODIFIED:20260105T101843Z
UID:10009055-1770055200-1770057000@se-rottweil-hausen-neukirch.de
SUMMARY:Rosenkranz (St. Maria)
DESCRIPTION:
URL:https://se-rottweil-hausen-neukirch.de/termin/rosenkranz-st-maria-80/
LOCATION:St. Maria Hausen
CATEGORIES:Gottesdienst
END:VEVENT
BEGIN:VEVENT
DTSTART;TZID=Europe/Berlin:20260201T103000
DTEND;TZID=Europe/Berlin:20260201T110000
DTSTAMP:20260426T023414
CREATED:20260126T093625Z
LAST-MODIFIED:20260126T093625Z
UID:10009414-1769941800-1769943600@se-rottweil-hausen-neukirch.de
SUMMARY:Kindergottesdienst (St. Maria)
DESCRIPTION:
URL:https://se-rottweil-hausen-neukirch.de/termin/kindergottesdienst-st-maria/
LOCATION:St. Maria Hausen
CATEGORIES:Gottesdienst,Kinder
END:VEVENT
BEGIN:VEVENT
DTSTART;TZID=Europe/Berlin:20260201T090000
DTEND;TZID=Europe/Berlin:20260201T100000
DTSTAMP:20260426T023414
CREATED:20260105T100755Z
LAST-MODIFIED:20260105T100755Z
UID:10009054-1769936400-1769940000@se-rottweil-hausen-neukirch.de
SUMMARY:Eucharistiefeier (St.Maria)
DESCRIPTION:mit Blasiussegen\, Kerzenweihe und den Erstkommunionkindern
URL:https://se-rottweil-hausen-neukirch.de/termin/eucharistiefeier-st-maria-179/
LOCATION:St. Maria Hausen
CATEGORIES:Gottesdienst
END:VEVENT
BEGIN:VEVENT
DTSTART;TZID=Europe/Berlin:20260127T090000
DTEND;TZID=Europe/Berlin:20260127T093000
DTSTAMP:20260426T023414
CREATED:20251201T104227Z
LAST-MODIFIED:20251201T104227Z
UID:10008491-1769504400-1769506200@se-rottweil-hausen-neukirch.de
SUMMARY:Anbetung (St. Maria)
DESCRIPTION:
URL:https://se-rottweil-hausen-neukirch.de/termin/anbetung-st-maria-12/
LOCATION:St. Maria Hausen
CATEGORIES:Gottesdienst
END:VEVENT
BEGIN:VEVENT
DTSTART;TZID=Europe/Berlin:20260127T083000
DTEND;TZID=Europe/Berlin:20260127T090000
DTSTAMP:20260426T023414
CREATED:20251201T103852Z
LAST-MODIFIED:20251201T103852Z
UID:10008489-1769502600-1769504400@se-rottweil-hausen-neukirch.de
SUMMARY:Eucharistiefeier (St. Maria)
DESCRIPTION:
URL:https://se-rottweil-hausen-neukirch.de/termin/eucharistiefeier-st-maria-176/
LOCATION:St. Maria Hausen
CATEGORIES:Gottesdienst
END:VEVENT
BEGIN:VEVENT
DTSTART;TZID=Europe/Berlin:20260126T180000
DTEND;TZID=Europe/Berlin:20260126T183000
DTSTAMP:20260426T023414
CREATED:20251201T103234Z
LAST-MODIFIED:20251201T103234Z
UID:10008486-1769450400-1769452200@se-rottweil-hausen-neukirch.de
SUMMARY:Rosenkranz (St. Maria)
DESCRIPTION:
URL:https://se-rottweil-hausen-neukirch.de/termin/rosenkranz-st-maria-79/
LOCATION:St. Maria Hausen
CATEGORIES:Gottesdienst
END:VEVENT
BEGIN:VEVENT
DTSTART;TZID=Europe/Berlin:20260125T103000
DTEND;TZID=Europe/Berlin:20260125T113000
DTSTAMP:20260426T023414
CREATED:20251201T104831Z
LAST-MODIFIED:20251222T100704Z
UID:10008494-1769337000-1769340600@se-rottweil-hausen-neukirch.de
SUMMARY:Eucharistiefeier (St. Maria)
DESCRIPTION:
URL:https://se-rottweil-hausen-neukirch.de/termin/eucharistiefeier-st-maria-178/
LOCATION:St. Maria Hausen
CATEGORIES:Gottesdienst
END:VEVENT
BEGIN:VEVENT
DTSTART;TZID=Europe/Berlin:20260120T193000
DTEND;TZID=Europe/Berlin:20260120T213000
DTSTAMP:20260426T023414
CREATED:20260105T102609Z
LAST-MODIFIED:20260105T103146Z
UID:10009057-1768937400-1768944600@se-rottweil-hausen-neukirch.de
SUMMARY:KGR -Sitzung (St. Maria)
DESCRIPTION:
URL:https://se-rottweil-hausen-neukirch.de/termin/kgr-sitzung-st-maria-16/
LOCATION:St. Maria Hausen
END:VEVENT
BEGIN:VEVENT
DTSTART;TZID=Europe/Berlin:20260120T083000
DTEND;TZID=Europe/Berlin:20260120T090000
DTSTAMP:20260426T023414
CREATED:20251201T103701Z
LAST-MODIFIED:20251201T103701Z
UID:10008488-1768897800-1768899600@se-rottweil-hausen-neukirch.de
SUMMARY:Eucharistiefeier (St. Maria)
DESCRIPTION:
URL:https://se-rottweil-hausen-neukirch.de/termin/eucharistiefeier-st-maria-175/
LOCATION:St. Maria Hausen
CATEGORIES:Gottesdienst
END:VEVENT
BEGIN:VEVENT
DTSTART;TZID=Europe/Berlin:20260119T180000
DTEND;TZID=Europe/Berlin:20260119T183000
DTSTAMP:20260426T023414
CREATED:20251201T103124Z
LAST-MODIFIED:20251201T103124Z
UID:10008485-1768845600-1768847400@se-rottweil-hausen-neukirch.de
SUMMARY:Rosenkranz (St. Maria)
DESCRIPTION:
URL:https://se-rottweil-hausen-neukirch.de/termin/rosenkranz-st-maria-78/
LOCATION:St. Maria Hausen
CATEGORIES:Gottesdienst
END:VEVENT
END:VCALENDAR