BEGIN:VCALENDAR
VERSION:2.0
PRODID:-//Seelsorgeeinheit Rottweil-Hausen-Neukirch - ECPv6.15.11//NONSGML v1.0//EN
CALSCALE:GREGORIAN
METHOD:PUBLISH
X-ORIGINAL-URL:https://se-rottweil-hausen-neukirch.de
X-WR-CALDESC:Veranstaltungen für Seelsorgeeinheit Rottweil-Hausen-Neukirch
REFRESH-INTERVAL;VALUE=DURATION:PT1H
X-Robots-Tag:noindex
X-PUBLISHED-TTL:PT1H
BEGIN:VTIMEZONE
TZID:Europe/Berlin
BEGIN:DAYLIGHT
TZOFFSETFROM:+0100
TZOFFSETTO:+0200
TZNAME:CEST
DTSTART:20240331T010000
END:DAYLIGHT
BEGIN:STANDARD
TZOFFSETFROM:+0200
TZOFFSETTO:+0100
TZNAME:CET
DTSTART:20241027T010000
END:STANDARD
BEGIN:DAYLIGHT
TZOFFSETFROM:+0100
TZOFFSETTO:+0200
TZNAME:CEST
DTSTART:20250330T010000
END:DAYLIGHT
BEGIN:STANDARD
TZOFFSETFROM:+0200
TZOFFSETTO:+0100
TZNAME:CET
DTSTART:20251026T010000
END:STANDARD
BEGIN:DAYLIGHT
TZOFFSETFROM:+0100
TZOFFSETTO:+0200
TZNAME:CEST
DTSTART:20260329T010000
END:DAYLIGHT
BEGIN:STANDARD
TZOFFSETFROM:+0200
TZOFFSETTO:+0100
TZNAME:CET
DTSTART:20261025T010000
END:STANDARD
BEGIN:DAYLIGHT
TZOFFSETFROM:+0100
TZOFFSETTO:+0200
TZNAME:CEST
DTSTART:20270328T010000
END:DAYLIGHT
BEGIN:STANDARD
TZOFFSETFROM:+0200
TZOFFSETTO:+0100
TZNAME:CET
DTSTART:20271031T010000
END:STANDARD
END:VTIMEZONE
BEGIN:VEVENT
DTSTART;TZID=Europe/Berlin:20260106T090000
DTEND;TZID=Europe/Berlin:20260106T100000
DTSTAMP:20260426T055648
CREATED:20251201T101731Z
LAST-MODIFIED:20251208T121654Z
UID:10008482-1767690000-1767693600@se-rottweil-hausen-neukirch.de
SUMMARY:Eucharistiefeier (St. Maria)
DESCRIPTION:Mit Einzug der Sternsinger in die Kirche \nund Segnung von Salz\, Wasser und Kreide
URL:https://se-rottweil-hausen-neukirch.de/termin/eucharistiefeier-st-maria-173/
LOCATION:St. Maria Hausen
CATEGORIES:Gottesdienst
END:VEVENT
BEGIN:VEVENT
DTSTART;TZID=Europe/Berlin:20260104T103000
DTEND;TZID=Europe/Berlin:20260104T113000
DTSTAMP:20260426T055648
CREATED:20251201T101550Z
LAST-MODIFIED:20251211T192057Z
UID:10008481-1767522600-1767526200@se-rottweil-hausen-neukirch.de
SUMMARY:Eucharistiefeier (St. Maria)
DESCRIPTION:
URL:https://se-rottweil-hausen-neukirch.de/termin/eucharistiefeier-st-maria-172/
LOCATION:St. Maria Hausen
CATEGORIES:Gottesdienst
END:VEVENT
BEGIN:VEVENT
DTSTART;TZID=Europe/Berlin:20260103T093000
DTEND;TZID=Europe/Berlin:20260103T100000
DTSTAMP:20260426T055648
CREATED:20251211T192315Z
LAST-MODIFIED:20251211T192315Z
UID:10008724-1767432600-1767434400@se-rottweil-hausen-neukirch.de
SUMMARY:Aussendungsfeier (St. Maria)
DESCRIPTION:Die Sternsinger sind wieder unterwegs! \nAuch im Jahr 2026 laufen die Sternsinger wieder von Haus zu Haus. \nAm 03.01. wird um 9:30 Uhr eine kleine Aussendungsfeier in der Kirche St. Maria stattfinden. Anschließend werden die Könige am 03.01. und 04.01. in Hausen den Segen zu Ihnen nach Hause bringen. \nFalls Sie die Sternsinger verpassen\, haben Sie die Möglichkeit sich bei uns zu melden und einen neuen Termin zu vereinbaren. Scheuen Sie sich nicht anzurufen\, die Sternsinger freuen sich\, wenn Sie nochmals kommen dürfen. \nMelden Sie sich hierfür bei Christoph Endres: +49 160 8400923 \nAußerdem können Sie in der Kirche ab dem 06.01.2026 den Segen durch Aufkleber mitnehmen\, die Sie an ihrer Haustür befestigen können.
URL:https://se-rottweil-hausen-neukirch.de/termin/aussendungsfeier-st-maria/
LOCATION:St. Maria Hausen
CATEGORIES:Gottesdienst
END:VEVENT
BEGIN:VEVENT
DTSTART;TZID=Europe/Berlin:20251225T103000
DTEND;TZID=Europe/Berlin:20251225T113000
DTSTAMP:20260426T055648
CREATED:20251006T090656Z
LAST-MODIFIED:20251006T090656Z
UID:10008440-1766658600-1766662200@se-rottweil-hausen-neukirch.de
SUMMARY:Eucharistiefeier (St. Maria)
DESCRIPTION:In der Eucharistiefeier singt der Kirchenchor
URL:https://se-rottweil-hausen-neukirch.de/termin/eucharistiefeier-st-maria-170/
LOCATION:St. Maria Hausen
CATEGORIES:Gottesdienst
END:VEVENT
BEGIN:VEVENT
DTSTART;TZID=Europe/Berlin:20251224T180000
DTEND;TZID=Europe/Berlin:20251224T190000
DTSTAMP:20260426T055648
CREATED:20251006T090322Z
LAST-MODIFIED:20251006T090322Z
UID:10008439-1766599200-1766602800@se-rottweil-hausen-neukirch.de
SUMMARY:Familien- und Gemeindegottesdienst (St. Maria)
DESCRIPTION:
URL:https://se-rottweil-hausen-neukirch.de/termin/familien-und-gemeindegottesdienst-st-maria-3/
LOCATION:St. Maria Hausen
CATEGORIES:Gottesdienst
END:VEVENT
BEGIN:VEVENT
DTSTART;TZID=Europe/Berlin:20251224T174500
DTEND;TZID=Europe/Berlin:20251224T180000
DTSTAMP:20260426T055648
CREATED:20251201T101345Z
LAST-MODIFIED:20251201T101345Z
UID:10008480-1766598300-1766599200@se-rottweil-hausen-neukirch.de
SUMMARY:Musikkalische Einstimmung (St. Maria)
DESCRIPTION:17.45 Uhr musikkalische Einstimmung für den Hl. Abend
URL:https://se-rottweil-hausen-neukirch.de/termin/musikkalische-einstimmung-st-maria/
LOCATION:St. Maria Hausen
CATEGORIES:Gottesdienst
END:VEVENT
BEGIN:VEVENT
DTSTART;TZID=Europe/Berlin:20251224T160000
DTEND;TZID=Europe/Berlin:20251224T164500
DTSTAMP:20260426T055648
CREATED:20251006T090113Z
LAST-MODIFIED:20251215T124258Z
UID:10008438-1766592000-1766594700@se-rottweil-hausen-neukirch.de
SUMMARY:Kindergottesdienst (St. Maria)
DESCRIPTION:
URL:https://se-rottweil-hausen-neukirch.de/termin/kleinkindergottesdienst-st-maria-16/
LOCATION:St. Maria Hausen
CATEGORIES:Familien,Kinder
END:VEVENT
BEGIN:VEVENT
DTSTART;TZID=Europe/Berlin:20251221T103000
DTEND;TZID=Europe/Berlin:20251221T113000
DTSTAMP:20260426T055648
CREATED:20250929T093309Z
LAST-MODIFIED:20250929T093309Z
UID:10007906-1766313000-1766316600@se-rottweil-hausen-neukirch.de
SUMMARY:Eucharistiefeier (St. Maria)
DESCRIPTION:
URL:https://se-rottweil-hausen-neukirch.de/termin/eucharistiefeier-st-maria-169/
LOCATION:St. Maria Hausen
CATEGORIES:Gottesdienst
END:VEVENT
BEGIN:VEVENT
DTSTART;TZID=Europe/Berlin:20251216T063000
DTEND;TZID=Europe/Berlin:20251216T070000
DTSTAMP:20260426T055648
CREATED:20250929T092939Z
LAST-MODIFIED:20250929T093107Z
UID:10007905-1765866600-1765868400@se-rottweil-hausen-neukirch.de
SUMMARY:Eucharistiefeier (St. Maria) Rorate
DESCRIPTION:Anschließend laden wir sie herzlich zum gemeinsamen Frühstück ins Gemeindehaus ein. \nBronnenkohlweg 4
URL:https://se-rottweil-hausen-neukirch.de/termin/eucharistiefeier-st-maria-rorate-2/
LOCATION:St. Maria Hausen
CATEGORIES:Gottesdienst
END:VEVENT
BEGIN:VEVENT
DTSTART;TZID=Europe/Berlin:20251215T180000
DTEND;TZID=Europe/Berlin:20251215T183000
DTSTAMP:20260426T055648
CREATED:20250929T092628Z
LAST-MODIFIED:20250929T092628Z
UID:10007904-1765821600-1765823400@se-rottweil-hausen-neukirch.de
SUMMARY:Rosenkranz (St. Maria)
DESCRIPTION:
URL:https://se-rottweil-hausen-neukirch.de/termin/rosenkranz-st-maria-75/
LOCATION:St. Maria Hausen
CATEGORIES:Gottesdienst
END:VEVENT
BEGIN:VEVENT
DTSTART;TZID=Europe/Berlin:20251214T090000
DTEND;TZID=Europe/Berlin:20251214T100000
DTSTAMP:20260426T055648
CREATED:20250908T085049Z
LAST-MODIFIED:20250908T085049Z
UID:10007877-1765702800-1765706400@se-rottweil-hausen-neukirch.de
SUMMARY:Eucharistiefeier (St. Maria) 3. Advent
DESCRIPTION:
URL:https://se-rottweil-hausen-neukirch.de/termin/eucharistiefeier-st-maria-3-advent/
LOCATION:St. Maria Hausen
CATEGORIES:Gottesdienst
END:VEVENT
BEGIN:VEVENT
DTSTART;TZID=Europe/Berlin:20251209T063000
DTEND;TZID=Europe/Berlin:20251209T070000
DTSTAMP:20260426T055648
CREATED:20250908T084740Z
LAST-MODIFIED:20250908T084841Z
UID:10007876-1765261800-1765263600@se-rottweil-hausen-neukirch.de
SUMMARY:Eucharistiefeier (St. Maria) Rorate
DESCRIPTION:Anschl. gemeinsames Frühstück im Gemeindehaus\, Bronnenkohlweg 4. \nDazu sind alle herzlichst eingeladen.
URL:https://se-rottweil-hausen-neukirch.de/termin/eucharistiefeier-st-maria-rorate/
LOCATION:St. Maria Hausen
CATEGORIES:Gottesdienst
END:VEVENT
BEGIN:VEVENT
DTSTART;TZID=Europe/Berlin:20251208T193000
DTEND;TZID=Europe/Berlin:20251208T194000
DTSTAMP:20260426T055648
CREATED:20251124T105034Z
LAST-MODIFIED:20251124T105034Z
UID:10008478-1765222200-1765222800@se-rottweil-hausen-neukirch.de
SUMMARY:Ökumenisches Hausgebet (St. Maria)
DESCRIPTION:  \nAm Montag\, den 08. Dezember läuten die Glocken um 19.30 Uhr zum ökumenischen Hausgebet im Advent. \nFeiern und beten Sie doch mit. \nDie dazugehörigen Texte liegen in der Kirche am Schriftenstand aus. \n  \n 
URL:https://se-rottweil-hausen-neukirch.de/termin/oekumenisches-hausgebet-st-maria/
LOCATION:St. Maria Hausen
CATEGORIES:Veranstaltung
END:VEVENT
BEGIN:VEVENT
DTSTART;TZID=Europe/Berlin:20251208T180000
DTEND;TZID=Europe/Berlin:20251208T183000
DTSTAMP:20260426T055648
CREATED:20251124T105346Z
LAST-MODIFIED:20251124T105346Z
UID:10008479-1765216800-1765218600@se-rottweil-hausen-neukirch.de
SUMMARY:Rosenkranz (St. Maria)
DESCRIPTION:
URL:https://se-rottweil-hausen-neukirch.de/termin/rosenkranz-st-maria-76/
LOCATION:St. Maria Hausen
CATEGORIES:Gottesdienst
END:VEVENT
BEGIN:VEVENT
DTSTART;TZID=Europe/Berlin:20251207T103000
DTEND;TZID=Europe/Berlin:20251207T113000
DTSTAMP:20260426T055648
CREATED:20250908T084435Z
LAST-MODIFIED:20251006T085638Z
UID:10007874-1765103400-1765107000@se-rottweil-hausen-neukirch.de
SUMMARY:Eucharistiefeier (St. Maria) 2. Advent
DESCRIPTION:Die Eucharistiefeier wird vom Kirchenchor mitgestaltet.
URL:https://se-rottweil-hausen-neukirch.de/termin/eucharistiefeier-st-maria-2-advent/
LOCATION:St. Maria Hausen
CATEGORIES:Gottesdienst
END:VEVENT
BEGIN:VEVENT
DTSTART;TZID=Europe/Berlin:20251202T063000
DTEND;TZID=Europe/Berlin:20251202T070000
DTSTAMP:20260426T055648
CREATED:20250908T083359Z
LAST-MODIFIED:20250908T084224Z
UID:10007873-1764657000-1764658800@se-rottweil-hausen-neukirch.de
SUMMARY:Eucharistiefeier (St. Maria) Rorate
DESCRIPTION:Anschl. gemeinsames Frühstück im Gemeindehaus\, Bronnenkohlweg 4. \nDazu sind alle herzlichst eingeladen.
URL:https://se-rottweil-hausen-neukirch.de/termin/eucharistiefeier-st-maria-168/
LOCATION:St. Maria Hausen
CATEGORIES:Gottesdienst
END:VEVENT
BEGIN:VEVENT
DTSTART;TZID=Europe/Berlin:20251201T180000
DTEND;TZID=Europe/Berlin:20251201T183000
DTSTAMP:20260426T055648
CREATED:20250908T083228Z
LAST-MODIFIED:20250908T083228Z
UID:10007872-1764612000-1764613800@se-rottweil-hausen-neukirch.de
SUMMARY:Rosenkranz (St. Maria)
DESCRIPTION:
URL:https://se-rottweil-hausen-neukirch.de/termin/rosenkranz-st-maria-73/
LOCATION:St. Maria Hausen
CATEGORIES:Gottesdienst
END:VEVENT
BEGIN:VEVENT
DTSTART;TZID=Europe/Berlin:20251130T090000
DTEND;TZID=Europe/Berlin:20251130T100000
DTSTAMP:20260426T055648
CREATED:20250825T100421Z
LAST-MODIFIED:20250908T082436Z
UID:10007858-1764493200-1764496800@se-rottweil-hausen-neukirch.de
SUMMARY:Eucharistiefeier (St. Maria) 1. Advent
DESCRIPTION:Nach dem Gottesdienst werden die Adventskränze gesegnet.
URL:https://se-rottweil-hausen-neukirch.de/termin/eucharistiefeier-st-maria-155/
LOCATION:St. Maria Hausen
CATEGORIES:Gottesdienst
END:VEVENT
BEGIN:VEVENT
DTSTART;TZID=Europe/Berlin:20251125T090000
DTEND;TZID=Europe/Berlin:20251125T093000
DTSTAMP:20260426T055648
CREATED:20250825T100138Z
LAST-MODIFIED:20250825T100138Z
UID:10007857-1764061200-1764063000@se-rottweil-hausen-neukirch.de
SUMMARY:Anbetung (St. Maria)
DESCRIPTION:Im Anschluss an die Eucharistiefeier findet um 9.00 Uhr die Anbetung statt.
URL:https://se-rottweil-hausen-neukirch.de/termin/anbetung-st-maria-11/
LOCATION:St. Maria Hausen
CATEGORIES:Gottesdienst
END:VEVENT
BEGIN:VEVENT
DTSTART;TZID=Europe/Berlin:20251125T083000
DTEND;TZID=Europe/Berlin:20251125T090000
DTSTAMP:20260426T055648
CREATED:20250901T112628Z
LAST-MODIFIED:20250901T112628Z
UID:10007870-1764059400-1764061200@se-rottweil-hausen-neukirch.de
SUMMARY:Eucharistiefeier (St. Maria)
DESCRIPTION:
URL:https://se-rottweil-hausen-neukirch.de/termin/eucharistiefeier-st-maria-167/
LOCATION:St. Maria Hausen
CATEGORIES:Gottesdienst
END:VEVENT
BEGIN:VEVENT
DTSTART;TZID=Europe/Berlin:20251124T180000
DTEND;TZID=Europe/Berlin:20251124T183000
DTSTAMP:20260426T055648
CREATED:20250825T095936Z
LAST-MODIFIED:20250825T095936Z
UID:10007856-1764007200-1764009000@se-rottweil-hausen-neukirch.de
SUMMARY:Rosenkranz (St. Maria)
DESCRIPTION:
URL:https://se-rottweil-hausen-neukirch.de/termin/rosenkranz-st-maria-72/
LOCATION:St. Maria Hausen
CATEGORIES:Gottesdienst
END:VEVENT
BEGIN:VEVENT
DTSTART;TZID=Europe/Berlin:20251123T103000
DTEND;TZID=Europe/Berlin:20251123T113000
DTSTAMP:20260426T055648
CREATED:20250825T095716Z
LAST-MODIFIED:20251110T101800Z
UID:10007855-1763893800-1763897400@se-rottweil-hausen-neukirch.de
SUMMARY:Eucharistiefeier/Jugendgottesdienst (St. Maria) Christkönigssonntag
DESCRIPTION:
URL:https://se-rottweil-hausen-neukirch.de/termin/eucharistiefeier-st-maria-154/
LOCATION:St. Maria Hausen
CATEGORIES:Gottesdienst,Jugendliche
END:VEVENT
BEGIN:VEVENT
DTSTART;TZID=Europe/Berlin:20251119T083000
DTEND;TZID=Europe/Berlin:20251119T090000
DTSTAMP:20260426T055648
CREATED:20251117T081747Z
LAST-MODIFIED:20251117T081747Z
UID:10008463-1763541000-1763542800@se-rottweil-hausen-neukirch.de
SUMMARY:Eucharistiefeier (St. Maria)
DESCRIPTION:
URL:https://se-rottweil-hausen-neukirch.de/termin/eucharistiefeier-st-maria-171/
LOCATION:St. Maria Hausen
CATEGORIES:Gottesdienst
END:VEVENT
BEGIN:VEVENT
DTSTART;TZID=Europe/Berlin:20251118T083000
DTEND;TZID=Europe/Berlin:20251118T090000
DTSTAMP:20260426T055648
CREATED:20250901T112525Z
LAST-MODIFIED:20250901T112525Z
UID:10007869-1763454600-1763456400@se-rottweil-hausen-neukirch.de
SUMMARY:Eucharistiefeier (St. Maria)
DESCRIPTION:
URL:https://se-rottweil-hausen-neukirch.de/termin/eucharistiefeier-st-maria-166/
LOCATION:St. Maria Hausen
CATEGORIES:Gottesdienst
END:VEVENT
BEGIN:VEVENT
DTSTART;TZID=Europe/Berlin:20251116T103000
DTEND;TZID=Europe/Berlin:20251116T113000
DTSTAMP:20260426T055648
CREATED:20251110T101420Z
LAST-MODIFIED:20251110T101420Z
UID:10007907-1763289000-1763292600@se-rottweil-hausen-neukirch.de
SUMMARY:Kleinkindergottesdienst (St. Maria)
DESCRIPTION:Thema „Das Bilderbuch SWIMMY“
URL:https://se-rottweil-hausen-neukirch.de/termin/kleinkindergottesdienst-st-maria-17/
LOCATION:St. Maria Hausen
CATEGORIES:Gottesdienst,Kinder
END:VEVENT
BEGIN:VEVENT
DTSTART;TZID=Europe/Berlin:20251116T090000
DTEND;TZID=Europe/Berlin:20251116T100000
DTSTAMP:20260426T055648
CREATED:20250818T111132Z
LAST-MODIFIED:20251110T101153Z
UID:10007852-1763283600-1763287200@se-rottweil-hausen-neukirch.de
SUMMARY:Eucharistiefeier (St. Maria)
DESCRIPTION:Mit Vorstellung der Erstkommunionkinder
URL:https://se-rottweil-hausen-neukirch.de/termin/eucharistiefeier-st-maria-152/
LOCATION:St. Maria Hausen
CATEGORIES:Gottesdienst
END:VEVENT
BEGIN:VEVENT
DTSTART;TZID=Europe/Berlin:20251111T090000
DTEND;TZID=Europe/Berlin:20251111T113000
DTSTAMP:20260426T055648
CREATED:20250818T111000Z
LAST-MODIFIED:20250818T111000Z
UID:10007851-1762851600-1762860600@se-rottweil-hausen-neukirch.de
SUMMARY:Seniorenfrühstück (St. Maria)
DESCRIPTION:Nach dem Gottesdienst laden wir alle recht herzlich zum Seniorenfrühstück ein. \nGemeindehaus\, Bronnenkohlweg 4
URL:https://se-rottweil-hausen-neukirch.de/termin/seniorenfruehstueck-st-maria-24/
LOCATION:St. Maria Hausen
CATEGORIES:Senioren,Veranstaltung
END:VEVENT
BEGIN:VEVENT
DTSTART;TZID=Europe/Berlin:20251111T083000
DTEND;TZID=Europe/Berlin:20251111T090000
DTSTAMP:20260426T055648
CREATED:20250901T112416Z
LAST-MODIFIED:20250901T112416Z
UID:10007868-1762849800-1762851600@se-rottweil-hausen-neukirch.de
SUMMARY:Eucharistiefeier (St. Maria)
DESCRIPTION:
URL:https://se-rottweil-hausen-neukirch.de/termin/eucharistiefeier-st-maria-165/
LOCATION:St. Maria Hausen
CATEGORIES:Gottesdienst
END:VEVENT
BEGIN:VEVENT
DTSTART;TZID=Europe/Berlin:20251110T180000
DTEND;TZID=Europe/Berlin:20251110T183000
DTSTAMP:20260426T055648
CREATED:20250818T110759Z
LAST-MODIFIED:20250818T110759Z
UID:10007850-1762797600-1762799400@se-rottweil-hausen-neukirch.de
SUMMARY:Rosenkranz (St. Maria)
DESCRIPTION:
URL:https://se-rottweil-hausen-neukirch.de/termin/rosenkranz-st-maria-71/
LOCATION:St. Maria Hausen
CATEGORIES:Gottesdienst
END:VEVENT
BEGIN:VEVENT
DTSTART;TZID=Europe/Berlin:20251109T103000
DTEND;TZID=Europe/Berlin:20251109T113000
DTSTAMP:20260426T055648
CREATED:20250818T110650Z
LAST-MODIFIED:20250818T110650Z
UID:10007849-1762684200-1762687800@se-rottweil-hausen-neukirch.de
SUMMARY:Eucharistiefeier (St. Maria)
DESCRIPTION:
URL:https://se-rottweil-hausen-neukirch.de/termin/eucharistiefeier-st-maria-151/
LOCATION:St. Maria Hausen
END:VEVENT
END:VCALENDAR